BEGIN:VCALENDAR
VERSION:2.0
PRODID:-//Jacksonville Community Center-Programs, Small Wedding Site and Meeting Room Rental - ECPv6.15.20//NONSGML v1.0//EN
CALSCALE:GREGORIAN
METHOD:PUBLISH
X-ORIGINAL-URL:https://jacksonvillecommunitycenter.org
X-WR-CALDESC:Events for Jacksonville Community Center-Programs, Small Wedding Site and Meeting Room Rental
REFRESH-INTERVAL;VALUE=DURATION:PT1H
X-Robots-Tag:noindex
X-PUBLISHED-TTL:PT1H
BEGIN:VTIMEZONE
TZID:America/Los_Angeles
BEGIN:DAYLIGHT
TZOFFSETFROM:-0800
TZOFFSETTO:-0700
TZNAME:PDT
DTSTART:20250309T100000
END:DAYLIGHT
BEGIN:STANDARD
TZOFFSETFROM:-0700
TZOFFSETTO:-0800
TZNAME:PST
DTSTART:20251102T090000
END:STANDARD
BEGIN:DAYLIGHT
TZOFFSETFROM:-0800
TZOFFSETTO:-0700
TZNAME:PDT
DTSTART:20260308T100000
END:DAYLIGHT
BEGIN:STANDARD
TZOFFSETFROM:-0700
TZOFFSETTO:-0800
TZNAME:PST
DTSTART:20261101T090000
END:STANDARD
BEGIN:DAYLIGHT
TZOFFSETFROM:-0800
TZOFFSETTO:-0700
TZNAME:PDT
DTSTART:20270314T100000
END:DAYLIGHT
BEGIN:STANDARD
TZOFFSETFROM:-0700
TZOFFSETTO:-0800
TZNAME:PST
DTSTART:20271107T090000
END:STANDARD
END:VTIMEZONE
BEGIN:VEVENT
DTSTART;TZID=America/Los_Angeles:20260302T081500
DTEND;TZID=America/Los_Angeles:20260302T091500
DTSTAMP:20260422T005548
CREATED:20260226T191854Z
LAST-MODIFIED:20260226T191854Z
UID:10002929-1772439300-1772442900@jacksonvillecommunitycenter.org
SUMMARY:3/2 Morning LIFT Yoga with Mindy
DESCRIPTION:This yoga power hour connects the mind and body through faster-paced\, flowing sequences and breath synchronization.  This full body workout is designed to build strength and flexibility\, burn calories and stress\, fine tune the core and body intuition in a fun and uplifting ambiance.  These vibrant and dynamic poses help us to reap the mental health benefits of emotional regulation\, stress reduction\, sleep enhancement\, and overall well-being in the present moment.  Bring a yoga mat. \nBook directly with the instructor Mindy Smith  Yoga Alliance RYT 200 MPH CHES at https://www.powermindlight.com \nMindy Smith took her first yoga class as a college elective and has been devoted to the practice ever since. She studied Vinyasa Yoga under renowned teacher Shiva Rea in Venice Beach\, CA\, and has been a full-time health education professor at West Los Angeles College since 2001. In 2008\, she expanded her teaching to include semester long yoga electives for the kinesiology department. \nMindy’s additional training includes prenatal and postnatal yoga\, yoga for children\, and Mental Health First Aid. She has led college-wide workshops on yoga\, meditation\, and self-care for students\, staff\, and faculty alike. \nIn 2011\, Mindy spent six transformative months traveling through India\, where she studied Ayurveda—India’s traditional “science of life”—and deepened her understanding of yoga\, breathwork\, and meditation at the source. She integrates this ancient wisdom into her own teaching\, creating a dynamic blend of modern science\, anatomical alignment and traditional practice.
URL:https://jacksonvillecommunitycenter.org/event/3-2-morning-lift-yoga-with-mindy/
LOCATION:Jacksonville Community Center\, 160 E Main St\, Jacksonville\, OR\, 97530\, United States
CATEGORIES:Unsponsored (USP)
ATTACH;FMTTYPE=image/png:https://jacksonvillecommunitycenter.org/wp-content/uploads/2026/01/website-program-graphic-Logo-1.png
END:VEVENT
BEGIN:VEVENT
DTSTART;TZID=America/Los_Angeles:20260302T110000
DTEND;TZID=America/Los_Angeles:20260302T120000
DTSTAMP:20260422T005548
CREATED:20260226T193420Z
LAST-MODIFIED:20260226T193420Z
UID:10002942-1772449200-1772452800@jacksonvillecommunitycenter.org
SUMMARY:3/2 Music Time for Littles - with Miss Laurie
DESCRIPTION:Music Time for Littles – with Ms. Laurie\nAges: 0-5 with accompanying adult Cost: $5 per child\nDiscover the joy of music in this engaging class designed for children 0-5 and their caregivers. This class combines singing\, rhythm\, movement and sign language. Get ready to sing beloved songs from around the world\, and make music together in this weekly class! Sponsored by Jackson Care Connect. \nInstructor Bio: Laurie Finear has been a music teacher in the Rogue Valley for over 15 years as a certified Music Together teacher. She now creates and teaches her own music classes for children and their caregivers in Ashland and Jacksonville. She is passionate about sharing the joy of music with children and families.
URL:https://jacksonvillecommunitycenter.org/event/3-2-music-time-for-littles-with-miss-laurie-2/
LOCATION:Jacksonville Community Center\, 160 E Main St\, Jacksonville\, OR\, 97530\, United States
CATEGORIES:Sponsored (SP)
ATTACH;FMTTYPE=image/png:https://jacksonvillecommunitycenter.org/wp-content/uploads/2026/01/Preschool-Music-1.png
END:VEVENT
BEGIN:VEVENT
DTSTART;TZID=America/Los_Angeles:20260302T153000
DTEND;TZID=America/Los_Angeles:20260302T170000
DTSTAMP:20260422T005548
CREATED:20260217T192709Z
LAST-MODIFIED:20260302T204126Z
UID:10002914-1772465400-1772470800@jacksonvillecommunitycenter.org
SUMMARY:Youth Theater Arts 3-Week Series with Ms. Laurie
DESCRIPTION:Series Dates: Mondays March 2\, 9 & 16\, 3:30-5pm  Ages: 7+  Cost: $30 total for all three classes! Sign up for 3/2 to secure series. \nMs. Laurie’s Theatre Arts Workshop is a 3-week series that introduces students to acting\, voice expression\, improvisation\, stage presence and auditioning through fun games and activities. Explore pantomime\, singing confidentiality in tune\, and learning basic musical theater dance styles. \nInstructor Bio: Laurie Finear has loved and been involved in performing arts since childhood. She has many years of experience teaching children in various settings as an outdoor educator\, gymnastics coach\, and music instructor. Laurie is honored to share her passion\, experiences and knowledge along with the developmental growth skills\, and joy that these arts bring to children.
URL:https://jacksonvillecommunitycenter.org/event/youth-theater-arts-3-week-series-with-ms-laurie/
LOCATION:Jacksonville Community Center\, 160 E Main St\, Jacksonville\, OR\, 97530\, United States
CATEGORIES:Arts/Crafts/Creative,Sponsored (SP)
ATTACH;FMTTYPE=image/png:https://jacksonvillecommunitycenter.org/wp-content/uploads/2026/02/Theater-3.png
END:VEVENT
BEGIN:VEVENT
DTSTART;TZID=America/Los_Angeles:20260302T174500
DTEND;TZID=America/Los_Angeles:20260302T190000
DTSTAMP:20260422T005548
CREATED:20260226T192429Z
LAST-MODIFIED:20260226T192429Z
UID:10002934-1772473500-1772478000@jacksonvillecommunitycenter.org
SUMMARY:3/2 Flow Yoga with Lori - Unsponsored
DESCRIPTION:A thoughtfully designed Flow Yoga focusing on breath & alignment. Options given to accommodate All Levels – As an unsponsored program\, students are asked to sign up and pay for classes through Lori’s website at: https://lorigrableyoga.com/
URL:https://jacksonvillecommunitycenter.org/event/3-2-flow-yoga-with-lori-unsponsored/
LOCATION:Jacksonville Community Center\, 160 E Main St\, Jacksonville\, OR\, 97530\, United States
CATEGORIES:Unsponsored (USP)
ATTACH;FMTTYPE=image/png:https://jacksonvillecommunitycenter.org/wp-content/uploads/2022/02/indoor-yoga.png
END:VEVENT
BEGIN:VEVENT
DTSTART;TZID=America/Los_Angeles:20260303T170000
DTEND;TZID=America/Los_Angeles:20260303T183000
DTSTAMP:20260422T005548
CREATED:20260218T195511Z
LAST-MODIFIED:20260218T195511Z
UID:10002917-1772557200-1772562600@jacksonvillecommunitycenter.org
SUMMARY:3/3 Gold Mining in Jacksonville: Local History with Larry Smith
DESCRIPTION:Larry will share his introductory program where he answers the conundrum: Why in the world would anybody want to build a town out here of all places\, and what did it take to keep the town from becoming a ghost town after the gold ran out? For the past 50 years Larry Smith has been leading field trips for students and adults out to Jacksonville’s historic goldmines.\nPresenter Bio: Larry Smith taught 5th grade at the Jacksonville Elementary School for 35 years. Although he is purportedly semi-retired\, he continues to tour countless excursions of school kids on our network of trails. He was also a National Park Ranger at Crater Lake for 23 summers. Larry is a founding member of the Jacksonville Woodlands Association and has served in many roles in that organization\, currently as Executive Director. He has written a history that details the amazing development of the Jacksonville Woodlands.
URL:https://jacksonvillecommunitycenter.org/event/3-3-gold-mining-in-jacksonville-local-history-with-larry-smith/
LOCATION:Jacksonville Community Center\, 160 E Main St\, Jacksonville\, OR\, 97530\, United States
CATEGORIES:Sponsored (SP)
ATTACH;FMTTYPE=image/png:https://jacksonvillecommunitycenter.org/wp-content/uploads/2026/02/Gold-Mining-In-Jacksonville700-x-500-px-500-x-500-px.png
END:VEVENT
BEGIN:VEVENT
DTSTART;TZID=America/Los_Angeles:20260304T080000
DTEND;TZID=America/Los_Angeles:20260304T090000
DTSTAMP:20260422T005548
CREATED:20260226T194604Z
LAST-MODIFIED:20260226T194604Z
UID:10002951-1772611200-1772614800@jacksonvillecommunitycenter.org
SUMMARY:3/4 Strength Training with Mikinzie
DESCRIPTION:Naturopath physician Mikinzie Smoot will lead adults in strength-building exercises – incorporating weights\, weight bars and step platforms. Book directly with instructor for this unsponsored one-hour class – offered weekly on Wednesday at 8-9am and Fridays 8:15-9:15am. For registration and payment: https://www.jvillefitness.com \nFor information call: 541-621-1883 or email: drsmootmedspa@gmail.com
URL:https://jacksonvillecommunitycenter.org/event/3-4-strength-training-with-mikinzie-2/
LOCATION:Jacksonville Community Center\, 160 E Main St\, Jacksonville\, OR\, 97530\, United States
CATEGORIES:Unsponsored (USP)
ATTACH;FMTTYPE=image/jpeg:https://jacksonvillecommunitycenter.org/wp-content/uploads/2024/11/dr-smoot-small-copystanding20240124_082251-e1757006277598.jpg
END:VEVENT
BEGIN:VEVENT
DTSTART;TZID=America/Los_Angeles:20260304T093000
DTEND;TZID=America/Los_Angeles:20260304T101500
DTSTAMP:20260422T005548
CREATED:20260226T192855Z
LAST-MODIFIED:20260226T192855Z
UID:10002938-1772616600-1772619300@jacksonvillecommunitycenter.org
SUMMARY:3/4 Chair Yoga with Lori Sours
DESCRIPTION:This chair-based yoga class incorporates movement\, poses\, breath\, and guided relaxation in both seated and (optional) standing sequences. We move slowly and mindfully\, with plenty of opportunity to pause and notice. The classes are designed using the principles of yoga for healthy aging to support brain and body wellness. \nGO TO: https://www.consideryoga.com/chair-yoga.html to register and pay. \nInstructor Bio: Lori Sours\, PhD\, has been teaching yoga since 2014 and is a Registered Yoga Teacher at the 500-hour level with Yoga Alliance. Beyond Lori’s certification work\, her specialized training includes teaching yoga for healthy aging and chair yoga for brain and body health. She is passionate about introducing the benefits of slow\, mindful yoga\, including chair yoga\, to people who want to feel their best every day and age wisely.
URL:https://jacksonvillecommunitycenter.org/event/3-4-chair-yoga-with-lori-sours-2/
LOCATION:Jacksonville Community Center\, 160 E Main St\, Jacksonville\, OR\, 97530\, United States
CATEGORIES:Unsponsored (USP)
ATTACH;FMTTYPE=image/jpeg:https://jacksonvillecommunitycenter.org/wp-content/uploads/2024/03/Lori-Sours-Chair-Yoga-2024-e1718641899873.jpg
END:VEVENT
BEGIN:VEVENT
DTSTART;TZID=America/Los_Angeles:20260304T110000
DTEND;TZID=America/Los_Angeles:20260304T120000
DTSTAMP:20260422T005548
CREATED:20260226T193555Z
LAST-MODIFIED:20260226T193822Z
UID:10002943-1772622000-1772625600@jacksonvillecommunitycenter.org
SUMMARY:3/4 Music Time for Littles - with Miss Laurie
DESCRIPTION:Music Time for Littles – with Ms. Laurie\nAges: 0-5 with accompanying adult Cost: $5 per child\nDiscover the joy of music in this engaging class designed for children 0-5 and their caregivers. This class combines singing\, rhythm\, movement and sign language. Get ready to sing beloved songs from around the world\, and make music together in this weekly class! Sponsored by Jackson Care Connect. \nInstructor Bio: Laurie Finear has been a music teacher in the Rogue Valley for over 15 years as a certified Music Together teacher. She now creates and teaches her own music classes for children and their caregivers in Ashland and Jacksonville. She is passionate about sharing the joy of music with children and families.
URL:https://jacksonvillecommunitycenter.org/event/3-4-music-time-for-littles-with-miss-laurie/
LOCATION:Jacksonville Community Center\, 160 E Main St\, Jacksonville\, OR\, 97530\, United States
CATEGORIES:Sponsored (SP)
ATTACH;FMTTYPE=image/png:https://jacksonvillecommunitycenter.org/wp-content/uploads/2026/01/Preschool-Music-1.png
END:VEVENT
BEGIN:VEVENT
DTSTART;TZID=America/Los_Angeles:20260304T140000
DTEND;TZID=America/Los_Angeles:20260304T150000
DTSTAMP:20260422T005548
CREATED:20260218T201034Z
LAST-MODIFIED:20260218T201034Z
UID:10002918-1772632800-1772636400@jacksonvillecommunitycenter.org
SUMMARY:3/4 Kids Crafts: Lucky Rocks to Share
DESCRIPTION:Ages: 6+  Cost: $5 (Parents may drop off or participate for free) \nDesign and paint your lucky rocks – Take some home and/or spread some joy throughout our town by sharing your painted rock around town in historic Jacksonville.  \nInstructor Bio: Sarah Greco is the Youth and Family Programs Coordinator at the JCC and a Jacksonville mom. With a background in early childhood education and developmental psychology\, she is passionate about protecting and celebrating childhood\, and supporting parents in our community.
URL:https://jacksonvillecommunitycenter.org/event/3-4-kids-crafts-lucky-rocks-to-share/
LOCATION:Jacksonville Community Center\, 160 E Main St\, Jacksonville\, OR\, 97530\, United States
CATEGORIES:Sponsored (SP)
ATTACH;FMTTYPE=image/png:https://jacksonvillecommunitycenter.org/wp-content/uploads/2026/02/Arts-Crafts-11.png
END:VEVENT
BEGIN:VEVENT
DTSTART;TZID=America/Los_Angeles:20260304T173000
DTEND;TZID=America/Los_Angeles:20260304T193000
DTSTAMP:20260422T005548
CREATED:20260218T190731Z
LAST-MODIFIED:20260304T214511Z
UID:10002916-1772645400-1772652600@jacksonvillecommunitycenter.org
SUMMARY:3/4 FREE HOUSE CONCERT: Adam Gabriel
DESCRIPTION:Join JCC’s FREE house concert and hear the sounds of heartfelt southern soul pour forth from Adam Gabriel’s acoustic guitar original songs and covers of favorites of the last four decades. \nGeorgia born\, West Coast seasoned\, Adam Gabriel is a profoundly gifted singer-songwriter and performer who wields a masterful blend of Folk-Rock\, Southern Blues and rich\, Soulful vocals. His lyrics are honest and raw\, cutting and comforting at the same time and his live performances are always exquisite. \nPresented through a grant of the Jackson County Cultural Coalition. \nThis is an alcohol-free event and well-behaved youth may attend. Be advised that some lyrics may be more appropriate for 12 and above. Tickets may be reserved but seating is first come\, first seated with a limited capacity.  Walk-ins are also welcomed if space is available. \nVisit Adam’s website to hear a sample of his unique sound: https://www.adamgabrielmusic.com/ \n 
URL:https://jacksonvillecommunitycenter.org/event/3-4-free-house-concert-adam-gabriel/
LOCATION:Jacksonville Community Center\, 160 E Main St\, Jacksonville\, OR\, 97530\, United States
CATEGORIES:Sponsored (SP)
ATTACH;FMTTYPE=image/png:https://jacksonvillecommunitycenter.org/wp-content/uploads/2026/02/Adam-Gabriel-Live-Music-Poster-500-x-500-px.png
END:VEVENT
BEGIN:VEVENT
DTSTART;TZID=America/Los_Angeles:20260305T090000
DTEND;TZID=America/Los_Angeles:20260305T101500
DTSTAMP:20260422T005548
CREATED:20260226T042934Z
LAST-MODIFIED:20260226T042934Z
UID:10002925-1772701200-1772705700@jacksonvillecommunitycenter.org
SUMMARY:3/5 Intermediate Tai Chi and Qi Gong
DESCRIPTION:Experienced students are the focus of this ongoing class but beginners may join after contacting the instructor. Tai Chi and Qi Gong are calming practices that incorporate slow movement\, breathwork\, visualization\, and meditation. Consistent practice fosters improved balance\, body alignment\, coordination\, and overall sense of well-being. Tai Chi students will also practice the Qi Gong.  To determine if you are ready for this level placement\, please contact instructor Carolyn Wolf prior to attending at carwolf@sonic.net.\nCarolyn’s Bio: “I have been a certified Tai Chi Practice Leader (from the Institute of Integral Qi Gong and Tai Chi) since 2015 and have been leading classes locally since then. I enjoy sharing all the practice has to offer; relaxation\, increased body awareness\, improved balance\, meditation techniques\, and overall improved well-being.”
URL:https://jacksonvillecommunitycenter.org/event/3-5-intermediate-tai-chi-and-qi-gong/
LOCATION:Jacksonville Community Center\, 160 E Main St\, Jacksonville\, OR\, 97530\, United States
CATEGORIES:Sponsored (SP)
ATTACH;FMTTYPE=image/jpeg:https://jacksonvillecommunitycenter.org/wp-content/uploads/2023/12/Tai-Chi-image-e1718642785519.jpg
END:VEVENT
BEGIN:VEVENT
DTSTART;TZID=America/Los_Angeles:20260306T081500
DTEND;TZID=America/Los_Angeles:20260306T091500
DTSTAMP:20260422T005548
CREATED:20260226T194632Z
LAST-MODIFIED:20260226T194751Z
UID:10002952-1772784900-1772788500@jacksonvillecommunitycenter.org
SUMMARY:3/6 Strength Training with Mikinzie
DESCRIPTION:Naturopath physician Mikinzie Smoot will lead adults in strength-building exercises – incorporating weights\, weight bars and step platforms. Book directly with instructor for this unsponsored one-hour class – offered weekly on Wednesday at 8-9am and Fridays 8:15-9:15am. For registration and payment: https://www.jvillefitness.com \nFor information call: 541-621-1883 or email: drsmootmedspa@gmail.com
URL:https://jacksonvillecommunitycenter.org/event/3-6-strength-training-with-mikinzie/
LOCATION:Jacksonville Community Center\, 160 E Main St\, Jacksonville\, OR\, 97530\, United States
CATEGORIES:Unsponsored (USP)
ATTACH;FMTTYPE=image/jpeg:https://jacksonvillecommunitycenter.org/wp-content/uploads/2024/11/dr-smoot-small-copystanding20240124_082251-e1757006277598.jpg
END:VEVENT
END:VCALENDAR