BEGIN:VCALENDAR
VERSION:2.0
PRODID:-//Jacksonville Community Center-Programs, Small Wedding Site and Meeting Room Rental - ECPv6.15.20//NONSGML v1.0//EN
CALSCALE:GREGORIAN
METHOD:PUBLISH
X-ORIGINAL-URL:https://jacksonvillecommunitycenter.org
X-WR-CALDESC:Events for Jacksonville Community Center-Programs, Small Wedding Site and Meeting Room Rental
REFRESH-INTERVAL;VALUE=DURATION:PT1H
X-Robots-Tag:noindex
X-PUBLISHED-TTL:PT1H
BEGIN:VTIMEZONE
TZID:America/Los_Angeles
BEGIN:DAYLIGHT
TZOFFSETFROM:-0800
TZOFFSETTO:-0700
TZNAME:PDT
DTSTART:20250309T100000
END:DAYLIGHT
BEGIN:STANDARD
TZOFFSETFROM:-0700
TZOFFSETTO:-0800
TZNAME:PST
DTSTART:20251102T090000
END:STANDARD
BEGIN:DAYLIGHT
TZOFFSETFROM:-0800
TZOFFSETTO:-0700
TZNAME:PDT
DTSTART:20260308T100000
END:DAYLIGHT
BEGIN:STANDARD
TZOFFSETFROM:-0700
TZOFFSETTO:-0800
TZNAME:PST
DTSTART:20261101T090000
END:STANDARD
BEGIN:DAYLIGHT
TZOFFSETFROM:-0800
TZOFFSETTO:-0700
TZNAME:PDT
DTSTART:20270314T100000
END:DAYLIGHT
BEGIN:STANDARD
TZOFFSETFROM:-0700
TZOFFSETTO:-0800
TZNAME:PST
DTSTART:20271107T090000
END:STANDARD
END:VTIMEZONE
BEGIN:VEVENT
DTSTART;TZID=America/Los_Angeles:20260126T081500
DTEND;TZID=America/Los_Angeles:20260126T091500
DTSTAMP:20260423T135419
CREATED:20251217T000823Z
LAST-MODIFIED:20251217T000823Z
UID:10002856-1769415300-1769418900@jacksonvillecommunitycenter.org
SUMMARY:1/26 Yoga Power Hour with Mindy
DESCRIPTION:This yoga power hour connects the mind and body through faster-paced\, flowing sequences and breath synchronization.  This full body workout is designed to build strength and flexibility\, burn calories and stress\, fine tune the core and body intuition in a fun and uplifting ambiance.  These vibrant and dynamic poses help us to reap the mental health benefits of emotional regulation\, stress reduction\, sleep enhancement\, and overall well-being in the present moment.  Bring a yoga mat. \nBook directly with the instructor Mindy Smith  Yoga Alliance RYT 200 MPH CHES at https://www.powermindlight.com \nMindy Smith took her first yoga class as a college elective and has been devoted to the practice ever since. She studied Vinyasa Yoga under renowned teacher Shiva Rea in Venice Beach\, CA\, and has been a full-time health education professor at West Los Angeles College since 2001. In 2008\, she expanded her teaching to include semester long yoga electives for the kinesiology department. \nMindy’s additional training includes prenatal and postnatal yoga\, yoga for children\, and Mental Health First Aid. She has led college-wide workshops on yoga\, meditation\, and self-care for students\, staff\, and faculty alike. \nIn 2011\, Mindy spent six transformative months traveling through India\, where she studied Ayurveda—India’s traditional “science of life”—and deepened her understanding of yoga\, breathwork\, and meditation at the source. She integrates this ancient wisdom into her own teaching\, creating a dynamic blend of modern science\, anatomical alignment and traditional practice.
URL:https://jacksonvillecommunitycenter.org/event/1-26-yoga-power-hour-with-mindy-2/
LOCATION:Jacksonville Community Center\, 160 E Main St\, Jacksonville\, OR\, 97530\, United States
CATEGORIES:Unsponsored (USP)
ATTACH;FMTTYPE=image/jpeg:https://jacksonvillecommunitycenter.org/wp-content/uploads/2025/11/website-program-graphic-44-e1764010609724.jpg
END:VEVENT
BEGIN:VEVENT
DTSTART;TZID=America/Los_Angeles:20260126T174500
DTEND;TZID=America/Los_Angeles:20260126T190000
DTSTAMP:20260423T135419
CREATED:20251216T235921Z
LAST-MODIFIED:20251216T235921Z
UID:10002848-1769449500-1769454000@jacksonvillecommunitycenter.org
SUMMARY:1/26 Flow Yoga with Lori - Unsponsored
DESCRIPTION:A thoughtfully designed Flow Yoga focusing on breath & alignment. Options given to accommodate All Levels – As an unsponsored program\, students are asked to sign up and pay for classes through Lori’s website at: https://lorigrableyoga.com/
URL:https://jacksonvillecommunitycenter.org/event/1-26-flow-yoga-with-lori-unsponsored-2/
LOCATION:Jacksonville Community Center\, 160 E Main St\, Jacksonville\, OR\, 97530\, United States
CATEGORIES:Unsponsored (USP)
ATTACH;FMTTYPE=image/png:https://jacksonvillecommunitycenter.org/wp-content/uploads/2022/02/indoor-yoga.png
END:VEVENT
BEGIN:VEVENT
DTSTART;TZID=America/Los_Angeles:20260128T080000
DTEND;TZID=America/Los_Angeles:20260128T090000
DTSTAMP:20260423T135419
CREATED:20260126T235458Z
LAST-MODIFIED:20260126T235458Z
UID:10002884-1769587200-1769590800@jacksonvillecommunitycenter.org
SUMMARY:1/28 Strength Training with Mikinzie
DESCRIPTION:Naturopath physician Mikinzie Smoot will lead adults in strength-building exercises – incorporating weights\, weight bars and step platforms. Book directly with instructor for this unsponsored one-hour class – offered weekly on Wednesday at 8-9am and Fridays 8:15-9:15am. For registration and payment: https://www.jvillefitness.com \nFor information call: 541-621-1883 or email: drsmootmedspa@gmail.com
URL:https://jacksonvillecommunitycenter.org/event/1-28-strength-training-with-mikinzie-2/
LOCATION:Jacksonville Community Center\, 160 E Main St\, Jacksonville\, OR\, 97530\, United States
CATEGORIES:Unsponsored (USP)
ATTACH;FMTTYPE=image/jpeg:https://jacksonvillecommunitycenter.org/wp-content/uploads/2024/11/dr-smoot-small-copystanding20240124_082251-e1757006277598.jpg
END:VEVENT
BEGIN:VEVENT
DTSTART;TZID=America/Los_Angeles:20260128T093000
DTEND;TZID=America/Los_Angeles:20260128T101500
DTSTAMP:20260423T135419
CREATED:20251216T235005Z
LAST-MODIFIED:20251216T235005Z
UID:10002840-1769592600-1769595300@jacksonvillecommunitycenter.org
SUMMARY:1/28 Chair Yoga with Lori Sours
DESCRIPTION:This chair-based yoga class incorporates movement\, poses\, breath\, and guided relaxation in both seated and (optional) standing sequences. We move slowly and mindfully\, with plenty of opportunity to pause and notice. The classes are designed using the principles of yoga for healthy aging to support brain and body wellness. \nGO TO: https://www.consideryoga.com/chair-yoga.html to register and pay. \nInstructor Bio: Lori Sours\, PhD\, has been teaching yoga since 2014 and is a Registered Yoga Teacher at the 500-hour level with Yoga Alliance. Beyond Lori’s certification work\, her specialized training includes teaching yoga for healthy aging and chair yoga for brain and body health. She is passionate about introducing the benefits of slow\, mindful yoga\, including chair yoga\, to people who want to feel their best every day and age wisely.
URL:https://jacksonvillecommunitycenter.org/event/1-28-chair-yoga-with-lori-sours/
LOCATION:Jacksonville Community Center\, 160 E Main St\, Jacksonville\, OR\, 97530\, United States
CATEGORIES:Unsponsored (USP)
ATTACH;FMTTYPE=image/jpeg:https://jacksonvillecommunitycenter.org/wp-content/uploads/2024/03/Lori-Sours-Chair-Yoga-2024-e1718641899873.jpg
END:VEVENT
BEGIN:VEVENT
DTSTART;TZID=America/Los_Angeles:20260128T110000
DTEND;TZID=America/Los_Angeles:20260128T120000
DTSTAMP:20260423T135419
CREATED:20251217T000435Z
LAST-MODIFIED:20251217T000435Z
UID:10002852-1769598000-1769601600@jacksonvillecommunitycenter.org
SUMMARY:1/28 Music Time for Littles - with Miss Laurie
DESCRIPTION:Music Time for Littles – with Ms. Laurie\nAges: 0-5 with accompanying adult Cost: $5 per child\nDiscover the joy of music in this engaging class designed for children 0-5 and their caregivers. This class combines singing\, rhythm\, movement and sign language. Get ready to sing beloved songs from around the world\, and make music together in this weekly class! Sponsored by Jackson Care Connect. \nInstructor Bio: Laurie Finear has been a music teacher in the Rogue Valley for over 15 years as a certified Music Together teacher. She now creates and teaches her own music classes for children and their caregivers in Ashland and Jacksonville. She is passionate about sharing the joy of music with children and families.
URL:https://jacksonvillecommunitycenter.org/event/1-28-music-time-for-littles-with-miss-laurie-2/
LOCATION:Jacksonville Community Center\, 160 E Main St\, Jacksonville\, OR\, 97530\, United States
CATEGORIES:Sponsored (SP)
ATTACH;FMTTYPE=image/jpeg:https://jacksonvillecommunitycenter.org/wp-content/uploads/2025/07/Preschool-Music-4-e1756311939139.jpg
END:VEVENT
BEGIN:VEVENT
DTSTART;TZID=America/Los_Angeles:20260128T140000
DTEND;TZID=America/Los_Angeles:20260128T150000
DTSTAMP:20260423T135419
CREATED:20251218T230111Z
LAST-MODIFIED:20251218T230111Z
UID:10002861-1769608800-1769612400@jacksonvillecommunitycenter.org
SUMMARY:1/28/26 Youth Science: Experimentation Station - Magnet Mysteries Ages 6-12
DESCRIPTION:Learn all about magnets with hands on experiments and discover what kinds of items around the house are magnetic. Ages 6-12 Cost: $5 (Parents may drop off or participate for free). \nInstructor Bios: Tori Wood is the Volunteer and Facility Coordinator at the JCC. She has a background in laboratory science and is incredibly excited to help foster a love of science and learning in our community. Sarah Greco is the Youth and Family Programs Coordinator at the JCC and a Jacksonville mom. With a background in early childhood education and developmental psychology\, she is passionate about protecting and celebrating childhood\, and supporting parents in our community.
URL:https://jacksonvillecommunitycenter.org/event/1-28-26-youth-science-experimentation-station-magner-mysteries-ages-6-12/
LOCATION:Jacksonville Community Center\, 160 E Main St\, Jacksonville\, OR\, 97530\, United States
CATEGORIES:Sponsored (SP)
ATTACH;FMTTYPE=image/jpeg:https://jacksonvillecommunitycenter.org/wp-content/uploads/2025/12/Arts-Crafts-2.jpg
END:VEVENT
BEGIN:VEVENT
DTSTART;TZID=America/Los_Angeles:20260129T090000
DTEND;TZID=America/Los_Angeles:20260129T101500
DTSTAMP:20260423T135419
CREATED:20251217T001730Z
LAST-MODIFIED:20251217T001730Z
UID:10002860-1769677200-1769681700@jacksonvillecommunitycenter.org
SUMMARY:1/29 Intermediate Tai Chi and Qi Gong
DESCRIPTION:Experienced students are the focus of this ongoing class but beginners may join after contacting the instructor. Tai Chi and Qi Gong are calming practices that incorporate slow movement\, breathwork\, visualization\, and meditation. Consistent practice fosters improved balance\, body alignment\, coordination\, and overall sense of well-being. Tai Chi students will also practice the Qi Gong.  To determine if you are ready for this level placement\, please contact instructor Carolyn Wolf prior to attending at carwolf@sonic.net.\nCarolyn’s Bio: “I have been a certified Tai Chi Practice Leader (from the Institute of Integral Qi Gong and Tai Chi) since 2015 and have been leading classes locally since then. I enjoy sharing all the practice has to offer; relaxation\, increased body awareness\, improved balance\, meditation techniques\, and overall improved well-being.”
URL:https://jacksonvillecommunitycenter.org/event/1-29-intermediate-tai-chi-and-qi-gong/
LOCATION:Jacksonville Community Center\, 160 E Main St\, Jacksonville\, OR\, 97530\, United States
CATEGORIES:Sponsored (SP)
ATTACH;FMTTYPE=image/jpeg:https://jacksonvillecommunitycenter.org/wp-content/uploads/2023/12/Tai-Chi-image-e1718642785519.jpg
END:VEVENT
BEGIN:VEVENT
DTSTART;TZID=America/Los_Angeles:20260129T163000
DTEND;TZID=America/Los_Angeles:20260129T180000
DTSTAMP:20260423T135419
CREATED:20251216T213721Z
LAST-MODIFIED:20251216T213721Z
UID:10002828-1769704200-1769709600@jacksonvillecommunitycenter.org
SUMMARY:1 /29 Watercolor Class in Food Art: Cupcakes with Carole
DESCRIPTION:Join watercolor artist and teacher\, Carole Whitridge\, for this fun class creating original watercolor paintings of delicious cupcakes. Learn basic food art techniques and practice with several variations. All materials and supplies included for just $20. \nIn this beginner watercolor class\, participants (ages 10+ to adult) will learn to paint smooth washes of color\, paint gradients\, skies\, and water. We’ll use techniques such as lifting paint and adding highlights\, to create beautiful\, satisfying art. No additional costs. \nInstructor Bio: Carole Whitridge combines her love of painting and travel to bring tranquil\, accessible classes to her students. She has a deep respect for the art and history of East Asia and strives to bring some of these traditions to her own teaching practice. She teaches watercolor to regional youth and adults alike.
URL:https://jacksonvillecommunitycenter.org/event/1-29-watercolor-class-in-food-art-cupcakes-with-carole/
LOCATION:Jacksonville Community Center\, 160 E Main St\, Jacksonville\, OR\, 97530\, United States
CATEGORIES:Sponsored (SP)
ATTACH;FMTTYPE=image/jpeg:https://jacksonvillecommunitycenter.org/wp-content/uploads/2025/12/Arts-Crafts-25.jpg
END:VEVENT
BEGIN:VEVENT
DTSTART;TZID=America/Los_Angeles:20260130T081500
DTEND;TZID=America/Los_Angeles:20260130T091500
DTSTAMP:20260423T135419
CREATED:20251216T234321Z
LAST-MODIFIED:20251216T234321Z
UID:10002832-1769760900-1769764500@jacksonvillecommunitycenter.org
SUMMARY:1/30 Strength Training with Mikinzie
DESCRIPTION:Naturopath physician Mikinzie Smoot will lead adults in strength-building exercises – incorporating weights\, weight bars and step platforms. Book directly with instructor for this unsponsored one-hour class – offered weekly on Wednesday at 8-9am and Fridays 8:15-9:15am. For registration and payment: https://www.jvillefitness.com \nFor information call: 541-621-1883 or email: drsmootmedspa@gmail.com
URL:https://jacksonvillecommunitycenter.org/event/1-30-strength-training-with-mikinzie/
LOCATION:Jacksonville Community Center\, 160 E Main St\, Jacksonville\, OR\, 97530\, United States
CATEGORIES:Unsponsored (USP)
ATTACH;FMTTYPE=image/jpeg:https://jacksonvillecommunitycenter.org/wp-content/uploads/2024/11/dr-smoot-small-copystanding20240124_082251-e1757006277598.jpg
END:VEVENT
BEGIN:VEVENT
DTSTART;TZID=America/Los_Angeles:20260131T230000
DTEND;TZID=America/Los_Angeles:20260131T230000
DTSTAMP:20260423T135419
CREATED:20251216T193623Z
LAST-MODIFIED:20251229T225433Z
UID:10002824-1769900400-1769900400@jacksonvillecommunitycenter.org
SUMMARY:1/31 Paint & LUNCH with Heidi
DESCRIPTION:While you learn easy and striking acrylic paint techniques to bring an amazing original winter-themed painting to life\, also enjoy a full lunch array of delightful dishes. Heidi Elliott has been teaching painting for over a decade and brings a calm\, reassuring style to the classroom so that everyone can succeed. \nBring friends\, family or sweethearts for more fun! Ages 9 – Adult. (Youth 9 – 13 must be accompanied by an adult.) All supplies and lunch included. This class usually sells out so pre-registration is recommended. Walk-ins as space allows. \nInstructor Bio: Heidi Elliott is a free-lance mixed-media artist who has taught Paint & Lunch style classes for years and encourages everyone to find a creative path. She serves as Jacksonville Garden Club’s First Vice President. Heidi is a Certified Morning Altars Teacher and Practitioner. She loves life here in Jacksonville and is happy to call it home.
URL:https://jacksonvillecommunitycenter.org/event/1-31-paint-lunch-with-heidi/
LOCATION:Jacksonville Community Center\, 160 E Main St\, Jacksonville\, OR\, 97530\, United States
CATEGORIES:Sponsored (SP)
ATTACH;FMTTYPE=image/jpeg:https://jacksonvillecommunitycenter.org/wp-content/uploads/2025/12/Paint-Lunch-SM-4.jpg
END:VEVENT
END:VCALENDAR