BEGIN:VCALENDAR
VERSION:2.0
PRODID:-//Jacksonville Community Center-Programs, Small Wedding Site and Meeting Room Rental - ECPv6.15.20//NONSGML v1.0//EN
CALSCALE:GREGORIAN
METHOD:PUBLISH
X-WR-CALNAME:Jacksonville Community Center-Programs, Small Wedding Site and Meeting Room Rental
X-ORIGINAL-URL:https://jacksonvillecommunitycenter.org
X-WR-CALDESC:Events for Jacksonville Community Center-Programs, Small Wedding Site and Meeting Room Rental
REFRESH-INTERVAL;VALUE=DURATION:PT1H
X-Robots-Tag:noindex
X-PUBLISHED-TTL:PT1H
BEGIN:VTIMEZONE
TZID:America/Los_Angeles
BEGIN:DAYLIGHT
TZOFFSETFROM:-0800
TZOFFSETTO:-0700
TZNAME:PDT
DTSTART:20240310T100000
END:DAYLIGHT
BEGIN:STANDARD
TZOFFSETFROM:-0700
TZOFFSETTO:-0800
TZNAME:PST
DTSTART:20241103T090000
END:STANDARD
BEGIN:DAYLIGHT
TZOFFSETFROM:-0800
TZOFFSETTO:-0700
TZNAME:PDT
DTSTART:20250309T100000
END:DAYLIGHT
BEGIN:STANDARD
TZOFFSETFROM:-0700
TZOFFSETTO:-0800
TZNAME:PST
DTSTART:20251102T090000
END:STANDARD
BEGIN:DAYLIGHT
TZOFFSETFROM:-0800
TZOFFSETTO:-0700
TZNAME:PDT
DTSTART:20260308T100000
END:DAYLIGHT
BEGIN:STANDARD
TZOFFSETFROM:-0700
TZOFFSETTO:-0800
TZNAME:PST
DTSTART:20261101T090000
END:STANDARD
END:VTIMEZONE
BEGIN:VEVENT
DTSTART;TZID=America/Los_Angeles:20251207T100000
DTEND;TZID=America/Los_Angeles:20251207T120000
DTSTAMP:20260423T023634
CREATED:20251118T180959Z
LAST-MODIFIED:20251204T230653Z
UID:10002785-1765101600-1765108800@jacksonvillecommunitycenter.org
SUMMARY:12/7 - Holiday Wreath-Making with Kathy!
DESCRIPTION:Enjoy making your own ribbon-based holiday wreath.   Take home a beautiful focal-point for your holiday decor. \nInstructor Bio: Kathy Jackson — a lifelong crafter with a heart full of creativity and a glue gun never too far from reach! She has been teaching crafting classes for years and just recently moved to our area. \nFrom paper flowers and homemade cards to seasonal decorations and upcycled treasures\, crafting has always been Kathy’s happy place\, and she’s thrilled to share that joy with others. Whether you’re a complete beginner or just looking for a little inspiration\, Kathy is here to help you discover the fun and satisfaction that comes with making something beautiful from scratch. Through her hands-on classes\, Kathy will guide you step by step as you create unique projects together.
URL:https://jacksonvillecommunitycenter.org/event/12-7-holiday-wreath-making-with-kathy/
LOCATION:Jacksonville Community Center\, 160 E Main St\, Jacksonville\, OR\, 97530\, United States
CATEGORIES:Sponsored (SP)
ATTACH;FMTTYPE=image/jpeg:https://jacksonvillecommunitycenter.org/wp-content/uploads/2025/11/20251114_125630-scaled-e1763489318138.jpg
END:VEVENT
BEGIN:VEVENT
DTSTART;TZID=America/Los_Angeles:20251208T081500
DTEND;TZID=America/Los_Angeles:20251208T091500
DTSTAMP:20260423T023634
CREATED:20251113T190132Z
LAST-MODIFIED:20251124T185742Z
UID:10002780-1765181700-1765185300@jacksonvillecommunitycenter.org
SUMMARY:12.8 Yoga Power Hour with Mindy
DESCRIPTION:This yoga power hour connects the mind and body through faster-paced\, flowing sequences and breath synchronization.  This full body workout is designed to build strength and flexibility\, burn calories and stress\, fine tune the core and body intuition in a fun and uplifting ambiance.  These vibrant and dynamic poses help us to reap the mental health benefits of emotional regulation\, stress reduction\, sleep enhancement\, and overall well-being in the present moment.  Bring a yoga mat. \nBook directly with the instructor Mindy Smith  Yoga Alliance RYT 200 MPH CHES at https://www.powermindlight.com \nMindy Smith took her first yoga class as a college elective and has been devoted to the practice ever since. She studied Vinyasa Yoga under renowned teacher Shiva Rea in Venice Beach\, CA\, and has been a full-time health education professor at West Los Angeles College since 2001. In 2008\, she expanded her teaching to include semester long yoga electives for the kinesiology department. \nMindy’s additional training includes prenatal and postnatal yoga\, yoga for children\, and Mental Health First Aid. She has led college-wide workshops on yoga\, meditation\, and self-care for students\, staff\, and faculty alike. \nIn 2011\, Mindy spent six transformative months traveling through India\, where she studied Ayurveda—India’s traditional “science of life”—and deepened her understanding of yoga\, breathwork\, and meditation at the source. She integrates this ancient wisdom into her own teaching\, creating a dynamic blend of modern science\, anatomical alignment and traditional practice.
URL:https://jacksonvillecommunitycenter.org/event/12-8-power-hour-yoga-with-mindy-2/
LOCATION:Jacksonville Community Center\, 160 E Main St\, Jacksonville\, OR\, 97530\, United States
CATEGORIES:Unsponsored (USP)
ATTACH;FMTTYPE=image/jpeg:https://jacksonvillecommunitycenter.org/wp-content/uploads/2025/11/website-program-graphic-44-e1764010609724.jpg
END:VEVENT
BEGIN:VEVENT
DTSTART;TZID=America/Los_Angeles:20251208T174500
DTEND;TZID=America/Los_Angeles:20251208T190000
DTSTAMP:20260423T023634
CREATED:20251124T174920Z
LAST-MODIFIED:20251124T174920Z
UID:10002796-1765215900-1765220400@jacksonvillecommunitycenter.org
SUMMARY:12/08 Flow Yoga with Lori - Unsponsored
DESCRIPTION:A thoughtfully designed Flow Yoga focusing on breath & alignment. Options given to accommodate All Levels – As an unsponsored program\, students are asked to sign up and pay for classes through Lori’s website at: https://lorigrableyoga.com/
URL:https://jacksonvillecommunitycenter.org/event/12-08-flow-yoga-with-lori-unsponsored/
LOCATION:Jacksonville Community Center\, 160 E Main St\, Jacksonville\, OR\, 97530\, United States
CATEGORIES:Unsponsored (USP)
ATTACH;FMTTYPE=image/png:https://jacksonvillecommunitycenter.org/wp-content/uploads/2022/02/indoor-yoga.png
END:VEVENT
BEGIN:VEVENT
DTSTART;TZID=America/Los_Angeles:20251210T080000
DTEND;TZID=America/Los_Angeles:20251210T090000
DTSTAMP:20260423T023634
CREATED:20251124T175440Z
LAST-MODIFIED:20251124T175440Z
UID:10002799-1765353600-1765357200@jacksonvillecommunitycenter.org
SUMMARY:12/10 Strength Training with Mikinzie
DESCRIPTION:Naturopath physician Mikinzie Smoot will lead adults in strength-building exercises – incorporating weights\, weight bars and step platforms. Book directly with instructor for this unsponsored one-hour class – offered weekly on Wednesday at 8-9am and Fridays 8:15-9:15am. For registration and payment: https://www.jvillefitness.com \nFor information call: 541-621-1883 or email: drsmootmedspa@gmail.com
URL:https://jacksonvillecommunitycenter.org/event/12-10-strength-training-with-mikinzie-2/
LOCATION:Jacksonville Community Center\, 160 E Main St\, Jacksonville\, OR\, 97530\, United States
CATEGORIES:Unsponsored (USP)
ATTACH;FMTTYPE=image/jpeg:https://jacksonvillecommunitycenter.org/wp-content/uploads/2024/11/dr-smoot-small-copystanding20240124_082251-e1757006277598.jpg
END:VEVENT
BEGIN:VEVENT
DTSTART;TZID=America/Los_Angeles:20251210T093000
DTEND;TZID=America/Los_Angeles:20251210T101500
DTSTAMP:20260423T023634
CREATED:20251124T174211Z
LAST-MODIFIED:20251124T174211Z
UID:10002792-1765359000-1765361700@jacksonvillecommunitycenter.org
SUMMARY:12/10/2025 Chair Yoga with Lori Sours
DESCRIPTION:This chair-based yoga class incorporates movement\, poses\, breath\, and guided relaxation in both seated and (optional) standing sequences. We move slowly and mindfully\, with plenty of opportunity to pause and notice. The classes are designed using the principles of yoga for healthy aging to support brain and body wellness. \nGO TO: https://www.consideryoga.com/chair-yoga.html to register and pay. \nInstructor Bio: Lori Sours\, PhD\, has been teaching yoga since 2014 and is a Registered Yoga Teacher at the 500-hour level with Yoga Alliance. Beyond Lori’s certification work\, her specialized training includes teaching yoga for healthy aging and chair yoga for brain and body health. She is passionate about introducing the benefits of slow\, mindful yoga\, including chair yoga\, to people who want to feel their best every day and age wisely.
URL:https://jacksonvillecommunitycenter.org/event/12-10-2025-chair-yoga-with-lori-sours/
LOCATION:Jacksonville Community Center\, 160 E Main St\, Jacksonville\, OR\, 97530\, United States
CATEGORIES:Unsponsored (USP)
ATTACH;FMTTYPE=image/jpeg:https://jacksonvillecommunitycenter.org/wp-content/uploads/2024/03/Lori-Sours-Chair-Yoga-2024-e1718641899873.jpg
END:VEVENT
BEGIN:VEVENT
DTSTART;TZID=America/Los_Angeles:20251210T110000
DTEND;TZID=America/Los_Angeles:20251210T120000
DTSTAMP:20260423T023634
CREATED:20251124T180317Z
LAST-MODIFIED:20251124T180317Z
UID:10002805-1765364400-1765368000@jacksonvillecommunitycenter.org
SUMMARY:12/10 Music Time for Littles - with Miss Laurie
DESCRIPTION:Music Time for Littles – with Ms. Laurie\nAges: 0-5 with accompanying adult Cost: $5 per child\nDiscover the joy of music in this engaging class designed for children 0-5 and their caregivers. This class combines singing\, rhythm\, movement and sign language. Get ready to sing beloved songs from around the world\, and make music together in this weekly class! Sponsored by Jackson Care Connect. \nInstructor Bio: Laurie Finear has been a music teacher in the Rogue Valley for over 15 years as a certified Music Together teacher. She now creates and teaches her own music classes for children and their caregivers in Ashland and Jacksonville. She is passionate about sharing the joy of music with children and families.
URL:https://jacksonvillecommunitycenter.org/event/12-10-music-time-for-littles-with-miss-laurie/
LOCATION:Jacksonville Community Center\, 160 E Main St\, Jacksonville\, OR\, 97530\, United States
CATEGORIES:Sponsored (SP)
ATTACH;FMTTYPE=image/jpeg:https://jacksonvillecommunitycenter.org/wp-content/uploads/2025/07/Preschool-Music-4-e1756311939139.jpg
END:VEVENT
BEGIN:VEVENT
DTSTART;TZID=America/Los_Angeles:20251210T140000
DTEND;TZID=America/Los_Angeles:20251210T150000
DTSTAMP:20260423T023634
CREATED:20251124T183925Z
LAST-MODIFIED:20251124T184308Z
UID:10002817-1765375200-1765378800@jacksonvillecommunitycenter.org
SUMMARY:12/10/25 Youth Science: Experimentation Station - Cool Chemical Reactions Ages 6-12
DESCRIPTION:In this fun\, safe “hands-on” science experimentation program\, join us in the lab and we will perform endothermic chemical reactions that really turn cold! Students will also get to make FAKE SNOW that they can play with and take home!  Ages 6-12 Cost: $5 (Parents may drop off or participate for free). \nInstructor Bios: Tori Wood is the Volunteer and Facility Coordinator at the JCC. She has a background in laboratory science and is incredibly excited to help foster a love of science and learning in our community. Sarah Greco is the Youth and Family Programs Coordinator at the JCC and a Jacksonville mom. With a background in early childhood education and developmental psychology\, she is passionate about protecting and celebrating childhood\, and supporting parents in our community.
URL:https://jacksonvillecommunitycenter.org/event/12-10-youth-science-experimentation-station-cool-chemicals-ages-6-12/
LOCATION:Jacksonville Community Center\, 160 E Main St\, Jacksonville\, OR\, 97530\, United States
CATEGORIES:Sponsored (SP)
ATTACH;FMTTYPE=image/jpeg:https://jacksonvillecommunitycenter.org/wp-content/uploads/2025/11/Arts-Crafts-19-e1764009730391.jpg
END:VEVENT
BEGIN:VEVENT
DTSTART;TZID=America/Los_Angeles:20251211T090000
DTEND;TZID=America/Los_Angeles:20251211T101500
DTSTAMP:20260423T023634
CREATED:20251124T173612Z
LAST-MODIFIED:20251124T173612Z
UID:10002789-1765443600-1765448100@jacksonvillecommunitycenter.org
SUMMARY:12/11/25 Intermediate Tai Chi and Qi Gong
DESCRIPTION:Experienced students are the focus of this ongoing class but beginners may join after contacting the instructor. Tai Chi and Qi Gong are calming practices that incorporate slow movement\, breathwork\, visualization\, and meditation. Consistent practice fosters improved balance\, body alignment\, coordination\, and overall sense of well-being. Tai Chi students will also practice the Qi Gong.  To determine if you are ready for this level placement\, please contact instructor Carolyn Wolf prior to attending at carwolf@sonic.net.\nCarolyn’s Bio: “I have been a certified Tai Chi Practice Leader (from the Institute of Integral Qi Gong and Tai Chi) since 2015 and have been leading classes locally since then. I enjoy sharing all the practice has to offer; relaxation\, increased body awareness\, improved balance\, meditation techniques\, and overall improved well-being.”
URL:https://jacksonvillecommunitycenter.org/event/12-11-25-intermediate-tai-chi-and-qi-gong/
LOCATION:Jacksonville Community Center\, 160 E Main St\, Jacksonville\, OR\, 97530\, United States
CATEGORIES:Sponsored (SP)
ATTACH;FMTTYPE=image/jpeg:https://jacksonvillecommunitycenter.org/wp-content/uploads/2023/12/Tai-Chi-image-e1718642785519.jpg
END:VEVENT
BEGIN:VEVENT
DTSTART;TZID=America/Los_Angeles:20251211T180000
DTEND;TZID=America/Los_Angeles:20251211T193000
DTSTAMP:20260423T023634
CREATED:20251107T190107Z
LAST-MODIFIED:20251107T191826Z
UID:10002777-1765476000-1765481400@jacksonvillecommunitycenter.org
SUMMARY:12/11 FREE House Concert: Mark Turnbull - Unique guitarist\, songwriter\, actor and storyteller
DESCRIPTION:JCC is happy to host beloved local guitarist\, actor\, storyteller and songwriter\, Mark Turnbull for a winter’s evening FREE house concert of originals and well-known songs\, social insights and stories with heart. You will enjoy Mark’s delightful skill as a guitarist and chuckle at his witty lyrics. A special evening is in store. \nAs a Grammy-nominated songwriter\, Mark began his performing career at the age of five on the Jimmy Durante Show in 1954. Since then he has recorded three albums and written 5 full length musicals\, 7 solo shows\, (including  ‘Mark Turnbull and Friends – A One Man Show\,’ which was named “Best One Man Show of 1994” by the Los Angeles Times); 3 children’s musicals\, and 14 original cabaret revues. He was the musical director for the Laguna Playhouse from 1984-1991\, winning a DramaLogue Award for his musical direction of “Quilters”. Of his solo work\, The Los Angeles Times has written\, “Turnbull seems like nothing less than a performer on a spiritual quest\, unwilling to pander even when he’s being funny\, full of quiet conviction\, poetic vigor\, clever whimsy and touching insight.”
URL:https://jacksonvillecommunitycenter.org/event/12-11-free-house-concert-mark-turnbull-unique-guitarist-songwriter-actor-and-storyteller/
LOCATION:Jacksonville Community Center\, 160 E Main St\, Jacksonville\, OR\, 97530\, United States
ATTACH;FMTTYPE=image/jpeg:https://jacksonvillecommunitycenter.org/wp-content/uploads/2025/11/BLue-Trio-4.jpg
END:VEVENT
BEGIN:VEVENT
DTSTART;TZID=America/Los_Angeles:20251212T081500
DTEND;TZID=America/Los_Angeles:20251212T091500
DTSTAMP:20260423T023634
CREATED:20251124T175829Z
LAST-MODIFIED:20251124T175829Z
UID:10002802-1765527300-1765530900@jacksonvillecommunitycenter.org
SUMMARY:12/12 Strength Training with Mikinzie
DESCRIPTION:Naturopath physician Mikinzie Smoot will lead adults in strength-building exercises – incorporating weights\, weight bars and step platforms. Book directly with instructor for this unsponsored one-hour class – offered weekly on Wednesday at 8-9am and Fridays 8:15-9:15am. For registration and payment: https://www.jvillefitness.com \nFor information call: 541-621-1883 or email: drsmootmedspa@gmail.com
URL:https://jacksonvillecommunitycenter.org/event/12-12-strength-training-with-mikinzie/
LOCATION:Jacksonville Community Center\, 160 E Main St\, Jacksonville\, OR\, 97530\, United States
CATEGORIES:Unsponsored (USP)
ATTACH;FMTTYPE=image/jpeg:https://jacksonvillecommunitycenter.org/wp-content/uploads/2024/11/dr-smoot-small-copystanding20240124_082251-e1757006277598.jpg
END:VEVENT
BEGIN:VEVENT
DTSTART;TZID=America/Los_Angeles:20251212T103000
DTEND;TZID=America/Los_Angeles:20251212T113000
DTSTAMP:20260423T023634
CREATED:20251124T182047Z
LAST-MODIFIED:20251124T182047Z
UID:10002814-1765535400-1765539000@jacksonvillecommunitycenter.org
SUMMARY:12/12 Beginning Yoga with Lori
DESCRIPTION:Join Lori Grable for a Beginning Yoga class! This class is open to anyone who is interested in trying out yoga for the first time or wants a refresher yoga class after a layoff. Come with comfortable clothes\, a yoga mat and water bottle. \nNew students can arrive at 10:15. \nLori began her yoga journey in 2000 as a student at the Santa Barbara Yoga Center. She was drawn to the practice because it helped her to reconnect with her most authentic self while making her stronger and more open\, physically and mentally. Her passion for yoga grew stronger as she traveled around the United States during the summer of 2003\, practicing at many studios along the way. After settling in Pittsburgh\, PA\, she completed her teacher training and began teaching in 2006. \nToday\, Lori is an E-RYT 500 and teaches Vinyasa-based classes. She is influenced by the philosophy and alignment principles of Anusara Yoga. As a triathlete\, Lori has an interest in yoga for athletes and has taught many workshops on the topic. She has a passion for the outdoors and has taught yoga in parks\, vineyards\, and backyards. Lori appreciates the healing and restorative qualities of yoga and has also worked with students who are recovering from illness\, rehabilitating injuries\, pregnant\, or elderly.
URL:https://jacksonvillecommunitycenter.org/event/12-12-beginning-yoga-with-lori/
LOCATION:Jacksonville Community Center\, 160 E Main St\, Jacksonville\, OR\, 97530\, United States
CATEGORIES:Sponsored (SP)
ATTACH;FMTTYPE=image/png:https://jacksonvillecommunitycenter.org/wp-content/uploads/2022/10/yoga.png
END:VEVENT
BEGIN:VEVENT
DTSTART;TZID=America/Los_Angeles:20251213T120000
DTEND;TZID=America/Los_Angeles:20251213T140000
DTSTAMP:20260423T023634
CREATED:20251124T182949Z
LAST-MODIFIED:20251124T183140Z
UID:10002816-1765627200-1765634400@jacksonvillecommunitycenter.org
SUMMARY:12/13 FREE Holiday Crafts & Cookies - Friends & Family Event
DESCRIPTION:Join us at the Jacksonville Community Center on Saturday Dec 13th\, drop by – Noon to 2pm\, for holiday treats and crafts. Make some holiday ornaments or doo-dads! Warm up with cocoa and get creative with holiday crafts for children and adults. Enter for a chance to win a holiday raffle basket. All ages welcome. Reserve a spot or drop in (adults must accompany youth). Free!
URL:https://jacksonvillecommunitycenter.org/event/12-13-friends-family-holiday-crafts-cookies-free-community-event/
LOCATION:Jacksonville Community Center\, 160 E Main St\, Jacksonville\, OR\, 97530\, United States
CATEGORIES:Sponsored (SP)
ATTACH;FMTTYPE=image/jpeg:https://jacksonvillecommunitycenter.org/wp-content/uploads/2025/11/Arts-Crafts-18-e1764008944610.jpg
END:VEVENT
END:VCALENDAR