BEGIN:VCALENDAR
VERSION:2.0
PRODID:-//Jacksonville Community Center-Programs, Small Wedding Site and Meeting Room Rental - ECPv6.15.20//NONSGML v1.0//EN
CALSCALE:GREGORIAN
METHOD:PUBLISH
X-ORIGINAL-URL:https://jacksonvillecommunitycenter.org
X-WR-CALDESC:Events for Jacksonville Community Center-Programs, Small Wedding Site and Meeting Room Rental
REFRESH-INTERVAL;VALUE=DURATION:PT1H
X-Robots-Tag:noindex
X-PUBLISHED-TTL:PT1H
BEGIN:VTIMEZONE
TZID:America/Los_Angeles
BEGIN:DAYLIGHT
TZOFFSETFROM:-0800
TZOFFSETTO:-0700
TZNAME:PDT
DTSTART:20240310T100000
END:DAYLIGHT
BEGIN:STANDARD
TZOFFSETFROM:-0700
TZOFFSETTO:-0800
TZNAME:PST
DTSTART:20241103T090000
END:STANDARD
BEGIN:DAYLIGHT
TZOFFSETFROM:-0800
TZOFFSETTO:-0700
TZNAME:PDT
DTSTART:20250309T100000
END:DAYLIGHT
BEGIN:STANDARD
TZOFFSETFROM:-0700
TZOFFSETTO:-0800
TZNAME:PST
DTSTART:20251102T090000
END:STANDARD
BEGIN:DAYLIGHT
TZOFFSETFROM:-0800
TZOFFSETTO:-0700
TZNAME:PDT
DTSTART:20260308T100000
END:DAYLIGHT
BEGIN:STANDARD
TZOFFSETFROM:-0700
TZOFFSETTO:-0800
TZNAME:PST
DTSTART:20261101T090000
END:STANDARD
END:VTIMEZONE
BEGIN:VEVENT
DTSTART;TZID=America/Los_Angeles:20251201T081500
DTEND;TZID=America/Los_Angeles:20251201T091500
DTSTAMP:20260423T042311
CREATED:20251113T185313Z
LAST-MODIFIED:20251124T185656Z
UID:10002779-1764576900-1764580500@jacksonvillecommunitycenter.org
SUMMARY:12.1 Yoga Power Hour with Mindy
DESCRIPTION:This yoga power hour connects the mind and body through faster-paced\, flowing sequences and breath synchronization.  This full body workout is designed to build strength and flexibility\, burn calories and stress\, fine tune the core and body intuition in a fun and uplifting ambiance.  These vibrant and dynamic poses help us to reap the mental health benefits of emotional regulation\, stress reduction\, sleep enhancement\, and overall well-being in the present moment.  Bring a yoga mat. \nBook directly with the instructor Mindy Smith  Yoga Alliance RYT 200 MPH CHES at https://www.powermindlight.com \nMindy Smith took her first yoga class as a college elective and has been devoted to the practice ever since. She studied Vinyasa Yoga under renowned teacher Shiva Rea in Venice Beach\, CA\, and has been a full-time health education professor at West Los Angeles College since 2001. In 2008\, she expanded her teaching to include semester long yoga electives for the kinesiology department. \nMindy’s additional training includes prenatal and postnatal yoga\, yoga for children\, and Mental Health First Aid. She has led college-wide workshops on yoga\, meditation\, and self-care for students\, staff\, and faculty alike. \nIn 2011\, Mindy spent six transformative months traveling through India\, where she studied Ayurveda—India’s traditional “science of life”—and deepened her understanding of yoga\, breathwork\, and meditation at the source. She integrates this ancient wisdom into her own teaching\, creating a dynamic blend of modern science\, anatomical alignment and traditional practice.
URL:https://jacksonvillecommunitycenter.org/event/12-1-power-hour-yoga-with-mindy/
LOCATION:Jacksonville Community Center\, 160 E Main St\, Jacksonville\, OR\, 97530\, United States
CATEGORIES:Unsponsored (USP)
ATTACH;FMTTYPE=image/jpeg:https://jacksonvillecommunitycenter.org/wp-content/uploads/2025/11/website-program-graphic-44-e1764010609724.jpg
END:VEVENT
BEGIN:VEVENT
DTSTART;TZID=America/Los_Angeles:20251201T174500
DTEND;TZID=America/Los_Angeles:20251201T190000
DTSTAMP:20260423T042311
CREATED:20251124T174841Z
LAST-MODIFIED:20251124T174841Z
UID:10002795-1764611100-1764615600@jacksonvillecommunitycenter.org
SUMMARY:12/01 Flow Yoga with Lori - Unsponsored
DESCRIPTION:A thoughtfully designed Flow Yoga focusing on breath & alignment. Options given to accommodate All Levels – As an unsponsored program\, students are asked to sign up and pay for classes through Lori’s website at: https://lorigrableyoga.com/
URL:https://jacksonvillecommunitycenter.org/event/12-01-flow-yoga-with-lori-unsponsored/
LOCATION:Jacksonville Community Center\, 160 E Main St\, Jacksonville\, OR\, 97530\, United States
CATEGORIES:Unsponsored (USP)
ATTACH;FMTTYPE=image/png:https://jacksonvillecommunitycenter.org/wp-content/uploads/2022/02/indoor-yoga.png
END:VEVENT
BEGIN:VEVENT
DTSTART;TZID=America/Los_Angeles:20251202T110000
DTEND;TZID=America/Los_Angeles:20251202T123000
DTSTAMP:20260423T042311
CREATED:20251113T192129Z
LAST-MODIFIED:20251125T173853Z
UID:10002784-1764673200-1764678600@jacksonvillecommunitycenter.org
SUMMARY:12.2 Watercolor Class: Christmas Cards with Carole
DESCRIPTION:Join watercolor artist and teacher\, Carole Whitridge\, for this fun class creating original watercolor Christmas cards. All materials and supplies included for just $20. \nIn this beginner watercolor class\, participants (ages 10+ to adult) will learn to paint smooth washes of color\, paint gradients\, skies\, and water. We’ll use techniques such as lifting paint and adding highlights\, to create beautiful\, satisfying art. No additional costs. \nInstructor Bio: Carole Whitridge combines her love of painting and travel to bring tranquil\, accessible classes to her students. She has a deep respect for the art and history of East Asia and strives to bring some of these traditions to her own teaching practice. She teaches watercolor to regional youth and adults alike.
URL:https://jacksonvillecommunitycenter.org/event/12-2-watercolor-class-christmas-cards-with-carole/
LOCATION:Jacksonville Community Center\, 160 E Main St\, Jacksonville\, OR\, 97530\, United States
CATEGORIES:Sponsored (SP)
ATTACH;FMTTYPE=image/jpeg:https://jacksonvillecommunitycenter.org/wp-content/uploads/2025/11/Arts-Crafts-11.jpg
END:VEVENT
BEGIN:VEVENT
DTSTART;TZID=America/Los_Angeles:20251203T080000
DTEND;TZID=America/Los_Angeles:20251203T090000
DTSTAMP:20260423T042311
CREATED:20251124T175305Z
LAST-MODIFIED:20251124T175305Z
UID:10002798-1764748800-1764752400@jacksonvillecommunitycenter.org
SUMMARY:12/3 Strength Training with Mikinzie
DESCRIPTION:Naturopath physician Mikinzie Smoot will lead adults in strength-building exercises – incorporating weights\, weight bars and step platforms. Book directly with instructor for this unsponsored one-hour class – offered weekly on Wednesday at 8-9am and Fridays 8:15-9:15am. For registration and payment: https://www.jvillefitness.com \nFor information call: 541-621-1883 or email: drsmootmedspa@gmail.com
URL:https://jacksonvillecommunitycenter.org/event/12-3-strength-training-with-mikinzie/
LOCATION:Jacksonville Community Center\, 160 E Main St\, Jacksonville\, OR\, 97530\, United States
CATEGORIES:Unsponsored (USP)
ATTACH;FMTTYPE=image/jpeg:https://jacksonvillecommunitycenter.org/wp-content/uploads/2024/11/dr-smoot-small-copystanding20240124_082251-e1757006277598.jpg
END:VEVENT
BEGIN:VEVENT
DTSTART;TZID=America/Los_Angeles:20251203T093000
DTEND;TZID=America/Los_Angeles:20251203T101500
DTSTAMP:20260423T042311
CREATED:20251124T173949Z
LAST-MODIFIED:20251124T174129Z
UID:10002791-1764754200-1764756900@jacksonvillecommunitycenter.org
SUMMARY:12/03/2025 Chair Yoga with Lori Sours
DESCRIPTION:This chair-based yoga class incorporates movement\, poses\, breath\, and guided relaxation in both seated and (optional) standing sequences. We move slowly and mindfully\, with plenty of opportunity to pause and notice. The classes are designed using the principles of yoga for healthy aging to support brain and body wellness. \nGO TO: https://www.consideryoga.com/chair-yoga.html to register and pay. \nInstructor Bio: Lori Sours\, PhD\, has been teaching yoga since 2014 and is a Registered Yoga Teacher at the 500-hour level with Yoga Alliance. Beyond Lori’s certification work\, her specialized training includes teaching yoga for healthy aging and chair yoga for brain and body health. She is passionate about introducing the benefits of slow\, mindful yoga\, including chair yoga\, to people who want to feel their best every day and age wisely.
URL:https://jacksonvillecommunitycenter.org/event/12-03-2025-chair-yoga-with-lori-sours-2/
LOCATION:Jacksonville Community Center\, 160 E Main St\, Jacksonville\, OR\, 97530\, United States
CATEGORIES:Unsponsored (USP)
ATTACH;FMTTYPE=image/jpeg:https://jacksonvillecommunitycenter.org/wp-content/uploads/2024/03/Lori-Sours-Chair-Yoga-2024-e1718641899873.jpg
END:VEVENT
BEGIN:VEVENT
DTSTART;TZID=America/Los_Angeles:20251203T110000
DTEND;TZID=America/Los_Angeles:20251203T120000
DTSTAMP:20260423T042311
CREATED:20251124T180227Z
LAST-MODIFIED:20251124T180227Z
UID:10002804-1764759600-1764763200@jacksonvillecommunitycenter.org
SUMMARY:12/3 Music Time for Littles - with Miss Laurie
DESCRIPTION:Music Time for Littles – with Ms. Laurie\nAges: 0-5 with accompanying adult Cost: $5 per child\nDiscover the joy of music in this engaging class designed for children 0-5 and their caregivers. This class combines singing\, rhythm\, movement and sign language. Get ready to sing beloved songs from around the world\, and make music together in this weekly class! Sponsored by Jackson Care Connect. \nInstructor Bio: Laurie Finear has been a music teacher in the Rogue Valley for over 15 years as a certified Music Together teacher. She now creates and teaches her own music classes for children and their caregivers in Ashland and Jacksonville. She is passionate about sharing the joy of music with children and families.
URL:https://jacksonvillecommunitycenter.org/event/12-03-25-music-time-for-littles-with-miss-laurie-2/
LOCATION:Jacksonville Community Center\, 160 E Main St\, Jacksonville\, OR\, 97530\, United States
CATEGORIES:Sponsored (SP)
ATTACH;FMTTYPE=image/jpeg:https://jacksonvillecommunitycenter.org/wp-content/uploads/2025/07/Preschool-Music-4-e1756311939139.jpg
END:VEVENT
BEGIN:VEVENT
DTSTART;TZID=America/Los_Angeles:20251203T140000
DTEND;TZID=America/Los_Angeles:20251203T160000
DTSTAMP:20260423T042311
CREATED:20251119T192545Z
LAST-MODIFIED:20251119T192545Z
UID:10002787-1764770400-1764777600@jacksonvillecommunitycenter.org
SUMMARY:12/3 'UGLY' Holiday Sweater DECO Party
DESCRIPTION:Lets get festive by decorating your own sweater or sweatshirt from home. The JCC will provide decorating\nmaterials. You bring the clothing! All ages\, Parent required Cost: $5 (Bring your own sweater\, t-shirt\, sweatshirt) PRE-REGISTRATIONS encouraged. Walk-ins as supplies allow! \nChoose to walk with JCC’s team wearing your creation in the Christmas Parade on Dec 6. Talk to Sarah\nif you are interested in signing up to walk in the parade. \nInstructor Bio: Sarah Greco is the Youth and Family Programs Coordinator at the JCC and a Jacksonville\nmom. With a background in early childhood education and developmental psychology\, she is passionate\nabout protecting and celebrating childhood\, and supporting parents in our community.
URL:https://jacksonvillecommunitycenter.org/event/12-3-ugly-holiday-sweater-deco-party/
LOCATION:Jacksonville Community Center\, 160 E Main St\, Jacksonville\, OR\, 97530\, United States
CATEGORIES:Sponsored (SP)
ATTACH;FMTTYPE=image/jpeg:https://jacksonvillecommunitycenter.org/wp-content/uploads/2025/11/Arts-Crafts-12.jpg
END:VEVENT
BEGIN:VEVENT
DTSTART;TZID=America/Los_Angeles:20251203T173000
DTEND;TZID=America/Los_Angeles:20251203T190000
DTSTAMP:20260423T042311
CREATED:20251119T180528Z
LAST-MODIFIED:20251121T195323Z
UID:10002786-1764783000-1764788400@jacksonvillecommunitycenter.org
SUMMARY:12/3 Mystery Authors Panel: Mystery Writing 101 & Publishing Insights
DESCRIPTION:FREE! Enjoy insights from several published mystery writers from Southern Oregon at this moderated panel discussion. Learn about mystery-writing and avenues for publication. Whether you are a beginning writer or just curious about the genre\, here’s your chance to learn from the experts! Bring your questions. Check out their latest books. \nPresenter BIOS: \nModerator:  \nPAMELA DEHNKE grew up in Santa Monica\, California\, which is the setting for her COURT REPORTER MYSTERY SERIES. She enjoyed a career as a court reporter in the Los Angeles and San Francisco\nBay areas. Upon retiring in 2014\, she began her new career as a novelist – with seven novels already in publication. \nPanelists: \nWILL ASTRIKE is an award winning author of Western Historical Fiction. He has written ten novels including the Saga of AMOS GETTING\, winner of the International Impact Award for Historical Fiction in 2024. His eighth novel\, RUSTLING\, won the American Writing Silver Award for Historical Fiction also in 2024. His first and second novels\, THE KNACK and The SKILLS of EZRA LACEY\, received Honorable Mention in the Chanticleer Laramie Awards for Western Fiction in 2021. \nCLIVE ROSENGREN is a “recovering” actor\, whose career spanned more than forty years\, eighteen of them pounding many of the same Hollywood streets as his fictional private eye\, Eddie Collins. Movie credits include Ed Wood\, Soapdish\, Cobb and Bugsy. Among numerous television credits are “Seinfeld\,” “Home Improvement” and “Cheers\,” where he played the only character to throw Sam Malone out of his own bar. Rosengren has written six books in the EDDIE COLLINS SERIES.  Three of the six have been short-listed for the Shamus Award from the Private Eye Writers of America. \nGLENN J. HILL is the author of the Ghostly Ashland Shakespeare Mystery series\, blending classic whodunits with a touch of the supernatural and a whole lot of theatrical charm. A lifelong lover of history\, Shakespeare\, small-town quirks\, and stories where every shadow hides a secret. Glenn sets his mysteries in Ashland\, Oregon—a place where drama thrives both on and off the stage. With a background in storytelling\, musical instrument building\, and visual design\, Glenn brings a unique eye to his writing\, crafting tales that are as atmospheric as they are suspenseful. You can find him enjoying life outside of Ashland\, Oregon\, with his wife Laurie and their spirited dog Mitzi. \nLYNN RANSFORD was born in Los Angeles\, California and moved with her family from the city to a chicken farm in the San Fernando Valley\, where she grew up surrounded by a variety of animals.  Lynn has a Master’s degree in Education\, three lifetime credentials and is an Early Childhood Specialist.  Lynn co-writes the scripts for her docent work at the Historic Beekman House in Jacksonville\, Oregon\, and for Living History programs offered at historic cemeteries in both Ashland and Jacksonville. Now a retired teacher after 50 years in pre-school through University/Graduate level classrooms\, Lynn writes the GRANDMA TELL ME A STORY series. \n 
URL:https://jacksonvillecommunitycenter.org/event/12-3-mystery-authors-panel-mystery-writing-101-publishing-insights/
LOCATION:Jacksonville Community Center\, 160 E Main St\, Jacksonville\, OR\, 97530\, United States
CATEGORIES:Sponsored (SP)
ATTACH;FMTTYPE=image/jpeg:https://jacksonvillecommunitycenter.org/wp-content/uploads/2025/11/Mystery-panel-SM-2.jpg
END:VEVENT
BEGIN:VEVENT
DTSTART;TZID=America/Los_Angeles:20251204T090000
DTEND;TZID=America/Los_Angeles:20251204T101500
DTSTAMP:20260423T042311
CREATED:20251110T171924Z
LAST-MODIFIED:20251124T173631Z
UID:10002778-1764838800-1764843300@jacksonvillecommunitycenter.org
SUMMARY:12/04/25 Intermediate Tai Chi and Qi Gong
DESCRIPTION:Experienced students are the focus of this ongoing class but beginners may join after contacting the instructor. Tai Chi and Qi Gong are calming practices that incorporate slow movement\, breathwork\, visualization\, and meditation. Consistent practice fosters improved balance\, body alignment\, coordination\, and overall sense of well-being. Tai Chi students will also practice the Qi Gong.  To determine if you are ready for this level placement\, please contact instructor Carolyn Wolf prior to attending at carwolf@sonic.net.\nCarolyn’s Bio: “I have been a certified Tai Chi Practice Leader (from the Institute of Integral Qi Gong and Tai Chi) since 2015 and have been leading classes locally since then. I enjoy sharing all the practice has to offer; relaxation\, increased body awareness\, improved balance\, meditation techniques\, and overall improved well-being.”
URL:https://jacksonvillecommunitycenter.org/event/12-04-25-intermediate-tai-chi-and-qi-gong-2/
LOCATION:Jacksonville Community Center\, 160 E Main St\, Jacksonville\, OR\, 97530\, United States
CATEGORIES:Sponsored (SP)
ATTACH;FMTTYPE=image/jpeg:https://jacksonvillecommunitycenter.org/wp-content/uploads/2023/12/Tai-Chi-image-e1718642785519.jpg
END:VEVENT
BEGIN:VEVENT
DTSTART;TZID=America/Los_Angeles:20251205T081500
DTEND;TZID=America/Los_Angeles:20251205T091500
DTSTAMP:20260423T042311
CREATED:20251124T175747Z
LAST-MODIFIED:20251124T175747Z
UID:10002801-1764922500-1764926100@jacksonvillecommunitycenter.org
SUMMARY:12/5 Strength Training with Mikinzie
DESCRIPTION:Naturopath physician Mikinzie Smoot will lead adults in strength-building exercises – incorporating weights\, weight bars and step platforms. Book directly with instructor for this unsponsored one-hour class – offered weekly on Wednesday at 8-9am and Fridays 8:15-9:15am. For registration and payment: https://www.jvillefitness.com \nFor information call: 541-621-1883 or email: drsmootmedspa@gmail.com
URL:https://jacksonvillecommunitycenter.org/event/12-05-strength-training-with-mikinzie-21/
LOCATION:Jacksonville Community Center\, 160 E Main St\, Jacksonville\, OR\, 97530\, United States
CATEGORIES:Unsponsored (USP)
ATTACH;FMTTYPE=image/jpeg:https://jacksonvillecommunitycenter.org/wp-content/uploads/2024/11/dr-smoot-small-copystanding20240124_082251-e1757006277598.jpg
END:VEVENT
BEGIN:VEVENT
DTSTART;TZID=America/Los_Angeles:20251205T103000
DTEND;TZID=America/Los_Angeles:20251205T113000
DTSTAMP:20260423T042311
CREATED:20251124T181946Z
LAST-MODIFIED:20251124T181946Z
UID:10002813-1764930600-1764934200@jacksonvillecommunitycenter.org
SUMMARY:12/5 Beginning Yoga with Lori
DESCRIPTION:Join Lori Grable for a Beginning Yoga class! This class is open to anyone who is interested in trying out yoga for the first time or wants a refresher yoga class after a layoff. Come with comfortable clothes\, a yoga mat and water bottle. \nNew students can arrive at 10:15. \nLori began her yoga journey in 2000 as a student at the Santa Barbara Yoga Center. She was drawn to the practice because it helped her to reconnect with her most authentic self while making her stronger and more open\, physically and mentally. Her passion for yoga grew stronger as she traveled around the United States during the summer of 2003\, practicing at many studios along the way. After settling in Pittsburgh\, PA\, she completed her teacher training and began teaching in 2006. \nToday\, Lori is an E-RYT 500 and teaches Vinyasa-based classes. She is influenced by the philosophy and alignment principles of Anusara Yoga. As a triathlete\, Lori has an interest in yoga for athletes and has taught many workshops on the topic. She has a passion for the outdoors and has taught yoga in parks\, vineyards\, and backyards. Lori appreciates the healing and restorative qualities of yoga and has also worked with students who are recovering from illness\, rehabilitating injuries\, pregnant\, or elderly.
URL:https://jacksonvillecommunitycenter.org/event/12-05-beginning-yoga-with-lori-2/
LOCATION:Jacksonville Community Center\, 160 E Main St\, Jacksonville\, OR\, 97530\, United States
CATEGORIES:Sponsored (SP)
ATTACH;FMTTYPE=image/png:https://jacksonvillecommunitycenter.org/wp-content/uploads/2022/10/yoga.png
END:VEVENT
BEGIN:VEVENT
DTSTART;TZID=America/Los_Angeles:20251206T090000
DTEND;TZID=America/Los_Angeles:20251206T110000
DTSTAMP:20260423T042311
CREATED:20251122T001235Z
LAST-MODIFIED:20251122T001235Z
UID:10002788-1765011600-1765018800@jacksonvillecommunitycenter.org
SUMMARY:Jacksonville Holiday Parade Walk with JCC
DESCRIPTION:FREE! Join the team at JCC to walk in the Jacksonville Parade. Dress is holiday attire or UGLY sweaters! Gather at JCC for warmth\, cocoa and cookies. Walk through town sharing JCC pride! FUN for the whole family. Children must be accompanied by adults. Walk-ins welcome. No need to pre-register.
URL:https://jacksonvillecommunitycenter.org/event/jacksonville-holiday-parade-walk-with-jcc/
LOCATION:Jacksonville Community Center\, 160 E Main St\, Jacksonville\, OR\, 97530\, United States
ATTACH;FMTTYPE=image/jpeg:https://jacksonvillecommunitycenter.org/wp-content/uploads/2025/11/Arts-Crafts-17.jpg
END:VEVENT
END:VCALENDAR