BEGIN:VCALENDAR
VERSION:2.0
PRODID:-//Jacksonville Community Center-Programs, Small Wedding Site and Meeting Room Rental - ECPv6.15.20//NONSGML v1.0//EN
CALSCALE:GREGORIAN
METHOD:PUBLISH
X-WR-CALNAME:Jacksonville Community Center-Programs, Small Wedding Site and Meeting Room Rental
X-ORIGINAL-URL:https://jacksonvillecommunitycenter.org
X-WR-CALDESC:Events for Jacksonville Community Center-Programs, Small Wedding Site and Meeting Room Rental
REFRESH-INTERVAL;VALUE=DURATION:PT1H
X-Robots-Tag:noindex
X-PUBLISHED-TTL:PT1H
BEGIN:VTIMEZONE
TZID:America/Los_Angeles
BEGIN:DAYLIGHT
TZOFFSETFROM:-0800
TZOFFSETTO:-0700
TZNAME:PDT
DTSTART:20240310T100000
END:DAYLIGHT
BEGIN:STANDARD
TZOFFSETFROM:-0700
TZOFFSETTO:-0800
TZNAME:PST
DTSTART:20241103T090000
END:STANDARD
BEGIN:DAYLIGHT
TZOFFSETFROM:-0800
TZOFFSETTO:-0700
TZNAME:PDT
DTSTART:20250309T100000
END:DAYLIGHT
BEGIN:STANDARD
TZOFFSETFROM:-0700
TZOFFSETTO:-0800
TZNAME:PST
DTSTART:20251102T090000
END:STANDARD
BEGIN:DAYLIGHT
TZOFFSETFROM:-0800
TZOFFSETTO:-0700
TZNAME:PDT
DTSTART:20260308T100000
END:DAYLIGHT
BEGIN:STANDARD
TZOFFSETFROM:-0700
TZOFFSETTO:-0800
TZNAME:PST
DTSTART:20261101T090000
END:STANDARD
END:VTIMEZONE
BEGIN:VEVENT
DTSTART;TZID=America/Los_Angeles:20251020T174500
DTEND;TZID=America/Los_Angeles:20251020T190000
DTSTAMP:20260424T082356
CREATED:20250917T171347Z
LAST-MODIFIED:20250917T171347Z
UID:10002695-1760982300-1760986800@jacksonvillecommunitycenter.org
SUMMARY:10/20/25 Flow Yoga with Lori - Unsponsored
DESCRIPTION:A thoughtfully designed Flow Yoga focusing on breath & alignment. Options given to accommodate All Levels – As an unsponsored program\, students are asked to sign up and pay for classes through Lori’s website at: https://lorigrableyoga.com/
URL:https://jacksonvillecommunitycenter.org/event/10-20-25-flow-yoga-with-lori-unsponsored/
LOCATION:Jacksonville Community Center\, 160 E Main St\, Jacksonville\, OR\, 97530\, United States
CATEGORIES:Unsponsored (USP)
ATTACH;FMTTYPE=image/png:https://jacksonvillecommunitycenter.org/wp-content/uploads/2022/02/indoor-yoga.png
END:VEVENT
BEGIN:VEVENT
DTSTART;TZID=America/Los_Angeles:20251021T081500
DTEND;TZID=America/Los_Angeles:20251021T091500
DTSTAMP:20260424T082356
CREATED:20251023T211900Z
LAST-MODIFIED:20251023T211900Z
UID:10002768-1761034500-1761038100@jacksonvillecommunitycenter.org
SUMMARY:Step Strength Aerobic Training with Mikinzie
DESCRIPTION:Naturopath physician Mikinzie Smoot will lead adults in strength-building exercises – incorporating aerobics and step platforms. Book directly with instructor for this unsponsored one-hour class – 8:15-9:15am. For registration and payment: https://www.jvillefitness.com \nFor information call: 541-621-1883 or email: drsmootmedspa@gmail.com
URL:https://jacksonvillecommunitycenter.org/event/step-strength-aerobic-training-with-mikinzie/
LOCATION:OR
CATEGORIES:Unsponsored (USP)
ATTACH;FMTTYPE=image/jpeg:https://jacksonvillecommunitycenter.org/wp-content/uploads/2024/11/dr-smoot-small-copystanding20240124_082251-e1757006277598.jpg
END:VEVENT
BEGIN:VEVENT
DTSTART;TZID=America/Los_Angeles:20251021T143000
DTEND;TZID=America/Los_Angeles:20251021T160000
DTSTAMP:20260424T082356
CREATED:20250922T224344Z
LAST-MODIFIED:20250922T230034Z
UID:10002729-1761057000-1761062400@jacksonvillecommunitycenter.org
SUMMARY:10/21/25 Conversation on Palliative Care with Dr. Sand
DESCRIPTION:Navigating health care can be challenging especially when coping with a serious illness. Join in this FREE presentation if you\, a loved one or friend are experiencing a serious illness that is getting worse with everything that entails\, consider joining us on October 21st for a “Conversation on Palliative Care.” Learn about palliative care\, its role in today’s medical care\, how it is provided\, and what it can mean for people who are suffering. WALK-INS WELCOME! \nPresenter Bio: Dr. Ron Sand lives in Jacksonville\, close to his grandchildren. For the past 20 years\, he has worked in the field of palliative care and hospice as a physician and medical educator. His current role finds him providing palliative medical care in collaboration with a community-based palliative care service in rural counties of northern California.
URL:https://jacksonvillecommunitycenter.org/event/conversation-palliative-care-with-dr-sand/
LOCATION:Jacksonville Community Center\, 160 E Main St\, Jacksonville\, OR\, 97530\, United States
CATEGORIES:Sponsored (SP)
ATTACH;FMTTYPE=image/jpeg:https://jacksonvillecommunitycenter.org/wp-content/uploads/2025/09/yoga-6-e1758582014146.jpg
END:VEVENT
BEGIN:VEVENT
DTSTART;TZID=America/Los_Angeles:20251022T080000
DTEND;TZID=America/Los_Angeles:20251022T090000
DTSTAMP:20260424T082356
CREATED:20251002T181845Z
LAST-MODIFIED:20251002T181958Z
UID:10002735-1761120000-1761123600@jacksonvillecommunitycenter.org
SUMMARY:Strength Training with Mikinzie
DESCRIPTION:Naturopath physician Mikinzie Smoot will lead adults in strength-building exercises – incorporating weights\, weight bars and step platforms. Book directly with instructor for this unsponsored one-hour class – offered weekly on Wednesday at 8-9am and Fridays 8:15-9:15am. For registration and payment: https://www.jvillefitness.com \nFor information call: 541-621-1883 or email: drsmootmedspa@gmail.com
URL:https://jacksonvillecommunitycenter.org/event/strength-training-with-mikinzie-10-22/
LOCATION:Jacksonville Community Center\, 160 E Main St\, Jacksonville\, OR\, 97530\, United States
CATEGORIES:Unsponsored (USP)
ATTACH;FMTTYPE=image/jpeg:https://jacksonvillecommunitycenter.org/wp-content/uploads/2024/11/dr-smoot-small-copystanding20240124_082251-e1757006277598.jpg
END:VEVENT
BEGIN:VEVENT
DTSTART;TZID=America/Los_Angeles:20251022T093000
DTEND;TZID=America/Los_Angeles:20251022T101500
DTSTAMP:20260424T082356
CREATED:20250920T045004Z
LAST-MODIFIED:20250920T045004Z
UID:10002711-1761125400-1761128100@jacksonvillecommunitycenter.org
SUMMARY:10/22/2025 Chair Yoga with Lori Sours
DESCRIPTION:This chair-based yoga class incorporates movement\, poses\, breath\, and guided relaxation in both seated and (optional) standing sequences. We move slowly and mindfully\, with plenty of opportunity to pause and notice. The classes are designed using the principles of yoga for healthy aging to support brain and body wellness. \nGO TO: https://www.consideryoga.com/chair-yoga.html to register and pay. \nInstructor Bio: Lori Sours\, PhD\, has been teaching yoga since 2014 and is a Registered Yoga Teacher at the 500-hour level with Yoga Alliance. Beyond Lori’s certification work\, her specialized training includes teaching yoga for healthy aging and chair yoga for brain and body health. She is passionate about introducing the benefits of slow\, mindful yoga\, including chair yoga\, to people who want to feel their best every day and age wisely.
URL:https://jacksonvillecommunitycenter.org/event/10-22-2025-chair-yoga-with-lori-sours-2/
LOCATION:Jacksonville Community Center\, 160 E Main St\, Jacksonville\, OR\, 97530\, United States
CATEGORIES:Unsponsored (USP)
ATTACH;FMTTYPE=image/jpeg:https://jacksonvillecommunitycenter.org/wp-content/uploads/2024/03/Lori-Sours-Chair-Yoga-2024-e1718641899873.jpg
END:VEVENT
BEGIN:VEVENT
DTSTART;TZID=America/Los_Angeles:20251022T110000
DTEND;TZID=America/Los_Angeles:20251022T120000
DTSTAMP:20260424T082356
CREATED:20250915T184543Z
LAST-MODIFIED:20250915T184724Z
UID:10002689-1761130800-1761134400@jacksonvillecommunitycenter.org
SUMMARY:10/22/25 Music Time for Littles - with Miss Laurie
DESCRIPTION:Music Time for Littles – with Ms. Laurie\nDate: Wednesday\, Oct. 22 11:00 am-12:00 pm\nAges: 0-5 with accompanying adult Cost: $5 per child\nDiscover the joy of music in this engaging class designed for children 0-5 and their caregivers. This class combines singing\, rhythm\, movement and sign language. Get ready to sing beloved songs from around the world\, and make music together in this weekly class! Sponsored by Jackson Care Connect. \nInstructor Bio: Laurie Finear has been a music teacher in the Rogue Valley for over 15 years as a certified Music Together teacher. She now creates and teaches her own music classes for children and their caregivers in Ashland and Jacksonville. She is passionate about sharing the joy of music with children and families.
URL:https://jacksonvillecommunitycenter.org/event/10-22-25-music-time-for-littles-with-miss-laurie/
LOCATION:Jacksonville Community Center\, 160 E Main St\, Jacksonville\, OR\, 97530\, United States
CATEGORIES:Sponsored (SP)
ATTACH;FMTTYPE=image/jpeg:https://jacksonvillecommunitycenter.org/wp-content/uploads/2025/07/Preschool-Music-4-e1756311939139.jpg
END:VEVENT
BEGIN:VEVENT
DTSTART;TZID=America/Los_Angeles:20251022T140000
DTEND;TZID=America/Los_Angeles:20251022T150000
DTSTAMP:20260424T082356
CREATED:20250922T234805Z
LAST-MODIFIED:20250923T152439Z
UID:10002734-1761141600-1761145200@jacksonvillecommunitycenter.org
SUMMARY:10/22/25 Kids in the Kitchen: Spooky Treats
DESCRIPTION:Turn a few simple ingredients into party worthy treats. Create spooky ghosts and silly monsters using cookies\, pretzels\, melted chocolate and colorful candies.\n \nInstructor Bio: Sarah Greco is the Youth and Family Programs Coordinator at the JCC and a Jacksonville mom. With a background in early childhood education and developmental psychology\, she is passionate\nabout protecting and celebrating childhood\, and supporting parents in our community. \nAges 6-12 Cost: $10 (Parents may drop off or participate for free) \n 
URL:https://jacksonvillecommunitycenter.org/event/10-22-kids-in-the-kitchen-spooky-treats/
LOCATION:Jacksonville Community Center\, 160 E Main St\, Jacksonville\, OR\, 97530\, United States
CATEGORIES:Sponsored (SP)
ATTACH;FMTTYPE=image/jpeg:https://jacksonvillecommunitycenter.org/wp-content/uploads/2025/09/Kids-in-the-Kitchen-11-e1758641067272.jpg
END:VEVENT
BEGIN:VEVENT
DTSTART;TZID=America/Los_Angeles:20251023T090000
DTEND;TZID=America/Los_Angeles:20251023T101500
DTSTAMP:20260424T082356
CREATED:20250920T042947Z
LAST-MODIFIED:20250920T043247Z
UID:10002698-1761210000-1761214500@jacksonvillecommunitycenter.org
SUMMARY:10/23/25 Intermediate Tai Chi and Qi Gong
DESCRIPTION:Experienced students are the focus of this ongoing class but beginners may join after contacting the instructor. Tai Chi and Qi Gong are calming practices that incorporate slow movement\, breathwork\, visualization\, and meditation. Consistent practice fosters improved balance\, body alignment\, coordination\, and overall sense of well-being. Tai Chi students will also practice the Qi Gong.  To determine if you are ready for this level placement\, please contact instructor Carolyn Wolf prior to attending at carwolf@sonic.net.\nCarolyn’s Bio: “I have been a certified Tai Chi Practice Leader (from the Institute of Integral Qi Gong and Tai Chi) since 2015 and have been leading classes locally since then. I enjoy sharing all the practice has to offer; relaxation\, increased body awareness\, improved balance\, meditation techniques\, and overall improved well-being.”
URL:https://jacksonvillecommunitycenter.org/event/10-23-25-intermediate-tai-chi-and-qi-gong-2/
LOCATION:Jacksonville Community Center\, 160 E Main St\, Jacksonville\, OR\, 97530\, United States
CATEGORIES:Sponsored (SP)
ATTACH;FMTTYPE=image/jpeg:https://jacksonvillecommunitycenter.org/wp-content/uploads/2023/12/Tai-Chi-image-e1718642785519.jpg
END:VEVENT
BEGIN:VEVENT
DTSTART;TZID=America/Los_Angeles:20251024T081500
DTEND;TZID=America/Los_Angeles:20251024T091500
DTSTAMP:20260424T082356
CREATED:20251002T181940Z
LAST-MODIFIED:20251002T181940Z
UID:10002736-1761293700-1761297300@jacksonvillecommunitycenter.org
SUMMARY:Strength Training with Mikinzie
DESCRIPTION:Naturopath physician Mikinzie Smoot will lead adults in strength-building exercises – incorporating weights\, weight bars and step platforms. Book directly with instructor for this unsponsored one-hour class – offered weekly on Wednesday at 8-9am and Fridays 8:15-9:15am. For registration and payment: https://www.jvillefitness.com \nFor information call: 541-621-1883 or email: drsmootmedspa@gmail.com
URL:https://jacksonvillecommunitycenter.org/event/strength-training-with-mikinzie-10-24/
LOCATION:Jacksonville Community Center\, 160 E Main St\, Jacksonville\, OR\, 97530\, United States
CATEGORIES:Unsponsored (USP)
ATTACH;FMTTYPE=image/jpeg:https://jacksonvillecommunitycenter.org/wp-content/uploads/2024/11/dr-smoot-small-copystanding20240124_082251-e1757006277598.jpg
END:VEVENT
BEGIN:VEVENT
DTSTART;TZID=America/Los_Angeles:20251024T103000
DTEND;TZID=America/Los_Angeles:20251024T113000
DTSTAMP:20260424T082356
CREATED:20250920T045814Z
LAST-MODIFIED:20250920T045814Z
UID:10002716-1761301800-1761305400@jacksonvillecommunitycenter.org
SUMMARY:10/24/25 Beginning Yoga with Lori
DESCRIPTION:Join Lori Grable for a Beginning Yoga class! This class is open to anyone who is interested in trying out yoga for the first time or wants a refresher yoga class after a layoff. Come with comfortable clothes\, a yoga mat and water bottle. \nNew students can arrive at 10:15. \nLori began her yoga journey in 2000 as a student at the Santa Barbara Yoga Center. She was drawn to the practice because it helped her to reconnect with her most authentic self while making her stronger and more open\, physically and mentally. Her passion for yoga grew stronger as she traveled around the United States during the summer of 2003\, practicing at many studios along the way. After settling in Pittsburgh\, PA\, she completed her teacher training and began teaching in 2006. \nToday\, Lori is an E-RYT 500 and teaches Vinyasa-based classes. She is influenced by the philosophy and alignment principles of Anusara Yoga. As a triathlete\, Lori has an interest in yoga for athletes and has taught many workshops on the topic. She has a passion for the outdoors and has taught yoga in parks\, vineyards\, and backyards. Lori appreciates the healing and restorative qualities of yoga and has also worked with students who are recovering from illness\, rehabilitating injuries\, pregnant\, or elderly.
URL:https://jacksonvillecommunitycenter.org/event/10-24-25-beginning-yoga-with-lori/
LOCATION:Jacksonville Community Center\, 160 E Main St\, Jacksonville\, OR\, 97530\, United States
CATEGORIES:Sponsored (SP)
ATTACH;FMTTYPE=image/png:https://jacksonvillecommunitycenter.org/wp-content/uploads/2022/10/yoga.png
END:VEVENT
END:VCALENDAR