BEGIN:VCALENDAR
VERSION:2.0
PRODID:-//Jacksonville Community Center-Programs, Small Wedding Site and Meeting Room Rental - ECPv6.15.20//NONSGML v1.0//EN
CALSCALE:GREGORIAN
METHOD:PUBLISH
X-WR-CALNAME:Jacksonville Community Center-Programs, Small Wedding Site and Meeting Room Rental
X-ORIGINAL-URL:https://jacksonvillecommunitycenter.org
X-WR-CALDESC:Events for Jacksonville Community Center-Programs, Small Wedding Site and Meeting Room Rental
REFRESH-INTERVAL;VALUE=DURATION:PT1H
X-Robots-Tag:noindex
X-PUBLISHED-TTL:PT1H
BEGIN:VTIMEZONE
TZID:America/Los_Angeles
BEGIN:DAYLIGHT
TZOFFSETFROM:-0800
TZOFFSETTO:-0700
TZNAME:PDT
DTSTART:20240310T100000
END:DAYLIGHT
BEGIN:STANDARD
TZOFFSETFROM:-0700
TZOFFSETTO:-0800
TZNAME:PST
DTSTART:20241103T090000
END:STANDARD
BEGIN:DAYLIGHT
TZOFFSETFROM:-0800
TZOFFSETTO:-0700
TZNAME:PDT
DTSTART:20250309T100000
END:DAYLIGHT
BEGIN:STANDARD
TZOFFSETFROM:-0700
TZOFFSETTO:-0800
TZNAME:PST
DTSTART:20251102T090000
END:STANDARD
BEGIN:DAYLIGHT
TZOFFSETFROM:-0800
TZOFFSETTO:-0700
TZNAME:PDT
DTSTART:20260308T100000
END:DAYLIGHT
BEGIN:STANDARD
TZOFFSETFROM:-0700
TZOFFSETTO:-0800
TZNAME:PST
DTSTART:20261101T090000
END:STANDARD
END:VTIMEZONE
BEGIN:VEVENT
DTSTART;TZID=America/Los_Angeles:20251012T150000
DTEND;TZID=America/Los_Angeles:20251012T163000
DTSTAMP:20260424T082336
CREATED:20250922T222451Z
LAST-MODIFIED:20250922T222451Z
UID:10002727-1760281200-1760286600@jacksonvillecommunitycenter.org
SUMMARY:10/12/25 Yoga Nidra Sound Healing with Claudia
DESCRIPTION:Claudia Ingraham will facilitate the Yoga Nidra (meditation) while gently playing crystal bowls\, Tibetan ringing bowls and Koshi chimes in the background – finishing with a clearing gong bath to wash away what no longer serves you. Bring a mat\, pillow and water bottle\n \nThe state of Yoga Nidra occurs when you can remain conscious during the deep sleep state. Yoga Nidra switches you out of fight or flight and into the relaxation response – you body’s natural healing state — where revitalization and regeneration naturally occur. Bring mats\, pillows and blankets for your comfort on the carpet or in chairs as preferred. Experience deep serenity and relaxation in this interactive experience.
URL:https://jacksonvillecommunitycenter.org/event/10-12-25-yoga-nidra-sound-bath-with-claudia-2/
LOCATION:Jacksonville Community Center\, 160 E Main St\, Jacksonville\, OR\, 97530\, United States
CATEGORIES:Sponsored (SP)
ATTACH;FMTTYPE=image/jpeg:https://jacksonvillecommunitycenter.org/wp-content/uploads/2025/04/Yoga-Nidra-Sound-Bath-1-1.jpeg
END:VEVENT
BEGIN:VEVENT
DTSTART;TZID=America/Los_Angeles:20251013T174500
DTEND;TZID=America/Los_Angeles:20251013T190000
DTSTAMP:20260424T082336
CREATED:20250917T171311Z
LAST-MODIFIED:20250917T171311Z
UID:10002694-1760377500-1760382000@jacksonvillecommunitycenter.org
SUMMARY:10/13/25 Flow Yoga with Lori - Unsponsored
DESCRIPTION:A thoughtfully designed Flow Yoga focusing on breath & alignment. Options given to accommodate All Levels – As an unsponsored program\, students are asked to sign up and pay for classes through Lori’s website at: https://lorigrableyoga.com/
URL:https://jacksonvillecommunitycenter.org/event/10-13-25-flow-yoga-with-lori-unsponsored-2/
LOCATION:Jacksonville Community Center\, 160 E Main St\, Jacksonville\, OR\, 97530\, United States
CATEGORIES:Unsponsored (USP)
ATTACH;FMTTYPE=image/png:https://jacksonvillecommunitycenter.org/wp-content/uploads/2022/02/indoor-yoga.png
END:VEVENT
BEGIN:VEVENT
DTSTART;TZID=America/Los_Angeles:20251014T081500
DTEND;TZID=America/Los_Angeles:20251014T091500
DTSTAMP:20260424T082336
CREATED:20250920T050634Z
LAST-MODIFIED:20251002T163705Z
UID:10002723-1760429700-1760433300@jacksonvillecommunitycenter.org
SUMMARY:Step Aerobic Training with Mikinzie
DESCRIPTION:Naturopath physician Mikinzie Smoot will lead adults in strength-building exercises – incorporating aerobics and step platforms. Book directly with instructor for this unsponsored one-hour class – 8:15-9:15am. For registration and payment: https://www.jvillefitness.com \nFor information call: 541-621-1883 or email: drsmootmedspa@gmail.com
URL:https://jacksonvillecommunitycenter.org/event/step-aerobic-training-with-mikinzie-10-14/
LOCATION:OR
CATEGORIES:Unsponsored (USP)
ATTACH;FMTTYPE=image/jpeg:https://jacksonvillecommunitycenter.org/wp-content/uploads/2024/11/dr-smoot-small-copystanding20240124_082251-e1757006277598.jpg
END:VEVENT
BEGIN:VEVENT
DTSTART;TZID=America/Los_Angeles:20251015T080000
DTEND;TZID=America/Los_Angeles:20251015T090000
DTSTAMP:20260424T082336
CREATED:20250920T044305Z
LAST-MODIFIED:20250920T044305Z
UID:10002703-1760515200-1760518800@jacksonvillecommunitycenter.org
SUMMARY:Strength Training with Mikinzie
DESCRIPTION:Naturopath physician Mikinzie Smoot will lead adults in strength-building exercises – incorporating weights\, weight bars and step platforms. Book directly with instructor for this unsponsored one-hour class – offered weekly on Wednesday at 8-9am and Fridays 8:15-9:15am. For registration and payment: https://www.jvillefitness.com \nFor information call: 541-621-1883 or email: drsmootmedspa@gmail.com
URL:https://jacksonvillecommunitycenter.org/event/strength-training-with-mikinzie-7/
LOCATION:Jacksonville Community Center\, 160 E Main St\, Jacksonville\, OR\, 97530\, United States
CATEGORIES:Unsponsored (USP)
ATTACH;FMTTYPE=image/jpeg:https://jacksonvillecommunitycenter.org/wp-content/uploads/2024/11/dr-smoot-small-copystanding20240124_082251-e1757006277598.jpg
END:VEVENT
BEGIN:VEVENT
DTSTART;TZID=America/Los_Angeles:20251015T093000
DTEND;TZID=America/Los_Angeles:20251015T101500
DTSTAMP:20260424T082336
CREATED:20250920T044916Z
LAST-MODIFIED:20250920T044916Z
UID:10002710-1760520600-1760523300@jacksonvillecommunitycenter.org
SUMMARY:10/15/2025 Chair Yoga with Lori Sours
DESCRIPTION:This chair-based yoga class incorporates movement\, poses\, breath\, and guided relaxation in both seated and (optional) standing sequences. We move slowly and mindfully\, with plenty of opportunity to pause and notice. The classes are designed using the principles of yoga for healthy aging to support brain and body wellness. \nGO TO: https://www.consideryoga.com/chair-yoga.html to register and pay. \nInstructor Bio: Lori Sours\, PhD\, has been teaching yoga since 2014 and is a Registered Yoga Teacher at the 500-hour level with Yoga Alliance. Beyond Lori’s certification work\, her specialized training includes teaching yoga for healthy aging and chair yoga for brain and body health. She is passionate about introducing the benefits of slow\, mindful yoga\, including chair yoga\, to people who want to feel their best every day and age wisely.
URL:https://jacksonvillecommunitycenter.org/event/10-15-2025-chair-yoga-with-lori-sours/
LOCATION:Jacksonville Community Center\, 160 E Main St\, Jacksonville\, OR\, 97530\, United States
CATEGORIES:Unsponsored (USP)
ATTACH;FMTTYPE=image/jpeg:https://jacksonvillecommunitycenter.org/wp-content/uploads/2024/03/Lori-Sours-Chair-Yoga-2024-e1718641899873.jpg
END:VEVENT
BEGIN:VEVENT
DTSTART;TZID=America/Los_Angeles:20251015T110000
DTEND;TZID=America/Los_Angeles:20251015T120000
DTSTAMP:20260424T082336
CREATED:20250915T184418Z
LAST-MODIFIED:20250915T184742Z
UID:10002688-1760526000-1760529600@jacksonvillecommunitycenter.org
SUMMARY:10/15/25 Music Time for Littles - with Miss Laurie
DESCRIPTION:Music Time for Littles – with Ms. Laurie\nDate: Wednesday\, Oct. 15 11:00 am-12:00 pm\nAges: 0-5 with accompanying adult Cost: $5 per child\nDiscover the joy of music in this engaging class designed for children 0-5 and their caregivers. This class combines singing\, rhythm\, movement and sign language. Get ready to sing beloved songs from around the world\, and make music together in this weekly class! Sponsored by Jackson Care Connect. \nInstructor Bio: Laurie Finear has been a music teacher in the Rogue Valley for over 15 years as a certified Music Together teacher. She now creates and teaches her own music classes for children and their caregivers in Ashland and Jacksonville. She is passionate about sharing the joy of music with children and families.
URL:https://jacksonvillecommunitycenter.org/event/10-15-25-music-time-for-littles-with-miss-laurie/
LOCATION:Jacksonville Community Center\, 160 E Main St\, Jacksonville\, OR\, 97530\, United States
CATEGORIES:Sponsored (SP)
ATTACH;FMTTYPE=image/jpeg:https://jacksonvillecommunitycenter.org/wp-content/uploads/2025/07/Preschool-Music-4-e1756311939139.jpg
END:VEVENT
BEGIN:VEVENT
DTSTART;TZID=America/Los_Angeles:20251016T090000
DTEND;TZID=America/Los_Angeles:20251016T101500
DTSTAMP:20260424T082336
CREATED:20250917T225211Z
LAST-MODIFIED:20250920T040541Z
UID:10002697-1760605200-1760609700@jacksonvillecommunitycenter.org
SUMMARY:10/16/25 Intermediate Tai Chi and Qi Gong
DESCRIPTION:Experienced students are the focus of this ongoing class but beginners may join after contacting the instructor. Tai Chi and Qi Gong are calming practices that incorporate slow movement\, breathwork\, visualization\, and meditation. Consistent practice fosters improved balance\, body alignment\, coordination\, and overall sense of well-being. Tai Chi students will also practice the Qi Gong.  To determine if you are ready for this level placement\, please contact instructor Carolyn Wolf prior to attending at carwolf@sonic.net.\nCarolyn’s Bio: “I have been a certified Tai Chi Practice Leader (from the Institute of Integral Qi Gong and Tai Chi) since 2015 and have been leading classes locally since then. I enjoy sharing all the practice has to offer; relaxation\, increased body awareness\, improved balance\, meditation techniques\, and overall improved well-being.”
URL:https://jacksonvillecommunitycenter.org/event/10-16-25-intermediate-tai-chi-and-qi-gong/
LOCATION:Jacksonville Community Center\, 160 E Main St\, Jacksonville\, OR\, 97530\, United States
CATEGORIES:Sponsored (SP)
ATTACH;FMTTYPE=image/jpeg:https://jacksonvillecommunitycenter.org/wp-content/uploads/2023/12/Tai-Chi-image-e1718642785519.jpg
END:VEVENT
BEGIN:VEVENT
DTSTART;TZID=America/Los_Angeles:20251016T163000
DTEND;TZID=America/Los_Angeles:20251016T180000
DTSTAMP:20260424T082336
CREATED:20250922T230924Z
LAST-MODIFIED:20250929T191200Z
UID:10002730-1760632200-1760637600@jacksonvillecommunitycenter.org
SUMMARY:10/16/25 Community-in-Action Forum: Maslow Project-Children & Families
DESCRIPTION:Join us for an inspiring FREE presentation led by Maslow Project’s leadership team—Cheyenne Nichols and Erin Zelinka—as they share how their work transforms lives. Through practical insights\, they’ll reveal how Maslow meets children\, youth\, and families at their most vulnerable—providing essentials like food\, clothing\, and safe shelter. But the impact doesn’t stop there. With compassion and strategic support\, Maslow helps clients move beyond survival\, empowering them to pursue education\, employment\, and a renewed sense of belonging in the community. It’s not just about meeting needs—it’s about restoring hope. \nInstructor Bios:\nErin Zelinka: Erin Zelinka brings 20 years of communications experience to her role as Development Officer at Maslow Project. Having served various sectors\, ranging from local nonprofits and government agencies to Fortune 500s. Erin\, a Rogue Valley native\, now dedicates her strategic expertise to a deeply personal mission: sharing Maslow’s impact and securing support for homeless youth and families. In her free time\, she enjoys writing\, travel\,\nand activities outdoors with her family.\nCheyenne Nichols: Cheyenne Nichols has over 15 years of experience working with at-risk populations. She currently serves as Director of Education and Community Health at Maslow Project\, overseeing their school-based program and community health work across Jackson and Josephine County. Cheyenne is an Ashland native and is grateful to be working with youth and families in the region she grew up in.
URL:https://jacksonvillecommunitycenter.org/event/10-16-25-community-in-action-forum-maslow-project-children-families/
LOCATION:Jacksonville Community Center\, 160 E Main St\, Jacksonville\, OR\, 97530\, United States
CATEGORIES:Sponsored (SP)
ATTACH;FMTTYPE=image/jpeg:https://jacksonvillecommunitycenter.org/wp-content/uploads/2025/09/SM-size-Quote-Facebook-Post-8.5-x-11-in-Logo-4-e1759173110655.jpg
END:VEVENT
BEGIN:VEVENT
DTSTART;TZID=America/Los_Angeles:20251017T081500
DTEND;TZID=America/Los_Angeles:20251017T091500
DTSTAMP:20260424T082336
CREATED:20250920T050609Z
LAST-MODIFIED:20250920T050609Z
UID:10002722-1760688900-1760692500@jacksonvillecommunitycenter.org
SUMMARY:Strength Training with Mikinzie
DESCRIPTION:Naturopath physician Mikinzie Smoot will lead adults in strength-building exercises – incorporating weights\, weight bars and step platforms. Book directly with instructor for this unsponsored one-hour class – offered weekly on Wednesday at 8-9am and Fridays 8:15-9:15am. For registration and payment: https://www.jvillefitness.com \nFor information call: 541-621-1883 or email: drsmootmedspa@gmail.com
URL:https://jacksonvillecommunitycenter.org/event/strength-training-with-mikinzie-14/
LOCATION:OR
CATEGORIES:Unsponsored (USP)
ATTACH;FMTTYPE=image/jpeg:https://jacksonvillecommunitycenter.org/wp-content/uploads/2024/11/dr-smoot-small-copystanding20240124_082251-e1757006277598.jpg
END:VEVENT
END:VCALENDAR