BEGIN:VCALENDAR
VERSION:2.0
PRODID:-//Jacksonville Community Center-Programs, Small Wedding Site and Meeting Room Rental - ECPv6.15.20//NONSGML v1.0//EN
CALSCALE:GREGORIAN
METHOD:PUBLISH
X-ORIGINAL-URL:https://jacksonvillecommunitycenter.org
X-WR-CALDESC:Events for Jacksonville Community Center-Programs, Small Wedding Site and Meeting Room Rental
REFRESH-INTERVAL;VALUE=DURATION:PT1H
X-Robots-Tag:noindex
X-PUBLISHED-TTL:PT1H
BEGIN:VTIMEZONE
TZID:America/Los_Angeles
BEGIN:DAYLIGHT
TZOFFSETFROM:-0800
TZOFFSETTO:-0700
TZNAME:PDT
DTSTART:20240310T100000
END:DAYLIGHT
BEGIN:STANDARD
TZOFFSETFROM:-0700
TZOFFSETTO:-0800
TZNAME:PST
DTSTART:20241103T090000
END:STANDARD
BEGIN:DAYLIGHT
TZOFFSETFROM:-0800
TZOFFSETTO:-0700
TZNAME:PDT
DTSTART:20250309T100000
END:DAYLIGHT
BEGIN:STANDARD
TZOFFSETFROM:-0700
TZOFFSETTO:-0800
TZNAME:PST
DTSTART:20251102T090000
END:STANDARD
BEGIN:DAYLIGHT
TZOFFSETFROM:-0800
TZOFFSETTO:-0700
TZNAME:PDT
DTSTART:20260308T100000
END:DAYLIGHT
BEGIN:STANDARD
TZOFFSETFROM:-0700
TZOFFSETTO:-0800
TZNAME:PST
DTSTART:20261101T090000
END:STANDARD
END:VTIMEZONE
BEGIN:VEVENT
DTSTART;TZID=America/Los_Angeles:20250929T174500
DTEND;TZID=America/Los_Angeles:20250929T190000
DTSTAMP:20260423T232302
CREATED:20250826T181408Z
LAST-MODIFIED:20250826T181408Z
UID:10002675-1759167900-1759172400@jacksonvillecommunitycenter.org
SUMMARY:9/29/25 Flow Yoga with Lori - Unsponsored
DESCRIPTION:A thoughtfully designed Flow Yoga focusing on breath & alignment. Options given to accommodate All Levels – As an unsponsored program\, students are asked to sign up and pay for classes through Lori’s website at: https://lorigrableyoga.com/
URL:https://jacksonvillecommunitycenter.org/event/9-29-25-flow-yoga-with-lori-unsponsored-2/
LOCATION:Jacksonville Community Center\, 160 E Main St\, Jacksonville\, OR\, 97530\, United States
CATEGORIES:Unsponsored (USP)
ATTACH;FMTTYPE=image/png:https://jacksonvillecommunitycenter.org/wp-content/uploads/2022/02/indoor-yoga.png
END:VEVENT
BEGIN:VEVENT
DTSTART;TZID=America/Los_Angeles:20251001T080000
DTEND;TZID=America/Los_Angeles:20251001T090000
DTSTAMP:20260423T232302
CREATED:20250920T044213Z
LAST-MODIFIED:20250920T044213Z
UID:10002701-1759305600-1759309200@jacksonvillecommunitycenter.org
SUMMARY:Strength Training with Mikinzie
DESCRIPTION:Naturopath physician Mikinzie Smoot will lead adults in strength-building exercises – incorporating weights\, weight bars and step platforms. Book directly with instructor for this unsponsored one-hour class – offered weekly on Wednesday at 8-9am and Fridays 8:15-9:15am. For registration and payment: https://www.jvillefitness.com \nFor information call: 541-621-1883 or email: drsmootmedspa@gmail.com
URL:https://jacksonvillecommunitycenter.org/event/strength-training-with-mikinzie-5/
LOCATION:Jacksonville Community Center\, 160 E Main St\, Jacksonville\, OR\, 97530\, United States
CATEGORIES:Unsponsored (USP)
ATTACH;FMTTYPE=image/jpeg:https://jacksonvillecommunitycenter.org/wp-content/uploads/2024/11/dr-smoot-small-copystanding20240124_082251-e1757006277598.jpg
END:VEVENT
BEGIN:VEVENT
DTSTART;TZID=America/Los_Angeles:20251001T093000
DTEND;TZID=America/Los_Angeles:20251001T101500
DTSTAMP:20260423T232302
CREATED:20250920T044744Z
LAST-MODIFIED:20250920T044744Z
UID:10002708-1759311000-1759313700@jacksonvillecommunitycenter.org
SUMMARY:10/1/2025 Chair Yoga with Lori Sours
DESCRIPTION:This chair-based yoga class incorporates movement\, poses\, breath\, and guided relaxation in both seated and (optional) standing sequences. We move slowly and mindfully\, with plenty of opportunity to pause and notice. The classes are designed using the principles of yoga for healthy aging to support brain and body wellness. \nGO TO: https://www.consideryoga.com/chair-yoga.html to register and pay. \nInstructor Bio: Lori Sours\, PhD\, has been teaching yoga since 2014 and is a Registered Yoga Teacher at the 500-hour level with Yoga Alliance. Beyond Lori’s certification work\, her specialized training includes teaching yoga for healthy aging and chair yoga for brain and body health. She is passionate about introducing the benefits of slow\, mindful yoga\, including chair yoga\, to people who want to feel their best every day and age wisely.
URL:https://jacksonvillecommunitycenter.org/event/10-1-2025-chair-yoga-with-lori-sours/
LOCATION:Jacksonville Community Center\, 160 E Main St\, Jacksonville\, OR\, 97530\, United States
CATEGORIES:Unsponsored (USP)
ATTACH;FMTTYPE=image/jpeg:https://jacksonvillecommunitycenter.org/wp-content/uploads/2024/03/Lori-Sours-Chair-Yoga-2024-e1718641899873.jpg
END:VEVENT
BEGIN:VEVENT
DTSTART;TZID=America/Los_Angeles:20251001T110000
DTEND;TZID=America/Los_Angeles:20251001T120000
DTSTAMP:20260423T232302
CREATED:20250915T184128Z
LAST-MODIFIED:20250915T184818Z
UID:10002686-1759316400-1759320000@jacksonvillecommunitycenter.org
SUMMARY:10/1/25 Music Time for Littles - with Miss Laurie
DESCRIPTION:Music Time for Littles – with Ms. Laurie\nDate: Wednesday\, Oct. 1 11:00 am-12:00 pm\nAges: 0-5 with accompanying adult Cost: $5 per child\nDiscover the joy of music in this engaging class designed for children 0-5 and their caregivers. This class combines singing\, rhythm\, movement and sign language. Get ready to sing beloved songs from around the world\, and make music together in this weekly class! Sponsored by Jackson Care Connect. \nInstructor Bio: Laurie Finear has been a music teacher in the Rogue Valley for over 15 years as a certified Music Together teacher. She now creates and teaches her own music classes for children and their caregivers in Ashland and Jacksonville. She is passionate about sharing the joy of music with children and families.
URL:https://jacksonvillecommunitycenter.org/event/10-1-25-music-time-for-littles-with-miss-laurie/
LOCATION:Jacksonville Community Center\, 160 E Main St\, Jacksonville\, OR\, 97530\, United States
CATEGORIES:Sponsored (SP)
ATTACH;FMTTYPE=image/jpeg:https://jacksonvillecommunitycenter.org/wp-content/uploads/2025/07/Preschool-Music-4-e1756311939139.jpg
END:VEVENT
BEGIN:VEVENT
DTSTART;TZID=America/Los_Angeles:20251001T163000
DTEND;TZID=America/Los_Angeles:20251001T180000
DTSTAMP:20260423T232302
CREATED:20250909T225818Z
LAST-MODIFIED:20250929T200317Z
UID:10002683-1759336200-1759341600@jacksonvillecommunitycenter.org
SUMMARY:SOLD OUT - Watercolor Series: Learn to Paint with Carole Whitridge (6 classes\, one ticket)
DESCRIPTION:In this beginner watercolor class\, participants (ages 10+ to adult) will learn to paint smooth washes of color\, paint gradients\, skies\, and water. We’ll use techniques such as lifting paint and adding highlights\, to create beautiful\, satisfying art. All materials included in $55 Series One-Time Fee. No additional costs. Attendees will purchase one ticket that covers the series of six classes. No experience necessary. Dates: Oct. 1\, 8\, 15 and Nov. 5\, 12 & 19. \nInstructor Bio: Carole Whitridge combines her love of painting and travel to bring tranquil\, accessible classes to her students. She has a deep respect for the art and history of East Asia and strives to bring some of these traditions to her own teaching practice. She teaches watercolor to regional youth and adults alike.
URL:https://jacksonvillecommunitycenter.org/event/watercolor-series-learn-to-paint-with-carole-whitridge-6-classes-one-ticket/
LOCATION:Jacksonville Community Center\, 160 E Main St\, Jacksonville\, OR\, 97530\, United States
CATEGORIES:Sponsored (SP)
ATTACH;FMTTYPE=image/jpeg:https://jacksonvillecommunitycenter.org/wp-content/uploads/2025/09/watercolor-2.jpg
END:VEVENT
BEGIN:VEVENT
DTSTART;TZID=America/Los_Angeles:20251002T090000
DTEND;TZID=America/Los_Angeles:20251002T101500
DTSTAMP:20260423T232302
CREATED:20250916T222605Z
LAST-MODIFIED:20250920T040122Z
UID:10002691-1759395600-1759400100@jacksonvillecommunitycenter.org
SUMMARY:10/2/25 Intermediate Tai Chi and Qi Gong
DESCRIPTION:Experienced students are the focus of this ongoing class but beginners may join after contacting the instructor. Tai Chi and Qi Gong are calming practices that incorporate slow movement\, breathwork\, visualization\, and meditation. Consistent practice fosters improved balance\, body alignment\, coordination\, and overall sense of well-being. Tai Chi students will also practice the Qi Gong.  To determine if you are ready for this level placement\, please contact instructor Carolyn Wolf prior to attending at carwolf@sonic.net.\nCarolyn’s Bio: “I have been a certified Tai Chi Practice Leader (from the Institute of Integral Qi Gong and Tai Chi) since 2015 and have been leading classes locally since then. I enjoy sharing all the practice has to offer; relaxation\, increased body awareness\, improved balance\, meditation techniques\, and overall improved well-being.”
URL:https://jacksonvillecommunitycenter.org/event/10-2-25-intermediate-tai-chi-and-qi-gong/
LOCATION:Jacksonville Community Center\, 160 E Main St\, Jacksonville\, OR\, 97530\, United States
CATEGORIES:Sponsored (SP)
ATTACH;FMTTYPE=image/jpeg:https://jacksonvillecommunitycenter.org/wp-content/uploads/2023/12/Tai-Chi-image-e1718642785519.jpg
END:VEVENT
BEGIN:VEVENT
DTSTART;TZID=America/Los_Angeles:20251003T081500
DTEND;TZID=America/Los_Angeles:20251003T091500
DTSTAMP:20260423T232302
CREATED:20250920T050441Z
LAST-MODIFIED:20250920T050441Z
UID:10002720-1759479300-1759482900@jacksonvillecommunitycenter.org
SUMMARY:Strength Training with Mikinzie
DESCRIPTION:Naturopath physician Mikinzie Smoot will lead adults in strength-building exercises – incorporating weights\, weight bars and step platforms. Book directly with instructor for this unsponsored one-hour class – offered weekly on Wednesday at 8-9am and Fridays 8:15-9:15am. For registration and payment: https://www.jvillefitness.com \nFor information call: 541-621-1883 or email: drsmootmedspa@gmail.com
URL:https://jacksonvillecommunitycenter.org/event/strength-training-with-mikinzie-12/
LOCATION:OR
CATEGORIES:Unsponsored (USP)
ATTACH;FMTTYPE=image/jpeg:https://jacksonvillecommunitycenter.org/wp-content/uploads/2024/11/dr-smoot-small-copystanding20240124_082251-e1757006277598.jpg
END:VEVENT
BEGIN:VEVENT
DTSTART;TZID=America/Los_Angeles:20251003T103000
DTEND;TZID=America/Los_Angeles:20251003T113000
DTSTAMP:20260423T232302
CREATED:20250920T045452Z
LAST-MODIFIED:20250920T045452Z
UID:10002713-1759487400-1759491000@jacksonvillecommunitycenter.org
SUMMARY:10/3/25 Beginning Yoga with Lori
DESCRIPTION:Join Lori Grable for a Beginning Yoga class! This class is open to anyone who is interested in trying out yoga for the first time or wants a refresher yoga class after a layoff. Come with comfortable clothes\, a yoga mat and water bottle. \nNew students can arrive at 10:15. \nLori began her yoga journey in 2000 as a student at the Santa Barbara Yoga Center. She was drawn to the practice because it helped her to reconnect with her most authentic self while making her stronger and more open\, physically and mentally. Her passion for yoga grew stronger as she traveled around the United States during the summer of 2003\, practicing at many studios along the way. After settling in Pittsburgh\, PA\, she completed her teacher training and began teaching in 2006. \nToday\, Lori is an E-RYT 500 and teaches Vinyasa-based classes. She is influenced by the philosophy and alignment principles of Anusara Yoga. As a triathlete\, Lori has an interest in yoga for athletes and has taught many workshops on the topic. She has a passion for the outdoors and has taught yoga in parks\, vineyards\, and backyards. Lori appreciates the healing and restorative qualities of yoga and has also worked with students who are recovering from illness\, rehabilitating injuries\, pregnant\, or elderly.
URL:https://jacksonvillecommunitycenter.org/event/10-3-25-beginning-yoga-with-lori-2/
LOCATION:Jacksonville Community Center\, 160 E Main St\, Jacksonville\, OR\, 97530\, United States
CATEGORIES:Sponsored (SP)
ATTACH;FMTTYPE=image/png:https://jacksonvillecommunitycenter.org/wp-content/uploads/2022/10/yoga.png
END:VEVENT
BEGIN:VEVENT
DTSTART;TZID=America/Los_Angeles:20251003T160000
DTEND;TZID=America/Los_Angeles:20251003T170000
DTSTAMP:20260423T232302
CREATED:20250922T220903Z
LAST-MODIFIED:20250923T152841Z
UID:10002725-1759507200-1759510800@jacksonvillecommunitycenter.org
SUMMARY:10/3/25 Bats! Presented by Bugs-R-Us
DESCRIPTION:Celebrate spooky season with these amazing creatures of the night! Learn all about these flying mammals and their important role in our ecosystem. The program features 8 different species of preserved bat specimens as well as a bat skeleton and bat echolocation sounds. The audience receives instructions on building a bat-house\, Bat ID sheets and bat coloring pages at the finish. For ages 3 and up with an adult. \n$5- Children ages 3+ to adults\nFree- Children under 3\nFree- Adults accompanying youth \nAbout the Instructor:\nLife-ling entomologist and naturalist\, John Jackson is the creator Bugs-R-Us Educational Services. He provides science-based\, educational\, portable presentations on a wide variety of natural subjects. All programs are aligned with Oregon State Educational Standards\, Next Generation Science Standards\, mapped for STEM and STEAM applications as well as National Science Education Standards.
URL:https://jacksonvillecommunitycenter.org/event/10-3-2025-bats-presented-by-bugs-r-us-2/
LOCATION:Jacksonville Community Center\, 160 E Main St\, Jacksonville\, OR\, 97530\, United States
CATEGORIES:Sponsored (SP)
ATTACH;FMTTYPE=image/jpeg:https://jacksonvillecommunitycenter.org/wp-content/uploads/2025/09/Arts-Crafts-4-e1758641220130.jpg
END:VEVENT
END:VCALENDAR