BEGIN:VCALENDAR
VERSION:2.0
PRODID:-//Jacksonville Community Center-Programs, Small Wedding Site and Meeting Room Rental - ECPv6.15.20//NONSGML v1.0//EN
CALSCALE:GREGORIAN
METHOD:PUBLISH
X-WR-CALNAME:Jacksonville Community Center-Programs, Small Wedding Site and Meeting Room Rental
X-ORIGINAL-URL:https://jacksonvillecommunitycenter.org
X-WR-CALDESC:Events for Jacksonville Community Center-Programs, Small Wedding Site and Meeting Room Rental
REFRESH-INTERVAL;VALUE=DURATION:PT1H
X-Robots-Tag:noindex
X-PUBLISHED-TTL:PT1H
BEGIN:VTIMEZONE
TZID:America/Los_Angeles
BEGIN:DAYLIGHT
TZOFFSETFROM:-0800
TZOFFSETTO:-0700
TZNAME:PDT
DTSTART:20250309T100000
END:DAYLIGHT
BEGIN:STANDARD
TZOFFSETFROM:-0700
TZOFFSETTO:-0800
TZNAME:PST
DTSTART:20251102T090000
END:STANDARD
BEGIN:DAYLIGHT
TZOFFSETFROM:-0800
TZOFFSETTO:-0700
TZNAME:PDT
DTSTART:20260308T100000
END:DAYLIGHT
BEGIN:STANDARD
TZOFFSETFROM:-0700
TZOFFSETTO:-0800
TZNAME:PST
DTSTART:20261101T090000
END:STANDARD
BEGIN:DAYLIGHT
TZOFFSETFROM:-0800
TZOFFSETTO:-0700
TZNAME:PDT
DTSTART:20270314T100000
END:DAYLIGHT
BEGIN:STANDARD
TZOFFSETFROM:-0700
TZOFFSETTO:-0800
TZNAME:PST
DTSTART:20271107T090000
END:STANDARD
END:VTIMEZONE
BEGIN:VEVENT
DTSTART;TZID=America/Los_Angeles:20260509T100000
DTEND;TZID=America/Los_Angeles:20260509T120000
DTSTAMP:20260421T190019
CREATED:20260415T232352Z
LAST-MODIFIED:20260415T232654Z
UID:10003020-1778320800-1778328000@jacksonvillecommunitycenter.org
SUMMARY:Wildfire: How to Mitigate and Stay Insured with Wildfire Insurance Expert 5/9 Session #1
DESCRIPTION:Retired former Wildland Firefighter District and current wildfire insurance company consultant\, Miranda Stuart\, will present property owners with facts and strategies on living in wildfire communities and how to mitigate risk for wildfires. Through her years of direct wildland firefighting experience\, she will share best practices for protecting property as well as insights into insurance issues facing property owners in a high wildfire communities. \nBIO: Miranda detailed to the Bureau of Land Management (BLM) as their National Critical Incident Stress Management and Mental Health Coordinator and served as the Wildland Fire Safety Manager before completing her BLM career as Deputy Chief of Fire Operations for Medford. She retired from the Bureau of Land\nManagement in 2023 and began a career with Capital Insurance Group (CIG) as their Catastrophe Risk\nConsultant specializing in wildfire risk assessment and modeling.  Her work in wildfire led her to work with communities to reduce wildfire risk\, provide structure protection during wildfires and develop mitigation plans for homes and communities. \nPrior Experience: Miranda started her career with the Fremont-Winema National Forest in Oregon in 1995 as a\nWildlife Biologist and an active participant in the fire program; she was with the USFS for five seasons.\nShe served on the wildlife\, timber and fire crews and conducted fire ecology research for one season\non the Siskiyou NF during this period all the while continuing to work closely in fire and develop her\nqualifications. \nMiranda  accepted a position in 2000 with the Big Thicket National Preserve in Texas as their Fire Effects Monitor. After two years with the National Park Service she moved over to the US Fish and Wildlife (USFWS) Texas Mid-coast Refuge Complex to be their Fire Effects Monitor and help develop fire effects monitoring in Region 2 USFWS.  Seven years on the coast with USFWS led her to the position as the Fire Operations Specialist for the Prescribed Fire Training Center (PFTC).  She has an extensive background in prescribed fire and has burned throughout the\nSouthwest\, Southeast and Northwest as well as supported wildland fire operations in those Regions.  Her background in wildlife management\, GIS\, fire ecology\, ecosystem restoration and landscape management has been built from the experiences gained over the years in her career.  2014 the NPS made a transition in staffing and Miranda moved out of PFTC and into her role of Fire Management Specialist supporting Safety\, Prevention\, Fuels\, Medical Standards\, Wildfire Reviews\, Mental Health\, and Training in the National Office for the National Park Service.
URL:https://jacksonvillecommunitycenter.org/event/wildfire-how-to-mitigate-and-stay-insured-with-wildfire-insurance-expert-5-9/
LOCATION:Jacksonville Community Center\, 160 E Main St\, Jacksonville\, OR\, 97530\, United States
CATEGORIES:Sponsored (SP)
ATTACH;FMTTYPE=image/png:https://jacksonvillecommunitycenter.org/wp-content/uploads/2026/04/Wildfire-with-Miranda-Stuart-320-x-320-px-2.png
END:VEVENT
END:VCALENDAR