BEGIN:VCALENDAR
VERSION:2.0
PRODID:-//Jacksonville Community Center-Programs, Small Wedding Site and Meeting Room Rental - ECPv6.15.20//NONSGML v1.0//EN
CALSCALE:GREGORIAN
METHOD:PUBLISH
X-WR-CALNAME:Jacksonville Community Center-Programs, Small Wedding Site and Meeting Room Rental
X-ORIGINAL-URL:https://jacksonvillecommunitycenter.org
X-WR-CALDESC:Events for Jacksonville Community Center-Programs, Small Wedding Site and Meeting Room Rental
REFRESH-INTERVAL;VALUE=DURATION:PT1H
X-Robots-Tag:noindex
X-PUBLISHED-TTL:PT1H
BEGIN:VTIMEZONE
TZID:America/Los_Angeles
BEGIN:DAYLIGHT
TZOFFSETFROM:-0800
TZOFFSETTO:-0700
TZNAME:PDT
DTSTART:20250309T100000
END:DAYLIGHT
BEGIN:STANDARD
TZOFFSETFROM:-0700
TZOFFSETTO:-0800
TZNAME:PST
DTSTART:20251102T090000
END:STANDARD
BEGIN:DAYLIGHT
TZOFFSETFROM:-0800
TZOFFSETTO:-0700
TZNAME:PDT
DTSTART:20260308T100000
END:DAYLIGHT
BEGIN:STANDARD
TZOFFSETFROM:-0700
TZOFFSETTO:-0800
TZNAME:PST
DTSTART:20261101T090000
END:STANDARD
BEGIN:DAYLIGHT
TZOFFSETFROM:-0800
TZOFFSETTO:-0700
TZNAME:PDT
DTSTART:20270314T100000
END:DAYLIGHT
BEGIN:STANDARD
TZOFFSETFROM:-0700
TZOFFSETTO:-0800
TZNAME:PST
DTSTART:20271107T090000
END:STANDARD
END:VTIMEZONE
BEGIN:VEVENT
DTSTART;TZID=America/Los_Angeles:20260510T150000
DTEND;TZID=America/Los_Angeles:20260519T163000
DTSTAMP:20260422T072120
CREATED:20260415T230014Z
LAST-MODIFIED:20260415T230014Z
UID:10003019-1778425200-1779208200@jacksonvillecommunitycenter.org
SUMMARY:5/10/26 Yoga Nidra Sound Healing with Claudia
DESCRIPTION:Claudia Ingraham will facilitate the Yoga Nidra (meditation) while gently playing crystal bowls\, Tibetan ringing bowls and Koshi chimes in the background – finishing with a clearing gong bath to wash away what no longer serves you. Bring a mat\, pillow and water bottle\n \nThe state of Yoga Nidra occurs when you can remain conscious during the deep sleep state. Yoga Nidra switches you out of fight or flight and into the relaxation response – you body’s natural healing state — where revitalization and regeneration naturally occur. Bring mats\, pillows and blankets for your comfort on the carpet or in chairs as preferred. Experience deep serenity and relaxation in this interactive experience.\n\nInstructor: Claudia Ingraham has been practicing Sound Healing for 14 years now\, beginning in Denver\, Colorado and continued after moving to Jacksonville\, Oregon in 2014. She began this journey after completing a training in advanced sound healing techniques in the traditional Himalayan method with Suren Shrestha in Boulder\, Colorado while finishing her yoga teacher training. Afterwards she organized yoga/ sound healing retreats at Hot Springs locations for 4 years while in Denver. She has completed trainings in Biofield Tuning\, studied with musician Leigh Ann Phillips\, Matthew Kocel and a Gong Bath Intensive training with Richard Rudis. Claudia connects deeply with her intuition when she plays for people and loves seeing and hearing about positive and sometimes profound results experienced. This class will allow participants to understand what sound healing is\, experience various sound instruments and learn what sound tools they can use daily to enhance their lives.
URL:https://jacksonvillecommunitycenter.org/event/5-10-26-yoga-nidra-sound-healing-with-claudia-2/
LOCATION:Jacksonville Community Center\, 160 E Main St\, Jacksonville\, OR\, 97530\, United States
CATEGORIES:Sponsored (SP)
ATTACH;FMTTYPE=image/png:https://jacksonvillecommunitycenter.org/wp-content/uploads/2026/04/Sound-Healing-Yoga-Nidra-Claudia-320-x-320-px.png
END:VEVENT
BEGIN:VEVENT
DTSTART;TZID=America/Los_Angeles:20260519T120000
DTEND;TZID=America/Los_Angeles:20260519T130000
DTSTAMP:20260422T072120
CREATED:20260415T223727Z
LAST-MODIFIED:20260415T223727Z
UID:10003018-1779192000-1779195600@jacksonvillecommunitycenter.org
SUMMARY:5/19/26 Learn Life-Saving AED & CPR
DESCRIPTION:Learn basic use of the AED (automated external defibrillator) and basic CPR techniques that can save the life of a loved one. Presented by physician Sherry Neuman\, attendees will learn key steps in emergency situations and will practice hands on techniques. This is not a certification course but will provide basic orientation and guidelines that will facilitate maintaining skills with practice. \nInstructor: Dr. Neuman has enjoyed a long career focused on clinical patient care. After completing her doctorate in pharmacy\, she later completed medical school at the University of Nevada at Reno to become medical doctor specializing in infectious disease. She is a Jacksonville resident and is a strong proponent of preparedness and wellness activities. \nThis program is being offered for $5 – pre-registration is encouraged.
URL:https://jacksonvillecommunitycenter.org/event/5-19-26-learn-life-saving-aed-cpr/
LOCATION:Jacksonville Community Center\, 160 E Main St\, Jacksonville\, OR\, 97530\, United States
CATEGORIES:Sponsored (SP)
ATTACH;FMTTYPE=image/png:https://jacksonvillecommunitycenter.org/wp-content/uploads/2026/04/CPR-AED-Training-Flyer-320-x-320-px.png
END:VEVENT
END:VCALENDAR