BEGIN:VCALENDAR
VERSION:2.0
PRODID:-//Jacksonville Community Center-Programs, Small Wedding Site and Meeting Room Rental - ECPv6.15.20//NONSGML v1.0//EN
CALSCALE:GREGORIAN
METHOD:PUBLISH
X-ORIGINAL-URL:https://jacksonvillecommunitycenter.org
X-WR-CALDESC:Events for Jacksonville Community Center-Programs, Small Wedding Site and Meeting Room Rental
REFRESH-INTERVAL;VALUE=DURATION:PT1H
X-Robots-Tag:noindex
X-PUBLISHED-TTL:PT1H
BEGIN:VTIMEZONE
TZID:America/Los_Angeles
BEGIN:DAYLIGHT
TZOFFSETFROM:-0800
TZOFFSETTO:-0700
TZNAME:PDT
DTSTART:20250309T100000
END:DAYLIGHT
BEGIN:STANDARD
TZOFFSETFROM:-0700
TZOFFSETTO:-0800
TZNAME:PST
DTSTART:20251102T090000
END:STANDARD
BEGIN:DAYLIGHT
TZOFFSETFROM:-0800
TZOFFSETTO:-0700
TZNAME:PDT
DTSTART:20260308T100000
END:DAYLIGHT
BEGIN:STANDARD
TZOFFSETFROM:-0700
TZOFFSETTO:-0800
TZNAME:PST
DTSTART:20261101T090000
END:STANDARD
BEGIN:DAYLIGHT
TZOFFSETFROM:-0800
TZOFFSETTO:-0700
TZNAME:PDT
DTSTART:20270314T100000
END:DAYLIGHT
BEGIN:STANDARD
TZOFFSETFROM:-0700
TZOFFSETTO:-0800
TZNAME:PST
DTSTART:20271107T090000
END:STANDARD
END:VTIMEZONE
BEGIN:VEVENT
DTSTART;TZID=America/Los_Angeles:20260508T173000
DTEND;TZID=America/Los_Angeles:20260508T190000
DTSTAMP:20260421T171032
CREATED:20260406T163633Z
LAST-MODIFIED:20260414T170533Z
UID:10003014-1778261400-1778266800@jacksonvillecommunitycenter.org
SUMMARY:FREE House Concert: Mosaic World Chorus at JCC - May 8th
DESCRIPTION:Join JCC\, 5/8 – 5:30-7pm to enjoy the Mosaic World Chorus\,  currently a 33-person group of community singers from both Josephine and Jackson counties\, as they present ‘Songs of Flowers\,’ a program which includes a variety of songs featuring flowers in their many metaphorical contexts: from 13th c. Medieval Italian\, 15th c. Ladino/Sephardic\, and 18th c. English\, to popular songs from the Georgian\, Appalachian\, Croatian\, and Bulgarian regions\, to more modern songs from the Ukraine and the USA. These songs sing of flowers representing love\, or sometimes heartbreak; flowers representing maidens and fertility;  flowers celebrating the beauty of the earth and springtime\, flowers as symbols of national pride\, and more.\n\n\n\nMost people will enjoy the songs in this performance\, including the most recognizable: Will You Go\, Lassie\, Go? (also known as Wild Mountain Thyme) and Wildflowers by Tom Petty. The program includes: Ecco La Primavera\,  La Rosa Enflorece\, Ye Banks and Braes\, Arti Vardi\, Daisies White\, Polegala Trava Detela\, Chervona Kalyna\, and many more.\n\n\nConductor Bio: Harmony Sue Haynie starting singing as a child in the church choirs her mom\, Betty Haynie\, directed\, and she has been singing ever since. For over 50 years\, her studies have traversed multiple styles of music\, including madrigal choir\, reggae\, rock\, samba and folk bands\, acapella quartets\, Gospel choir\, Women’s circles\, African chants\, Unity choir\, Sweat lodges\, and finally\, World Music\, including 10 years with Rogue World Ensemble. During this time\, she grew to love teaching music\, especially on empowering others to develop their best voice.   Harmony founded the Williams World Music Choir in 2016\, which expanded past Williams last fall and became the Mosaic World Chorus.
URL:https://jacksonvillecommunitycenter.org/event/free-house-concert-mosaic-world-chorus-at-jcc-may-8th/
LOCATION:Jacksonville Community Center\, 160 E Main St\, Jacksonville\, OR\, 97530\, United States
CATEGORIES:Jacksonville Community Center,Sponsored (SP)
ATTACH;FMTTYPE=image/png:https://jacksonvillecommunitycenter.org/wp-content/uploads/2026/04/Free-Mosaic-World-Chorus-House-Concert-320-x-320-px-1.png
END:VEVENT
END:VCALENDAR