BEGIN:VCALENDAR
VERSION:2.0
PRODID:-//Jacksonville Community Center-Programs, Small Wedding Site and Meeting Room Rental - ECPv6.15.20//NONSGML v1.0//EN
CALSCALE:GREGORIAN
METHOD:PUBLISH
X-WR-CALNAME:Jacksonville Community Center-Programs, Small Wedding Site and Meeting Room Rental
X-ORIGINAL-URL:https://jacksonvillecommunitycenter.org
X-WR-CALDESC:Events for Jacksonville Community Center-Programs, Small Wedding Site and Meeting Room Rental
REFRESH-INTERVAL;VALUE=DURATION:PT1H
X-Robots-Tag:noindex
X-PUBLISHED-TTL:PT1H
BEGIN:VTIMEZONE
TZID:America/Los_Angeles
BEGIN:DAYLIGHT
TZOFFSETFROM:-0800
TZOFFSETTO:-0700
TZNAME:PDT
DTSTART:20250309T100000
END:DAYLIGHT
BEGIN:STANDARD
TZOFFSETFROM:-0700
TZOFFSETTO:-0800
TZNAME:PST
DTSTART:20251102T090000
END:STANDARD
BEGIN:DAYLIGHT
TZOFFSETFROM:-0800
TZOFFSETTO:-0700
TZNAME:PDT
DTSTART:20260308T100000
END:DAYLIGHT
BEGIN:STANDARD
TZOFFSETFROM:-0700
TZOFFSETTO:-0800
TZNAME:PST
DTSTART:20261101T090000
END:STANDARD
BEGIN:DAYLIGHT
TZOFFSETFROM:-0800
TZOFFSETTO:-0700
TZNAME:PDT
DTSTART:20270314T100000
END:DAYLIGHT
BEGIN:STANDARD
TZOFFSETFROM:-0700
TZOFFSETTO:-0800
TZNAME:PST
DTSTART:20271107T090000
END:STANDARD
END:VTIMEZONE
BEGIN:VEVENT
DTSTART;TZID=America/Los_Angeles:20260422T080000
DTEND;TZID=America/Los_Angeles:20260422T090000
DTSTAMP:20260421T150841
CREATED:20260325T202234Z
LAST-MODIFIED:20260325T202234Z
UID:10003000-1776844800-1776848400@jacksonvillecommunitycenter.org
SUMMARY:4/22 Strength Training with Mikinzie Smoot\, ND
DESCRIPTION:Naturopath physician Mikinzie Smoot will lead adults in strength-building exercises – incorporating weights\, weight bars and step platforms. Book directly with instructor for this unsponsored one-hour class – offered weekly on Wednesday at 8-9am and Fridays 8:15-9:15am. For registration and payment: https://www.jvillefitness.com \nFor information call: 541-621-1883 or email: drsmootmedspa@gmail.com
URL:https://jacksonvillecommunitycenter.org/event/4-22-strength-training-with-mikinzie-smoot-nd/
LOCATION:Jacksonville Community Center\, 160 E Main St\, Jacksonville\, OR\, 97530\, United States
CATEGORIES:Unsponsored (USP)
ATTACH;FMTTYPE=image/png:https://jacksonvillecommunitycenter.org/wp-content/uploads/2026/03/Strength-Training-with-Mikinzie-320-x-320-px.png
END:VEVENT
BEGIN:VEVENT
DTSTART;TZID=America/Los_Angeles:20260429T080000
DTEND;TZID=America/Los_Angeles:20260429T090000
DTSTAMP:20260421T150841
CREATED:20260325T202312Z
LAST-MODIFIED:20260325T202312Z
UID:10003001-1777449600-1777453200@jacksonvillecommunitycenter.org
SUMMARY:4/29 Strength Training with Mikinzie Smoot\, ND
DESCRIPTION:Naturopath physician Mikinzie Smoot will lead adults in strength-building exercises – incorporating weights\, weight bars and step platforms. Book directly with instructor for this unsponsored one-hour class – offered weekly on Wednesday at 8-9am and Fridays 8:15-9:15am. For registration and payment: https://www.jvillefitness.com \nFor information call: 541-621-1883 or email: drsmootmedspa@gmail.com
URL:https://jacksonvillecommunitycenter.org/event/4-29-strength-training-with-mikinzie-smoot-nd-2/
LOCATION:Jacksonville Community Center\, 160 E Main St\, Jacksonville\, OR\, 97530\, United States
CATEGORIES:Unsponsored (USP)
ATTACH;FMTTYPE=image/png:https://jacksonvillecommunitycenter.org/wp-content/uploads/2026/03/Strength-Training-with-Mikinzie-320-x-320-px.png
END:VEVENT
BEGIN:VEVENT
DTSTART;TZID=America/Los_Angeles:20260501T081500
DTEND;TZID=America/Los_Angeles:20260501T091500
DTSTAMP:20260421T150841
CREATED:20260325T202616Z
LAST-MODIFIED:20260325T202616Z
UID:10003006-1777623300-1777626900@jacksonvillecommunitycenter.org
SUMMARY:5/1 Strength Training with Mikinzie Smoot\, ND
DESCRIPTION:Naturopath physician Mikinzie Smoot will lead adults in strength-building exercises – incorporating weights\, weight bars and step platforms. Book directly with instructor for this unsponsored one-hour class – offered weekly on Wednesday at 8-9am and Fridays 8:15-9:15am. For registration and payment: https://www.jvillefitness.com \nFor information call: 541-621-1883 or email: drsmootmedspa@gmail.com
URL:https://jacksonvillecommunitycenter.org/event/5-1-strength-training-with-mikinzie-smoot-nd/
LOCATION:Jacksonville Community Center\, 160 E Main St\, Jacksonville\, OR\, 97530\, United States
CATEGORIES:Unsponsored (USP)
ATTACH;FMTTYPE=image/png:https://jacksonvillecommunitycenter.org/wp-content/uploads/2026/03/Strength-Training-with-Mikinzie-320-x-320-px.png
END:VEVENT
BEGIN:VEVENT
DTSTART;TZID=America/Los_Angeles:20260506T080000
DTEND;TZID=America/Los_Angeles:20260506T090000
DTSTAMP:20260421T150841
CREATED:20260420T165039Z
LAST-MODIFIED:20260420T165039Z
UID:10003046-1778054400-1778058000@jacksonvillecommunitycenter.org
SUMMARY:5/6 Strength Training with Mikinzie Smoot\, ND
DESCRIPTION:Naturopath physician Mikinzie Smoot will lead adults in strength-building exercises – incorporating weights\, weight bars and step platforms. Book directly with instructor for this unsponsored one-hour class – offered weekly on Wednesday at 8-9am and Fridays 8:15-9:15am. For registration and payment: https://www.jvillefitness.com \nFor information call: 541-621-1883 or email: drsmootmedspa@gmail.com
URL:https://jacksonvillecommunitycenter.org/event/5-6-strength-training-with-mikinzie-smoot-nd/
LOCATION:Jacksonville Community Center\, 160 E Main St\, Jacksonville\, OR\, 97530\, United States
CATEGORIES:Unsponsored (USP)
ATTACH;FMTTYPE=image/png:https://jacksonvillecommunitycenter.org/wp-content/uploads/2026/03/Strength-Training-with-Mikinzie-320-x-320-px.png
END:VEVENT
BEGIN:VEVENT
DTSTART;TZID=America/Los_Angeles:20260508T081500
DTEND;TZID=America/Los_Angeles:20260508T091500
DTSTAMP:20260421T150841
CREATED:20260325T202543Z
LAST-MODIFIED:20260420T165524Z
UID:10003005-1778228100-1778231700@jacksonvillecommunitycenter.org
SUMMARY:5/8 Strength Training with Mikinzie Smoot\, ND
DESCRIPTION:Naturopath physician Mikinzie Smoot will lead adults in strength-building exercises – incorporating weights\, weight bars and step platforms. Book directly with instructor for this unsponsored one-hour class – offered weekly on Wednesday at 8-9am and Fridays 8:15-9:15am. For registration and payment: https://www.jvillefitness.com \nFor information call: 541-621-1883 or email: drsmootmedspa@gmail.com
URL:https://jacksonvillecommunitycenter.org/event/5-8-strength-training-with-mikinzie-smoot-nd-2/
LOCATION:Jacksonville Community Center\, 160 E Main St\, Jacksonville\, OR\, 97530\, United States
CATEGORIES:Unsponsored (USP)
ATTACH;FMTTYPE=image/png:https://jacksonvillecommunitycenter.org/wp-content/uploads/2026/03/Strength-Training-with-Mikinzie-320-x-320-px.png
END:VEVENT
BEGIN:VEVENT
DTSTART;TZID=America/Los_Angeles:20260513T080000
DTEND;TZID=America/Los_Angeles:20260513T090000
DTSTAMP:20260421T150841
CREATED:20260420T165145Z
LAST-MODIFIED:20260420T165145Z
UID:10003047-1778659200-1778662800@jacksonvillecommunitycenter.org
SUMMARY:5/13 Strength Training with Mikinzie Smoot\, ND
DESCRIPTION:Naturopath physician Mikinzie Smoot will lead adults in strength-building exercises – incorporating weights\, weight bars and step platforms. Book directly with instructor for this unsponsored one-hour class – offered weekly on Wednesday at 8-9am and Fridays 8:15-9:15am. For registration and payment: https://www.jvillefitness.com \nFor information call: 541-621-1883 or email: drsmootmedspa@gmail.com
URL:https://jacksonvillecommunitycenter.org/event/5-13-strength-training-with-mikinzie-smoot-nd-2/
LOCATION:Jacksonville Community Center\, 160 E Main St\, Jacksonville\, OR\, 97530\, United States
CATEGORIES:Unsponsored (USP)
ATTACH;FMTTYPE=image/png:https://jacksonvillecommunitycenter.org/wp-content/uploads/2026/03/Strength-Training-with-Mikinzie-320-x-320-px.png
END:VEVENT
BEGIN:VEVENT
DTSTART;TZID=America/Los_Angeles:20260515T081500
DTEND;TZID=America/Los_Angeles:20260515T091500
DTSTAMP:20260421T150841
CREATED:20260420T165621Z
LAST-MODIFIED:20260420T165621Z
UID:10003050-1778832900-1778836500@jacksonvillecommunitycenter.org
SUMMARY:5/15 Strength Training with Mikinzie Smoot\, ND
DESCRIPTION:Naturopath physician Mikinzie Smoot will lead adults in strength-building exercises – incorporating weights\, weight bars and step platforms. Book directly with instructor for this unsponsored one-hour class – offered weekly on Wednesday at 8-9am and Fridays 8:15-9:15am. For registration and payment: https://www.jvillefitness.com \nFor information call: 541-621-1883 or email: drsmootmedspa@gmail.com
URL:https://jacksonvillecommunitycenter.org/event/5-15-strength-training-with-mikinzie-smoot-nd/
LOCATION:Jacksonville Community Center\, 160 E Main St\, Jacksonville\, OR\, 97530\, United States
CATEGORIES:Unsponsored (USP)
ATTACH;FMTTYPE=image/png:https://jacksonvillecommunitycenter.org/wp-content/uploads/2026/03/Strength-Training-with-Mikinzie-320-x-320-px.png
END:VEVENT
BEGIN:VEVENT
DTSTART;TZID=America/Los_Angeles:20260520T080000
DTEND;TZID=America/Los_Angeles:20260520T090000
DTSTAMP:20260421T150841
CREATED:20260420T165250Z
LAST-MODIFIED:20260420T165250Z
UID:10003048-1779264000-1779267600@jacksonvillecommunitycenter.org
SUMMARY:5/20 Strength Training with Mikinzie Smoot\, ND
DESCRIPTION:Naturopath physician Mikinzie Smoot will lead adults in strength-building exercises – incorporating weights\, weight bars and step platforms. Book directly with instructor for this unsponsored one-hour class – offered weekly on Wednesday at 8-9am and Fridays 8:15-9:15am. For registration and payment: https://www.jvillefitness.com \nFor information call: 541-621-1883 or email: drsmootmedspa@gmail.com
URL:https://jacksonvillecommunitycenter.org/event/5-20-strength-training-with-mikinzie-smoot-nd/
LOCATION:Jacksonville Community Center\, 160 E Main St\, Jacksonville\, OR\, 97530\, United States
CATEGORIES:Unsponsored (USP)
ATTACH;FMTTYPE=image/png:https://jacksonvillecommunitycenter.org/wp-content/uploads/2026/03/Strength-Training-with-Mikinzie-320-x-320-px.png
END:VEVENT
BEGIN:VEVENT
DTSTART;TZID=America/Los_Angeles:20260522T081500
DTEND;TZID=America/Los_Angeles:20260522T091500
DTSTAMP:20260421T150841
CREATED:20260420T165712Z
LAST-MODIFIED:20260420T165712Z
UID:10003051-1779437700-1779441300@jacksonvillecommunitycenter.org
SUMMARY:5/22 Strength Training with Mikinzie Smoot\, ND
DESCRIPTION:Naturopath physician Mikinzie Smoot will lead adults in strength-building exercises – incorporating weights\, weight bars and step platforms. Book directly with instructor for this unsponsored one-hour class – offered weekly on Wednesday at 8-9am and Fridays 8:15-9:15am. For registration and payment: https://www.jvillefitness.com \nFor information call: 541-621-1883 or email: drsmootmedspa@gmail.com
URL:https://jacksonvillecommunitycenter.org/event/5-22-strength-training-with-mikinzie-smoot-nd-2/
LOCATION:Jacksonville Community Center\, 160 E Main St\, Jacksonville\, OR\, 97530\, United States
CATEGORIES:Unsponsored (USP)
ATTACH;FMTTYPE=image/png:https://jacksonvillecommunitycenter.org/wp-content/uploads/2026/03/Strength-Training-with-Mikinzie-320-x-320-px.png
END:VEVENT
BEGIN:VEVENT
DTSTART;TZID=America/Los_Angeles:20260527T080000
DTEND;TZID=America/Los_Angeles:20260527T090000
DTSTAMP:20260421T150841
CREATED:20260420T165342Z
LAST-MODIFIED:20260420T165342Z
UID:10003049-1779868800-1779872400@jacksonvillecommunitycenter.org
SUMMARY:5/27 Strength Training with Mikinzie Smoot\, ND
DESCRIPTION:Naturopath physician Mikinzie Smoot will lead adults in strength-building exercises – incorporating weights\, weight bars and step platforms. Book directly with instructor for this unsponsored one-hour class – offered weekly on Wednesday at 8-9am and Fridays 8:15-9:15am. For registration and payment: https://www.jvillefitness.com \nFor information call: 541-621-1883 or email: drsmootmedspa@gmail.com
URL:https://jacksonvillecommunitycenter.org/event/5-27-strength-training-with-mikinzie-smoot-nd-2/
LOCATION:Jacksonville Community Center\, 160 E Main St\, Jacksonville\, OR\, 97530\, United States
CATEGORIES:Unsponsored (USP)
ATTACH;FMTTYPE=image/png:https://jacksonvillecommunitycenter.org/wp-content/uploads/2026/03/Strength-Training-with-Mikinzie-320-x-320-px.png
END:VEVENT
BEGIN:VEVENT
DTSTART;TZID=America/Los_Angeles:20260529T081500
DTEND;TZID=America/Los_Angeles:20260529T091500
DTSTAMP:20260421T150841
CREATED:20260420T165758Z
LAST-MODIFIED:20260420T165758Z
UID:10003052-1780042500-1780046100@jacksonvillecommunitycenter.org
SUMMARY:5/29 Strength Training with Mikinzie Smoot\, ND
DESCRIPTION:Naturopath physician Mikinzie Smoot will lead adults in strength-building exercises – incorporating weights\, weight bars and step platforms. Book directly with instructor for this unsponsored one-hour class – offered weekly on Wednesday at 8-9am and Fridays 8:15-9:15am. For registration and payment: https://www.jvillefitness.com \nFor information call: 541-621-1883 or email: drsmootmedspa@gmail.com
URL:https://jacksonvillecommunitycenter.org/event/5-29-strength-training-with-mikinzie-smoot-nd/
LOCATION:Jacksonville Community Center\, 160 E Main St\, Jacksonville\, OR\, 97530\, United States
CATEGORIES:Unsponsored (USP)
ATTACH;FMTTYPE=image/png:https://jacksonvillecommunitycenter.org/wp-content/uploads/2026/03/Strength-Training-with-Mikinzie-320-x-320-px.png
END:VEVENT
BEGIN:VEVENT
DTSTART;TZID=America/Los_Angeles:20260603T080000
DTEND;TZID=America/Los_Angeles:20260603T090000
DTSTAMP:20260421T150841
CREATED:20260325T202203Z
LAST-MODIFIED:20260420T201449Z
UID:10002999-1780473600-1780477200@jacksonvillecommunitycenter.org
SUMMARY:6/3 Strength Training with Mikinzie Smoot\, ND
DESCRIPTION:Naturopath physician Mikinzie Smoot will lead adults in strength-building exercises – incorporating weights\, weight bars and step platforms. Book directly with instructor for this unsponsored one-hour class – offered weekly on Wednesday at 8-9am and Fridays 8:15-9:15am. For registration and payment: https://www.jvillefitness.com \nFor information call: 541-621-1883 or email: drsmootmedspa@gmail.com
URL:https://jacksonvillecommunitycenter.org/event/6-3-strength-training-with-mikinzie-smoot-nd-2/
LOCATION:Jacksonville Community Center\, 160 E Main St\, Jacksonville\, OR\, 97530\, United States
CATEGORIES:Unsponsored (USP)
ATTACH;FMTTYPE=image/png:https://jacksonvillecommunitycenter.org/wp-content/uploads/2026/03/Strength-Training-with-Mikinzie-320-x-320-px.png
END:VEVENT
BEGIN:VEVENT
DTSTART;TZID=America/Los_Angeles:20260605T080000
DTEND;TZID=America/Los_Angeles:20260605T090000
DTSTAMP:20260421T150841
CREATED:20260420T201911Z
LAST-MODIFIED:20260420T201911Z
UID:10003080-1780646400-1780650000@jacksonvillecommunitycenter.org
SUMMARY:6/5 Strength Training with Mikinzie Smoot\, ND
DESCRIPTION:Naturopath physician Mikinzie Smoot will lead adults in strength-building exercises – incorporating weights\, weight bars and step platforms. Book directly with instructor for this unsponsored one-hour class – offered weekly on Wednesday at 8-9am and Fridays 8:15-9:15am. For registration and payment: https://www.jvillefitness.com \nFor information call: 541-621-1883 or email: drsmootmedspa@gmail.com
URL:https://jacksonvillecommunitycenter.org/event/6-5-strength-training-with-mikinzie-smoot-nd-2/
LOCATION:Jacksonville Community Center\, 160 E Main St\, Jacksonville\, OR\, 97530\, United States
CATEGORIES:Unsponsored (USP)
ATTACH;FMTTYPE=image/png:https://jacksonvillecommunitycenter.org/wp-content/uploads/2026/03/Strength-Training-with-Mikinzie-320-x-320-px.png
END:VEVENT
BEGIN:VEVENT
DTSTART;TZID=America/Los_Angeles:20260610T080000
DTEND;TZID=America/Los_Angeles:20260610T090000
DTSTAMP:20260421T150841
CREATED:20260420T201616Z
LAST-MODIFIED:20260420T201616Z
UID:10003077-1781078400-1781082000@jacksonvillecommunitycenter.org
SUMMARY:6/10 Strength Training with Mikinzie Smoot\, ND
DESCRIPTION:Naturopath physician Mikinzie Smoot will lead adults in strength-building exercises – incorporating weights\, weight bars and step platforms. Book directly with instructor for this unsponsored one-hour class – offered weekly on Wednesday at 8-9am and Fridays 8:15-9:15am. For registration and payment: https://www.jvillefitness.com \nFor information call: 541-621-1883 or email: drsmootmedspa@gmail.com
URL:https://jacksonvillecommunitycenter.org/event/6-10-strength-training-with-mikinzie-smoot-nd/
LOCATION:Jacksonville Community Center\, 160 E Main St\, Jacksonville\, OR\, 97530\, United States
CATEGORIES:Unsponsored (USP)
ATTACH;FMTTYPE=image/png:https://jacksonvillecommunitycenter.org/wp-content/uploads/2026/03/Strength-Training-with-Mikinzie-320-x-320-px.png
END:VEVENT
BEGIN:VEVENT
DTSTART;TZID=America/Los_Angeles:20260617T080000
DTEND;TZID=America/Los_Angeles:20260617T090000
DTSTAMP:20260421T150841
CREATED:20260420T201719Z
LAST-MODIFIED:20260420T201719Z
UID:10003078-1781683200-1781686800@jacksonvillecommunitycenter.org
SUMMARY:6/17 Strength Training with Mikinzie Smoot\, ND
DESCRIPTION:Naturopath physician Mikinzie Smoot will lead adults in strength-building exercises – incorporating weights\, weight bars and step platforms. Book directly with instructor for this unsponsored one-hour class – offered weekly on Wednesday at 8-9am and Fridays 8:15-9:15am. For registration and payment: https://www.jvillefitness.com \nFor information call: 541-621-1883 or email: drsmootmedspa@gmail.com
URL:https://jacksonvillecommunitycenter.org/event/6-17-strength-training-with-mikinzie-smoot-nd-2/
LOCATION:Jacksonville Community Center\, 160 E Main St\, Jacksonville\, OR\, 97530\, United States
CATEGORIES:Unsponsored (USP)
ATTACH;FMTTYPE=image/png:https://jacksonvillecommunitycenter.org/wp-content/uploads/2026/03/Strength-Training-with-Mikinzie-320-x-320-px.png
END:VEVENT
BEGIN:VEVENT
DTSTART;TZID=America/Los_Angeles:20260619T080000
DTEND;TZID=America/Los_Angeles:20260619T090000
DTSTAMP:20260421T150841
CREATED:20260420T201959Z
LAST-MODIFIED:20260420T202035Z
UID:10003081-1781856000-1781859600@jacksonvillecommunitycenter.org
SUMMARY:6/19 Strength Training with Mikinzie Smoot\, ND
DESCRIPTION:Naturopath physician Mikinzie Smoot will lead adults in strength-building exercises – incorporating weights\, weight bars and step platforms. Book directly with instructor for this unsponsored one-hour class – offered weekly on Wednesday at 8-9am and Fridays 8:15-9:15am. For registration and payment: https://www.jvillefitness.com \nFor information call: 541-621-1883 or email: drsmootmedspa@gmail.com
URL:https://jacksonvillecommunitycenter.org/event/6-19-strength-training-with-mikinzie-smoot-nd/
LOCATION:Jacksonville Community Center\, 160 E Main St\, Jacksonville\, OR\, 97530\, United States
CATEGORIES:Unsponsored (USP)
ATTACH;FMTTYPE=image/png:https://jacksonvillecommunitycenter.org/wp-content/uploads/2026/03/Strength-Training-with-Mikinzie-320-x-320-px.png
END:VEVENT
BEGIN:VEVENT
DTSTART;TZID=America/Los_Angeles:20260624T080000
DTEND;TZID=America/Los_Angeles:20260624T090000
DTSTAMP:20260421T150841
CREATED:20260420T201805Z
LAST-MODIFIED:20260420T201805Z
UID:10003079-1782288000-1782291600@jacksonvillecommunitycenter.org
SUMMARY:6/24 Strength Training with Mikinzie Smoot\, ND
DESCRIPTION:Naturopath physician Mikinzie Smoot will lead adults in strength-building exercises – incorporating weights\, weight bars and step platforms. Book directly with instructor for this unsponsored one-hour class – offered weekly on Wednesday at 8-9am and Fridays 8:15-9:15am. For registration and payment: https://www.jvillefitness.com \nFor information call: 541-621-1883 or email: drsmootmedspa@gmail.com
URL:https://jacksonvillecommunitycenter.org/event/6-24-strength-training-with-mikinzie-smoot-nd/
LOCATION:Jacksonville Community Center\, 160 E Main St\, Jacksonville\, OR\, 97530\, United States
CATEGORIES:Unsponsored (USP)
ATTACH;FMTTYPE=image/png:https://jacksonvillecommunitycenter.org/wp-content/uploads/2026/03/Strength-Training-with-Mikinzie-320-x-320-px.png
END:VEVENT
BEGIN:VEVENT
DTSTART;TZID=America/Los_Angeles:20260626T080000
DTEND;TZID=America/Los_Angeles:20260626T090000
DTSTAMP:20260421T150841
CREATED:20260420T202145Z
LAST-MODIFIED:20260420T202145Z
UID:10003082-1782460800-1782464400@jacksonvillecommunitycenter.org
SUMMARY:6/26 Strength Training with Mikinzie Smoot\, ND
DESCRIPTION:Naturopath physician Mikinzie Smoot will lead adults in strength-building exercises – incorporating weights\, weight bars and step platforms. Book directly with instructor for this unsponsored one-hour class – offered weekly on Wednesday at 8-9am and Fridays 8:15-9:15am. For registration and payment: https://www.jvillefitness.com \nFor information call: 541-621-1883 or email: drsmootmedspa@gmail.com
URL:https://jacksonvillecommunitycenter.org/event/6-26-strength-training-with-mikinzie-smoot-nd-2/
LOCATION:Jacksonville Community Center\, 160 E Main St\, Jacksonville\, OR\, 97530\, United States
CATEGORIES:Unsponsored (USP)
ATTACH;FMTTYPE=image/png:https://jacksonvillecommunitycenter.org/wp-content/uploads/2026/03/Strength-Training-with-Mikinzie-320-x-320-px.png
END:VEVENT
END:VCALENDAR