BEGIN:VCALENDAR
VERSION:2.0
PRODID:-//Jacksonville Community Center-Programs, Small Wedding Site and Meeting Room Rental - ECPv6.15.20//NONSGML v1.0//EN
CALSCALE:GREGORIAN
METHOD:PUBLISH
X-WR-CALNAME:Jacksonville Community Center-Programs, Small Wedding Site and Meeting Room Rental
X-ORIGINAL-URL:https://jacksonvillecommunitycenter.org
X-WR-CALDESC:Events for Jacksonville Community Center-Programs, Small Wedding Site and Meeting Room Rental
REFRESH-INTERVAL;VALUE=DURATION:PT1H
X-Robots-Tag:noindex
X-PUBLISHED-TTL:PT1H
BEGIN:VTIMEZONE
TZID:America/Los_Angeles
BEGIN:DAYLIGHT
TZOFFSETFROM:-0800
TZOFFSETTO:-0700
TZNAME:PDT
DTSTART:20250309T100000
END:DAYLIGHT
BEGIN:STANDARD
TZOFFSETFROM:-0700
TZOFFSETTO:-0800
TZNAME:PST
DTSTART:20251102T090000
END:STANDARD
BEGIN:DAYLIGHT
TZOFFSETFROM:-0800
TZOFFSETTO:-0700
TZNAME:PDT
DTSTART:20260308T100000
END:DAYLIGHT
BEGIN:STANDARD
TZOFFSETFROM:-0700
TZOFFSETTO:-0800
TZNAME:PST
DTSTART:20261101T090000
END:STANDARD
BEGIN:DAYLIGHT
TZOFFSETFROM:-0800
TZOFFSETTO:-0700
TZNAME:PDT
DTSTART:20270314T100000
END:DAYLIGHT
BEGIN:STANDARD
TZOFFSETFROM:-0700
TZOFFSETTO:-0800
TZNAME:PST
DTSTART:20271107T090000
END:STANDARD
END:VTIMEZONE
BEGIN:VEVENT
DTSTART;TZID=America/Los_Angeles:20260318T080000
DTEND;TZID=America/Los_Angeles:20260318T090000
DTSTAMP:20260422T043741
CREATED:20260226T195107Z
LAST-MODIFIED:20260226T195107Z
UID:10002957-1773820800-1773824400@jacksonvillecommunitycenter.org
SUMMARY:3/18 Strength Training with Mikinzie
DESCRIPTION:Naturopath physician Mikinzie Smoot will lead adults in strength-building exercises – incorporating weights\, weight bars and step platforms. Book directly with instructor for this unsponsored one-hour class – offered weekly on Wednesday at 8-9am and Fridays 8:15-9:15am. For registration and payment: https://www.jvillefitness.com \nFor information call: 541-621-1883 or email: drsmootmedspa@gmail.com
URL:https://jacksonvillecommunitycenter.org/event/3-18-strength-training-with-mikinzie/
LOCATION:Jacksonville Community Center\, 160 E Main St\, Jacksonville\, OR\, 97530\, United States
CATEGORIES:Unsponsored (USP)
ATTACH;FMTTYPE=image/jpeg:https://jacksonvillecommunitycenter.org/wp-content/uploads/2024/11/dr-smoot-small-copystanding20240124_082251-e1757006277598.jpg
END:VEVENT
BEGIN:VEVENT
DTSTART;TZID=America/Los_Angeles:20260318T093000
DTEND;TZID=America/Los_Angeles:20260318T101500
DTSTAMP:20260422T043741
CREATED:20260226T193045Z
LAST-MODIFIED:20260226T193045Z
UID:10002940-1773826200-1773828900@jacksonvillecommunitycenter.org
SUMMARY:3/18 Chair Yoga with Lori Sours
DESCRIPTION:This chair-based yoga class incorporates movement\, poses\, breath\, and guided relaxation in both seated and (optional) standing sequences. We move slowly and mindfully\, with plenty of opportunity to pause and notice. The classes are designed using the principles of yoga for healthy aging to support brain and body wellness. \nGO TO: https://www.consideryoga.com/chair-yoga.html to register and pay. \nInstructor Bio: Lori Sours\, PhD\, has been teaching yoga since 2014 and is a Registered Yoga Teacher at the 500-hour level with Yoga Alliance. Beyond Lori’s certification work\, her specialized training includes teaching yoga for healthy aging and chair yoga for brain and body health. She is passionate about introducing the benefits of slow\, mindful yoga\, including chair yoga\, to people who want to feel their best every day and age wisely.
URL:https://jacksonvillecommunitycenter.org/event/3-18-chair-yoga-with-lori-sours-2/
LOCATION:Jacksonville Community Center\, 160 E Main St\, Jacksonville\, OR\, 97530\, United States
CATEGORIES:Unsponsored (USP)
ATTACH;FMTTYPE=image/jpeg:https://jacksonvillecommunitycenter.org/wp-content/uploads/2024/03/Lori-Sours-Chair-Yoga-2024-e1718641899873.jpg
END:VEVENT
BEGIN:VEVENT
DTSTART;TZID=America/Los_Angeles:20260319T090000
DTEND;TZID=America/Los_Angeles:20260319T101500
DTSTAMP:20260422T043741
CREATED:20260226T043412Z
LAST-MODIFIED:20260226T043412Z
UID:10002927-1773910800-1773915300@jacksonvillecommunitycenter.org
SUMMARY:3/19 Intermediate Tai Chi and Qi Gong
DESCRIPTION:Experienced students are the focus of this ongoing class but beginners may join after contacting the instructor. Tai Chi and Qi Gong are calming practices that incorporate slow movement\, breathwork\, visualization\, and meditation. Consistent practice fosters improved balance\, body alignment\, coordination\, and overall sense of well-being. Tai Chi students will also practice the Qi Gong.  To determine if you are ready for this level placement\, please contact instructor Carolyn Wolf prior to attending at carwolf@sonic.net.\nCarolyn’s Bio: “I have been a certified Tai Chi Practice Leader (from the Institute of Integral Qi Gong and Tai Chi) since 2015 and have been leading classes locally since then. I enjoy sharing all the practice has to offer; relaxation\, increased body awareness\, improved balance\, meditation techniques\, and overall improved well-being.”
URL:https://jacksonvillecommunitycenter.org/event/3-19-intermediate-tai-chi-and-qi-gong/
LOCATION:Jacksonville Community Center\, 160 E Main St\, Jacksonville\, OR\, 97530\, United States
CATEGORIES:Sponsored (SP)
ATTACH;FMTTYPE=image/jpeg:https://jacksonvillecommunitycenter.org/wp-content/uploads/2023/12/Tai-Chi-image-e1718642785519.jpg
END:VEVENT
BEGIN:VEVENT
DTSTART;TZID=America/Los_Angeles:20260320T081500
DTEND;TZID=America/Los_Angeles:20260320T091500
DTSTAMP:20260422T043741
CREATED:20260226T194852Z
LAST-MODIFIED:20260226T194852Z
UID:10002955-1773994500-1773998100@jacksonvillecommunitycenter.org
SUMMARY:3/20 Strength Training with Mikinzie
DESCRIPTION:Naturopath physician Mikinzie Smoot will lead adults in strength-building exercises – incorporating weights\, weight bars and step platforms. Book directly with instructor for this unsponsored one-hour class – offered weekly on Wednesday at 8-9am and Fridays 8:15-9:15am. For registration and payment: https://www.jvillefitness.com \nFor information call: 541-621-1883 or email: drsmootmedspa@gmail.com
URL:https://jacksonvillecommunitycenter.org/event/3-20-strength-training-with-mikinzie/
LOCATION:Jacksonville Community Center\, 160 E Main St\, Jacksonville\, OR\, 97530\, United States
CATEGORIES:Unsponsored (USP)
ATTACH;FMTTYPE=image/jpeg:https://jacksonvillecommunitycenter.org/wp-content/uploads/2024/11/dr-smoot-small-copystanding20240124_082251-e1757006277598.jpg
END:VEVENT
BEGIN:VEVENT
DTSTART;TZID=America/Los_Angeles:20260321T110000
DTEND;TZID=America/Los_Angeles:20260321T130000
DTSTAMP:20260422T043741
CREATED:20260218T000349Z
LAST-MODIFIED:20260318T182347Z
UID:10002915-1774090800-1774098000@jacksonvillecommunitycenter.org
SUMMARY:3/21 - Paint & Lunch with Heidi - March Monet Magic
DESCRIPTION:While you learn easy and striking acrylic paint techniques to bring an amazing original Monet water lilies-themed painting to life\, also enjoy a full lunch array of delightful dishes. Heidi Elliott has been teaching painting for over a decade and brings a calm\, reassuring style to the classroom so that everyone can succeed. \nBring friends\, family or sweethearts for more fun! Ages 9 – Adult. (Youth aged 9+ must be accompanied by an adult.) All supplies and lunch included. This class usually sells out so pre-registration is recommended. Walk-ins as space allows. \nInstructor Bio: Heidi Elliott is a free-lance mixed-media artist who has taught Paint & Lunch style classes for years and encourages everyone to find a creative path. She served as Jacksonville Garden Club’s First Vice President for three years. Heidi is a Certified Morning Altars Teacher and Practitioner. She loves life here in Jacksonville and is happy to call it home.
URL:https://jacksonvillecommunitycenter.org/event/3-21-paint-lunch-with-heidi-march-monet-magic/
LOCATION:Jacksonville Community Center\, 160 E Main St\, Jacksonville\, OR\, 97530\, United States
CATEGORIES:Arts/Crafts/Creative,Sponsored (SP)
ATTACH;FMTTYPE=image/png:https://jacksonvillecommunitycenter.org/wp-content/uploads/2026/02/image-17.png
END:VEVENT
END:VCALENDAR