BEGIN:VCALENDAR
VERSION:2.0
PRODID:-//Jacksonville Community Center-Programs, Small Wedding Site and Meeting Room Rental - ECPv6.15.20//NONSGML v1.0//EN
CALSCALE:GREGORIAN
METHOD:PUBLISH
X-ORIGINAL-URL:https://jacksonvillecommunitycenter.org
X-WR-CALDESC:Events for Jacksonville Community Center-Programs, Small Wedding Site and Meeting Room Rental
REFRESH-INTERVAL;VALUE=DURATION:PT1H
X-Robots-Tag:noindex
X-PUBLISHED-TTL:PT1H
BEGIN:VTIMEZONE
TZID:America/Los_Angeles
BEGIN:DAYLIGHT
TZOFFSETFROM:-0800
TZOFFSETTO:-0700
TZNAME:PDT
DTSTART:20250309T100000
END:DAYLIGHT
BEGIN:STANDARD
TZOFFSETFROM:-0700
TZOFFSETTO:-0800
TZNAME:PST
DTSTART:20251102T090000
END:STANDARD
BEGIN:DAYLIGHT
TZOFFSETFROM:-0800
TZOFFSETTO:-0700
TZNAME:PDT
DTSTART:20260308T100000
END:DAYLIGHT
BEGIN:STANDARD
TZOFFSETFROM:-0700
TZOFFSETTO:-0800
TZNAME:PST
DTSTART:20261101T090000
END:STANDARD
BEGIN:DAYLIGHT
TZOFFSETFROM:-0800
TZOFFSETTO:-0700
TZNAME:PDT
DTSTART:20270314T100000
END:DAYLIGHT
BEGIN:STANDARD
TZOFFSETFROM:-0700
TZOFFSETTO:-0800
TZNAME:PST
DTSTART:20271107T090000
END:STANDARD
END:VTIMEZONE
BEGIN:VEVENT
DTSTART;TZID=America/Los_Angeles:20260408T140000
DTEND;TZID=America/Los_Angeles:20260408T150000
DTSTAMP:20260421T181817
CREATED:20260320T003629Z
LAST-MODIFIED:20260320T003629Z
UID:10002967-1775656800-1775660400@jacksonvillecommunitycenter.org
SUMMARY:4/8 -Experimentation Station: Flower Science with Pollinator Project Rogue Valley
DESCRIPTION:Ages: 6+  Cost: $5 (Parents may drop off or participate for free) \nFlower Science with Pollinator Pals – presented by PPRV\nDate: Wednesday April 8\, 2-3pm \nJoin Pollinator Project Rogue Valley for a science-filled workshop all about flowers and their spectacular\npollinators. Dissect flower specimens and use microscopes to get a close up look and create unique\nflower art to take home.\nInstructor Bio: Ethan Robison has been teaching students in the Rouge Valley (and beyond) since\njoining Pollinator Project Rogue Valley in 2022. A lifelong bug fan\, Ethan enjoys sharing the wonders of\nthe natural world with anyone and everyone.
URL:https://jacksonvillecommunitycenter.org/event/4-8-experimentation-station-flower-science-with-pollinator-project-rogue-valley/
LOCATION:Jacksonville Community Center\, 160 E Main St\, Jacksonville\, OR\, 97530\, United States
CATEGORIES:Arts/Crafts/Creative,Sponsored (SP)
ATTACH;FMTTYPE=image/png:https://jacksonvillecommunitycenter.org/wp-content/uploads/2026/03/Science-5.png
END:VEVENT
END:VCALENDAR