BEGIN:VCALENDAR
VERSION:2.0
PRODID:-//Jacksonville Community Center-Programs, Small Wedding Site and Meeting Room Rental - ECPv6.15.20//NONSGML v1.0//EN
CALSCALE:GREGORIAN
METHOD:PUBLISH
X-ORIGINAL-URL:https://jacksonvillecommunitycenter.org
X-WR-CALDESC:Events for Jacksonville Community Center-Programs, Small Wedding Site and Meeting Room Rental
REFRESH-INTERVAL;VALUE=DURATION:PT1H
X-Robots-Tag:noindex
X-PUBLISHED-TTL:PT1H
BEGIN:VTIMEZONE
TZID:America/Los_Angeles
BEGIN:DAYLIGHT
TZOFFSETFROM:-0800
TZOFFSETTO:-0700
TZNAME:PDT
DTSTART:20250309T100000
END:DAYLIGHT
BEGIN:STANDARD
TZOFFSETFROM:-0700
TZOFFSETTO:-0800
TZNAME:PST
DTSTART:20251102T090000
END:STANDARD
BEGIN:DAYLIGHT
TZOFFSETFROM:-0800
TZOFFSETTO:-0700
TZNAME:PDT
DTSTART:20260308T100000
END:DAYLIGHT
BEGIN:STANDARD
TZOFFSETFROM:-0700
TZOFFSETTO:-0800
TZNAME:PST
DTSTART:20261101T090000
END:STANDARD
BEGIN:DAYLIGHT
TZOFFSETFROM:-0800
TZOFFSETTO:-0700
TZNAME:PDT
DTSTART:20270314T100000
END:DAYLIGHT
BEGIN:STANDARD
TZOFFSETFROM:-0700
TZOFFSETTO:-0800
TZNAME:PST
DTSTART:20271107T090000
END:STANDARD
END:VTIMEZONE
BEGIN:VEVENT
DTSTART;TZID=America/Los_Angeles:20260318T140000
DTEND;TZID=America/Los_Angeles:20260318T150000
DTSTAMP:20260421T181954
CREATED:20260217T191910Z
LAST-MODIFIED:20260306T000821Z
UID:10002913-1773842400-1773846000@jacksonvillecommunitycenter.org
SUMMARY:Experimentation Station: Building Rainbow Bridges
DESCRIPTION:Ages: 6+  Cost: $5 (Parents may drop off or participate for free) \nA St. Patrick’s Engineering Challenge! Design and make your own “Rainbow Bridge” and see if it will hold A Pot-O-Gold! \n  \nInstructor Bio: Tori Wood is the Volunteer and Facility Coordinator at the JCC. She has a background in laboratory science and is incredibly excited to help foster a love of science and learning in our community.
URL:https://jacksonvillecommunitycenter.org/event/experimentation-station-building-rainbow-bridges/
LOCATION:Jacksonville Community Center\, 160 E Main St\, Jacksonville\, OR\, 97530\, United States
CATEGORIES:Arts/Crafts/Creative,Sponsored (SP)
ATTACH;FMTTYPE=image/png:https://jacksonvillecommunitycenter.org/wp-content/uploads/2026/02/Science-4.png
END:VEVENT
END:VCALENDAR