BEGIN:VCALENDAR
VERSION:2.0
PRODID:-//Jacksonville Community Center-Programs, Small Wedding Site and Meeting Room Rental - ECPv6.15.20//NONSGML v1.0//EN
CALSCALE:GREGORIAN
METHOD:PUBLISH
X-ORIGINAL-URL:https://jacksonvillecommunitycenter.org
X-WR-CALDESC:Events for Jacksonville Community Center-Programs, Small Wedding Site and Meeting Room Rental
REFRESH-INTERVAL;VALUE=DURATION:PT1H
X-Robots-Tag:noindex
X-PUBLISHED-TTL:PT1H
BEGIN:VTIMEZONE
TZID:America/Los_Angeles
BEGIN:DAYLIGHT
TZOFFSETFROM:-0800
TZOFFSETTO:-0700
TZNAME:PDT
DTSTART:20250309T100000
END:DAYLIGHT
BEGIN:STANDARD
TZOFFSETFROM:-0700
TZOFFSETTO:-0800
TZNAME:PST
DTSTART:20251102T090000
END:STANDARD
BEGIN:DAYLIGHT
TZOFFSETFROM:-0800
TZOFFSETTO:-0700
TZNAME:PDT
DTSTART:20260308T100000
END:DAYLIGHT
BEGIN:STANDARD
TZOFFSETFROM:-0700
TZOFFSETTO:-0800
TZNAME:PST
DTSTART:20261101T090000
END:STANDARD
BEGIN:DAYLIGHT
TZOFFSETFROM:-0800
TZOFFSETTO:-0700
TZNAME:PDT
DTSTART:20270314T100000
END:DAYLIGHT
BEGIN:STANDARD
TZOFFSETFROM:-0700
TZOFFSETTO:-0800
TZNAME:PST
DTSTART:20271107T090000
END:STANDARD
END:VTIMEZONE
BEGIN:VEVENT
DTSTART;TZID=America/Los_Angeles:20260313T103000
DTEND;TZID=America/Los_Angeles:20260313T114500
DTSTAMP:20260424T124715
CREATED:20260226T043924Z
LAST-MODIFIED:20260226T043924Z
UID:10002928-1773397800-1773402300@jacksonvillecommunitycenter.org
SUMMARY:3/13 Beginning Yoga with Lori
DESCRIPTION:Join Lori Grable for a Beginning Yoga class! This class is open to anyone who is interested in trying out yoga for the first time or wants a refresher yoga class after a layoff. Come with comfortable clothes\, a yoga mat and water bottle. \nNew students can arrive at 10:15. \nLori began her yoga journey in 2000 as a student at the Santa Barbara Yoga Center. She was drawn to the practice because it helped her to reconnect with her most authentic self while making her stronger and more open\, physically and mentally. Her passion for yoga grew stronger as she traveled around the United States during the summer of 2003\, practicing at many studios along the way. After settling in Pittsburgh\, PA\, she completed her teacher training and began teaching in 2006. \nToday\, Lori is an E-RYT 500 and teaches Vinyasa-based classes. She is influenced by the philosophy and alignment principles of Anusara Yoga. As a triathlete\, Lori has an interest in yoga for athletes and has taught many workshops on the topic. She has a passion for the outdoors and has taught yoga in parks\, vineyards\, and backyards. Lori appreciates the healing and restorative qualities of yoga and has also worked with students who are recovering from illness\, rehabilitating injuries\, pregnant\, or elderly.
URL:https://jacksonvillecommunitycenter.org/event/3-13-beginning-yoga-lori/
LOCATION:Jacksonville Community Center\, 160 E Main St\, Jacksonville\, OR\, 97530\, United States
CATEGORIES:Sponsored (SP)
ATTACH;FMTTYPE=image/png:https://jacksonvillecommunitycenter.org/wp-content/uploads/2022/10/yoga.png
END:VEVENT
BEGIN:VEVENT
DTSTART;TZID=America/Los_Angeles:20260315T100000
DTEND;TZID=America/Los_Angeles:20260315T110000
DTSTAMP:20260424T124715
CREATED:20260226T042035Z
LAST-MODIFIED:20260226T042129Z
UID:10002924-1773568800-1773572400@jacksonvillecommunitycenter.org
SUMMARY:3/15 - Healing Sound Bowls with Kelly & Linda
DESCRIPTION:Join Sound Bowl practitioners Kelly Peters and Linda Kilcollins to experience a transformative sound session spanning featuring an array of soothing elements like gongs\, singing bowls\, chimes\, drums\, and tuning forks. Immerse yourself in relaxation as these harmonious vibrations naturally align you and allow your body to heal. \nInstructors Bios: \nKelly Rose\, the founder and owner of Kelly Rose Wellness\, is dedicated to guiding individuals toward healing through deep relaxation. As a certified practitioner in sound therapy\, Reiki\, and yoga\, she creates a nurturing environment where clients can achieve mental\, physical\, spiritual\, and emotional balance. Her nine years of study and practice in sound healing reflect her passion for sharing its benefits with others. Regardless of the wellness modality employed\, Kelly’s goal is for clients to leave feeling a positive shift and an enhanced sense of well-being. \nLinda Kilcollins is a certified sound bowl practitioner\, offering soothing sessions for hospice patients. Now in collaboration with several instructors at the community center\, she hopes to bring comfort\, peace\, and a sense of calm to all who join. \n 
URL:https://jacksonvillecommunitycenter.org/event/3-15-healing-sound-bowls/
LOCATION:Jacksonville Community Center\, 160 E Main St\, Jacksonville\, OR\, 97530\, United States
CATEGORIES:Sponsored (SP)
ATTACH;FMTTYPE=image/png:https://jacksonvillecommunitycenter.org/wp-content/uploads/2026/02/Sound-Bowl-Bath-Workshop-Instagram-Post-500-x-500-px-1-1.png
END:VEVENT
END:VCALENDAR