BEGIN:VCALENDAR
VERSION:2.0
PRODID:-//Jacksonville Community Center-Programs, Small Wedding Site and Meeting Room Rental - ECPv6.15.20//NONSGML v1.0//EN
CALSCALE:GREGORIAN
METHOD:PUBLISH
X-WR-CALNAME:Jacksonville Community Center-Programs, Small Wedding Site and Meeting Room Rental
X-ORIGINAL-URL:https://jacksonvillecommunitycenter.org
X-WR-CALDESC:Events for Jacksonville Community Center-Programs, Small Wedding Site and Meeting Room Rental
REFRESH-INTERVAL;VALUE=DURATION:PT1H
X-Robots-Tag:noindex
X-PUBLISHED-TTL:PT1H
BEGIN:VTIMEZONE
TZID:America/Los_Angeles
BEGIN:DAYLIGHT
TZOFFSETFROM:-0800
TZOFFSETTO:-0700
TZNAME:PDT
DTSTART:20250309T100000
END:DAYLIGHT
BEGIN:STANDARD
TZOFFSETFROM:-0700
TZOFFSETTO:-0800
TZNAME:PST
DTSTART:20251102T090000
END:STANDARD
BEGIN:DAYLIGHT
TZOFFSETFROM:-0800
TZOFFSETTO:-0700
TZNAME:PDT
DTSTART:20260308T100000
END:DAYLIGHT
BEGIN:STANDARD
TZOFFSETFROM:-0700
TZOFFSETTO:-0800
TZNAME:PST
DTSTART:20261101T090000
END:STANDARD
BEGIN:DAYLIGHT
TZOFFSETFROM:-0800
TZOFFSETTO:-0700
TZNAME:PDT
DTSTART:20270314T100000
END:DAYLIGHT
BEGIN:STANDARD
TZOFFSETFROM:-0700
TZOFFSETTO:-0800
TZNAME:PST
DTSTART:20271107T090000
END:STANDARD
END:VTIMEZONE
BEGIN:VEVENT
DTSTART;TZID=America/Los_Angeles:20260419T140000
DTEND;TZID=America/Los_Angeles:20260419T160000
DTSTAMP:20260421T135657
CREATED:20260320T000022Z
LAST-MODIFIED:20260320T001925Z
UID:10002964-1776607200-1776614400@jacksonvillecommunitycenter.org
SUMMARY:4/19 Beginning Watercolor: Spring Flowers with Carole W.
DESCRIPTION:Join watercolor artist and teacher\, Carole Whitridge\, for this fun class creating original watercolor paintings of spring flowers in charming pots. Learn basic watercolor techniques and practice with several variations. All materials and supplies included for just $20. \nIn this beginner watercolor class\, participants (ages 10+ to adult) will learn to paint smooth washes of color\, paint gradients\, and details. We’ll use techniques such as lifting paint and adding highlights\, to create beautiful\, satisfying art. No additional costs. \nInstructor Bio: Carole Whitridge combines her love of painting and travel to bring tranquil\, accessible classes to her students. She has a deep respect for the art and history of East Asia and strives to bring some of these traditions to her own teaching practice. She teaches watercolor to regional youth and adults alike. \n 
URL:https://jacksonvillecommunitycenter.org/event/3-12-beginning-watercolor-spring-flowers-with-carole-w-2/
LOCATION:Jacksonville Community Center\, 160 E Main St\, Jacksonville\, OR\, 97530\, United States
CATEGORIES:Arts/Crafts/Creative,Sponsored (SP)
ATTACH;FMTTYPE=image/png:https://jacksonvillecommunitycenter.org/wp-content/uploads/2026/03/Watercolor-Class-Carole-Spring-Flowers-320-x-320-px.png
END:VEVENT
END:VCALENDAR