BEGIN:VCALENDAR
VERSION:2.0
PRODID:-//Jacksonville Community Center-Programs, Small Wedding Site and Meeting Room Rental - ECPv6.15.20//NONSGML v1.0//EN
CALSCALE:GREGORIAN
METHOD:PUBLISH
X-WR-CALNAME:Jacksonville Community Center-Programs, Small Wedding Site and Meeting Room Rental
X-ORIGINAL-URL:https://jacksonvillecommunitycenter.org
X-WR-CALDESC:Events for Jacksonville Community Center-Programs, Small Wedding Site and Meeting Room Rental
REFRESH-INTERVAL;VALUE=DURATION:PT1H
X-Robots-Tag:noindex
X-PUBLISHED-TTL:PT1H
BEGIN:VTIMEZONE
TZID:America/Los_Angeles
BEGIN:DAYLIGHT
TZOFFSETFROM:-0800
TZOFFSETTO:-0700
TZNAME:PDT
DTSTART:20250309T100000
END:DAYLIGHT
BEGIN:STANDARD
TZOFFSETFROM:-0700
TZOFFSETTO:-0800
TZNAME:PST
DTSTART:20251102T090000
END:STANDARD
BEGIN:DAYLIGHT
TZOFFSETFROM:-0800
TZOFFSETTO:-0700
TZNAME:PDT
DTSTART:20260308T100000
END:DAYLIGHT
BEGIN:STANDARD
TZOFFSETFROM:-0700
TZOFFSETTO:-0800
TZNAME:PST
DTSTART:20261101T090000
END:STANDARD
BEGIN:DAYLIGHT
TZOFFSETFROM:-0800
TZOFFSETTO:-0700
TZNAME:PDT
DTSTART:20270314T100000
END:DAYLIGHT
BEGIN:STANDARD
TZOFFSETFROM:-0700
TZOFFSETTO:-0800
TZNAME:PST
DTSTART:20271107T090000
END:STANDARD
END:VTIMEZONE
BEGIN:VEVENT
DTSTART;TZID=America/Los_Angeles:20260417T081500
DTEND;TZID=America/Los_Angeles:20260417T091500
DTSTAMP:20260421T191520
CREATED:20260325T202509Z
LAST-MODIFIED:20260325T202509Z
UID:10003004-1776413700-1776417300@jacksonvillecommunitycenter.org
SUMMARY:4/17 Strength Training with Mikinzie Smoot\, ND
DESCRIPTION:Naturopath physician Mikinzie Smoot will lead adults in strength-building exercises – incorporating weights\, weight bars and step platforms. Book directly with instructor for this unsponsored one-hour class – offered weekly on Wednesday at 8-9am and Fridays 8:15-9:15am. For registration and payment: https://www.jvillefitness.com \nFor information call: 541-621-1883 or email: drsmootmedspa@gmail.com
URL:https://jacksonvillecommunitycenter.org/event/4-17-strength-training-with-mikinzie-smoot-nd/
LOCATION:Jacksonville Community Center\, 160 E Main St\, Jacksonville\, OR\, 97530\, United States
CATEGORIES:Unsponsored (USP)
ATTACH;FMTTYPE=image/png:https://jacksonvillecommunitycenter.org/wp-content/uploads/2026/03/Strength-Training-with-Mikinzie-320-x-320-px.png
END:VEVENT
BEGIN:VEVENT
DTSTART;TZID=America/Los_Angeles:20260417T103000
DTEND;TZID=America/Los_Angeles:20260417T113000
DTSTAMP:20260421T191520
CREATED:20260325T195436Z
LAST-MODIFIED:20260325T195436Z
UID:10002988-1776421800-1776425400@jacksonvillecommunitycenter.org
SUMMARY:4/17 Beginning Yoga with Lori
DESCRIPTION:Join Lori Grable for a Beginning Yoga class! This class is open to anyone who is interested in trying out yoga for the first time or wants a refresher yoga class after a layoff. Come with comfortable clothes\, a yoga mat and water bottle. \nNew students can arrive at 10:15. \nLori began her yoga journey in 2000 as a student at the Santa Barbara Yoga Center. She was drawn to the practice because it helped her to reconnect with her most authentic self while making her stronger and more open\, physically and mentally. Her passion for yoga grew stronger as she traveled around the United States during the summer of 2003\, practicing at many studios along the way. After settling in Pittsburgh\, PA\, she completed her teacher training and began teaching in 2006. \nToday\, Lori is an E-RYT 500 and teaches Vinyasa-based classes. She is influenced by the philosophy and alignment principles of Anusara Yoga. As a triathlete\, Lori has an interest in yoga for athletes and has taught many workshops on the topic. She has a passion for the outdoors and has taught yoga in parks\, vineyards\, and backyards. Lori appreciates the healing and restorative qualities of yoga and has also worked with students who are recovering from illness\, rehabilitating injuries\, pregnant\, or elderly.
URL:https://jacksonvillecommunitycenter.org/event/4-17-beginning-yoga-with-lori-2/
LOCATION:Jacksonville Community Center\, 160 E Main St\, Jacksonville\, OR\, 97530\, United States
CATEGORIES:Sponsored (SP)
ATTACH;FMTTYPE=image/png:https://jacksonvillecommunitycenter.org/wp-content/uploads/2026/02/Beginning-Yoga-with-Lori-Grable-320-x-320-px.png
END:VEVENT
END:VCALENDAR