BEGIN:VCALENDAR
VERSION:2.0
PRODID:-//Jacksonville Community Center-Programs, Small Wedding Site and Meeting Room Rental - ECPv6.15.20//NONSGML v1.0//EN
CALSCALE:GREGORIAN
METHOD:PUBLISH
X-ORIGINAL-URL:https://jacksonvillecommunitycenter.org
X-WR-CALDESC:Events for Jacksonville Community Center-Programs, Small Wedding Site and Meeting Room Rental
REFRESH-INTERVAL;VALUE=DURATION:PT1H
X-Robots-Tag:noindex
X-PUBLISHED-TTL:PT1H
BEGIN:VTIMEZONE
TZID:America/Los_Angeles
BEGIN:DAYLIGHT
TZOFFSETFROM:-0800
TZOFFSETTO:-0700
TZNAME:PDT
DTSTART:20250309T100000
END:DAYLIGHT
BEGIN:STANDARD
TZOFFSETFROM:-0700
TZOFFSETTO:-0800
TZNAME:PST
DTSTART:20251102T090000
END:STANDARD
BEGIN:DAYLIGHT
TZOFFSETFROM:-0800
TZOFFSETTO:-0700
TZNAME:PDT
DTSTART:20260308T100000
END:DAYLIGHT
BEGIN:STANDARD
TZOFFSETFROM:-0700
TZOFFSETTO:-0800
TZNAME:PST
DTSTART:20261101T090000
END:STANDARD
BEGIN:DAYLIGHT
TZOFFSETFROM:-0800
TZOFFSETTO:-0700
TZNAME:PDT
DTSTART:20270314T100000
END:DAYLIGHT
BEGIN:STANDARD
TZOFFSETFROM:-0700
TZOFFSETTO:-0800
TZNAME:PST
DTSTART:20271107T090000
END:STANDARD
END:VTIMEZONE
BEGIN:VEVENT
DTSTART;TZID=America/Los_Angeles:20260319T090000
DTEND;TZID=America/Los_Angeles:20260319T101500
DTSTAMP:20260422T060328
CREATED:20260226T043412Z
LAST-MODIFIED:20260226T043412Z
UID:10002927-1773910800-1773915300@jacksonvillecommunitycenter.org
SUMMARY:3/19 Intermediate Tai Chi and Qi Gong
DESCRIPTION:Experienced students are the focus of this ongoing class but beginners may join after contacting the instructor. Tai Chi and Qi Gong are calming practices that incorporate slow movement\, breathwork\, visualization\, and meditation. Consistent practice fosters improved balance\, body alignment\, coordination\, and overall sense of well-being. Tai Chi students will also practice the Qi Gong.  To determine if you are ready for this level placement\, please contact instructor Carolyn Wolf prior to attending at carwolf@sonic.net.\nCarolyn’s Bio: “I have been a certified Tai Chi Practice Leader (from the Institute of Integral Qi Gong and Tai Chi) since 2015 and have been leading classes locally since then. I enjoy sharing all the practice has to offer; relaxation\, increased body awareness\, improved balance\, meditation techniques\, and overall improved well-being.”
URL:https://jacksonvillecommunitycenter.org/event/3-19-intermediate-tai-chi-and-qi-gong/
LOCATION:Jacksonville Community Center\, 160 E Main St\, Jacksonville\, OR\, 97530\, United States
CATEGORIES:Sponsored (SP)
ATTACH;FMTTYPE=image/jpeg:https://jacksonvillecommunitycenter.org/wp-content/uploads/2023/12/Tai-Chi-image-e1718642785519.jpg
END:VEVENT
BEGIN:VEVENT
DTSTART;TZID=America/Los_Angeles:20260319T163000
DTEND;TZID=America/Los_Angeles:20260319T180000
DTSTAMP:20260422T060328
CREATED:20260225T225338Z
LAST-MODIFIED:20260318T175437Z
UID:10002921-1773937800-1773943200@jacksonvillecommunitycenter.org
SUMMARY:CANCELLED - 3/19 - Spring/Easter Wreath-Making with Kathy!
DESCRIPTION:SORRY – THIS CLASS HAS CANCELLED. Enjoy making your own ribbon-based spring wreath.   Take home a beautiful focal-point for your holiday decor in cheerful pastels. All materials included. \nInstructor Bio: Kathy Jackson — a lifelong crafter with a heart full of creativity and a glue gun never too far from reach! She has been teaching crafting classes for years and just recently moved to our area. \nFrom paper flowers and homemade cards to seasonal decorations and upcycled treasures\, crafting has always been Kathy’s happy place\, and she’s thrilled to share that joy with others. Whether you’re a complete beginner or just looking for a little inspiration\, Kathy is here to help you discover the fun and satisfaction that comes with making something beautiful from scratch. Through her hands-on classes\, Kathy will guide you step by step as you create unique projects together.
URL:https://jacksonvillecommunitycenter.org/event/3-19-spring-wreath-making-with-kathy-2/
LOCATION:Jacksonville Community Center\, 160 E Main St\, Jacksonville\, OR\, 97530\, United States
CATEGORIES:Arts/Crafts/Creative,Sponsored (SP)
ATTACH;FMTTYPE=image/png:https://jacksonvillecommunitycenter.org/wp-content/uploads/2026/02/Easter-wREATH-500-x-500-px.png
END:VEVENT
END:VCALENDAR