BEGIN:VCALENDAR
VERSION:2.0
PRODID:-//Jacksonville Community Center-Programs, Small Wedding Site and Meeting Room Rental - ECPv6.15.20//NONSGML v1.0//EN
CALSCALE:GREGORIAN
METHOD:PUBLISH
X-ORIGINAL-URL:https://jacksonvillecommunitycenter.org
X-WR-CALDESC:Events for Jacksonville Community Center-Programs, Small Wedding Site and Meeting Room Rental
REFRESH-INTERVAL;VALUE=DURATION:PT1H
X-Robots-Tag:noindex
X-PUBLISHED-TTL:PT1H
BEGIN:VTIMEZONE
TZID:America/Los_Angeles
BEGIN:DAYLIGHT
TZOFFSETFROM:-0800
TZOFFSETTO:-0700
TZNAME:PDT
DTSTART:20250309T100000
END:DAYLIGHT
BEGIN:STANDARD
TZOFFSETFROM:-0700
TZOFFSETTO:-0800
TZNAME:PST
DTSTART:20251102T090000
END:STANDARD
BEGIN:DAYLIGHT
TZOFFSETFROM:-0800
TZOFFSETTO:-0700
TZNAME:PDT
DTSTART:20260308T100000
END:DAYLIGHT
BEGIN:STANDARD
TZOFFSETFROM:-0700
TZOFFSETTO:-0800
TZNAME:PST
DTSTART:20261101T090000
END:STANDARD
BEGIN:DAYLIGHT
TZOFFSETFROM:-0800
TZOFFSETTO:-0700
TZNAME:PDT
DTSTART:20270314T100000
END:DAYLIGHT
BEGIN:STANDARD
TZOFFSETFROM:-0700
TZOFFSETTO:-0800
TZNAME:PST
DTSTART:20271107T090000
END:STANDARD
END:VTIMEZONE
BEGIN:VEVENT
DTSTART;TZID=America/Los_Angeles:20260310T160000
DTEND;TZID=America/Los_Angeles:20260310T180000
DTSTAMP:20260421T182827
CREATED:20260225T224523Z
LAST-MODIFIED:20260225T224523Z
UID:10002920-1773158400-1773165600@jacksonvillecommunitycenter.org
SUMMARY:3/10 J-Ville Writers Workshop with Author Louisa Morgan
DESCRIPTION:Join multi-published Louisa Morgan as she facilitates a workshop for writers once a month. Louisa will illuminate one important element of writing and the writing life each meeting and the rest of the time will be spent workshopping. Novels\, short stories\, and memoirs are all welcome\, as are all genres\, from cozy romance to hard science fiction. New writers as well as experienced authors are encouraged to join in. The members will critique each other’s work\, with emphasis on positive and supportive feedback. The workshop is designed to enhance skills for writers of any level. Beginners to early writers welcome! Cost: $5 to support JCC.\nPresenter Bio: Louisa Morgan (pseudonym for Louise Marley)\, has been publishing steadily since her first novel appeared in 1995.  She is a three-time winner of the Endeavour Award\, given for excellence in speculative fiction by a Pacific Northwest author. Previously trained as a classical singer\, she performed with the Seattle Opera and Seattle Symphony. She taught voice and related subjects at Cornish College of the Arts and has toured the world as a soloist. She recently settled in Jacksonville and enjoys teaching introduction to writing to adults and teens.
URL:https://jacksonvillecommunitycenter.org/event/3-10-j-ville-writers-workshop-with-author-louisa-morgan-2/
LOCATION:Jacksonville Community Center\, 160 E Main St\, Jacksonville\, OR\, 97530\, United States
CATEGORIES:Sponsored (SP)
ATTACH;FMTTYPE=image/png:https://jacksonvillecommunitycenter.org/wp-content/uploads/2026/02/EVENT-COVER-Writing-workshop-500-x-500-px-1.png
END:VEVENT
END:VCALENDAR