BEGIN:VCALENDAR
VERSION:2.0
PRODID:-//Jacksonville Community Center-Programs, Small Wedding Site and Meeting Room Rental - ECPv6.15.20//NONSGML v1.0//EN
CALSCALE:GREGORIAN
METHOD:PUBLISH
X-WR-CALNAME:Jacksonville Community Center-Programs, Small Wedding Site and Meeting Room Rental
X-ORIGINAL-URL:https://jacksonvillecommunitycenter.org
X-WR-CALDESC:Events for Jacksonville Community Center-Programs, Small Wedding Site and Meeting Room Rental
REFRESH-INTERVAL;VALUE=DURATION:PT1H
X-Robots-Tag:noindex
X-PUBLISHED-TTL:PT1H
BEGIN:VTIMEZONE
TZID:America/Los_Angeles
BEGIN:DAYLIGHT
TZOFFSETFROM:-0800
TZOFFSETTO:-0700
TZNAME:PDT
DTSTART:20250309T100000
END:DAYLIGHT
BEGIN:STANDARD
TZOFFSETFROM:-0700
TZOFFSETTO:-0800
TZNAME:PST
DTSTART:20251102T090000
END:STANDARD
BEGIN:DAYLIGHT
TZOFFSETFROM:-0800
TZOFFSETTO:-0700
TZNAME:PDT
DTSTART:20260308T100000
END:DAYLIGHT
BEGIN:STANDARD
TZOFFSETFROM:-0700
TZOFFSETTO:-0800
TZNAME:PST
DTSTART:20261101T090000
END:STANDARD
BEGIN:DAYLIGHT
TZOFFSETFROM:-0800
TZOFFSETTO:-0700
TZNAME:PDT
DTSTART:20270314T100000
END:DAYLIGHT
BEGIN:STANDARD
TZOFFSETFROM:-0700
TZOFFSETTO:-0800
TZNAME:PST
DTSTART:20271107T090000
END:STANDARD
END:VTIMEZONE
BEGIN:VEVENT
DTSTART;TZID=America/Los_Angeles:20260309T081500
DTEND;TZID=America/Los_Angeles:20260309T091500
DTSTAMP:20260421T153531
CREATED:20260226T191956Z
LAST-MODIFIED:20260226T191956Z
UID:10002930-1773044100-1773047700@jacksonvillecommunitycenter.org
SUMMARY:3/9 Morning LIFT Yoga with Mindy
DESCRIPTION:This yoga power hour connects the mind and body through faster-paced\, flowing sequences and breath synchronization.  This full body workout is designed to build strength and flexibility\, burn calories and stress\, fine tune the core and body intuition in a fun and uplifting ambiance.  These vibrant and dynamic poses help us to reap the mental health benefits of emotional regulation\, stress reduction\, sleep enhancement\, and overall well-being in the present moment.  Bring a yoga mat. \nBook directly with the instructor Mindy Smith  Yoga Alliance RYT 200 MPH CHES at https://www.powermindlight.com \nMindy Smith took her first yoga class as a college elective and has been devoted to the practice ever since. She studied Vinyasa Yoga under renowned teacher Shiva Rea in Venice Beach\, CA\, and has been a full-time health education professor at West Los Angeles College since 2001. In 2008\, she expanded her teaching to include semester long yoga electives for the kinesiology department. \nMindy’s additional training includes prenatal and postnatal yoga\, yoga for children\, and Mental Health First Aid. She has led college-wide workshops on yoga\, meditation\, and self-care for students\, staff\, and faculty alike. \nIn 2011\, Mindy spent six transformative months traveling through India\, where she studied Ayurveda—India’s traditional “science of life”—and deepened her understanding of yoga\, breathwork\, and meditation at the source. She integrates this ancient wisdom into her own teaching\, creating a dynamic blend of modern science\, anatomical alignment and traditional practice.
URL:https://jacksonvillecommunitycenter.org/event/3-9-morning-lift-yoga-with-mindy-2/
LOCATION:Jacksonville Community Center\, 160 E Main St\, Jacksonville\, OR\, 97530\, United States
CATEGORIES:Unsponsored (USP)
ATTACH;FMTTYPE=image/png:https://jacksonvillecommunitycenter.org/wp-content/uploads/2026/01/website-program-graphic-Logo-1.png
END:VEVENT
BEGIN:VEVENT
DTSTART;TZID=America/Los_Angeles:20260309T110000
DTEND;TZID=America/Los_Angeles:20260309T120000
DTSTAMP:20260421T153531
CREATED:20260226T193735Z
LAST-MODIFIED:20260226T193735Z
UID:10002944-1773054000-1773057600@jacksonvillecommunitycenter.org
SUMMARY:3/9 Music Time for Littles - with Miss Laurie
DESCRIPTION:Music Time for Littles – with Ms. Laurie\nAges: 0-5 with accompanying adult Cost: $5 per child\nDiscover the joy of music in this engaging class designed for children 0-5 and their caregivers. This class combines singing\, rhythm\, movement and sign language. Get ready to sing beloved songs from around the world\, and make music together in this weekly class! Sponsored by Jackson Care Connect. \nInstructor Bio: Laurie Finear has been a music teacher in the Rogue Valley for over 15 years as a certified Music Together teacher. She now creates and teaches her own music classes for children and their caregivers in Ashland and Jacksonville. She is passionate about sharing the joy of music with children and families.
URL:https://jacksonvillecommunitycenter.org/event/3-9-music-time-for-littles-with-miss-laurie-2/
LOCATION:Jacksonville Community Center\, 160 E Main St\, Jacksonville\, OR\, 97530\, United States
CATEGORIES:Sponsored (SP)
ATTACH;FMTTYPE=image/png:https://jacksonvillecommunitycenter.org/wp-content/uploads/2026/01/Preschool-Music-1.png
END:VEVENT
BEGIN:VEVENT
DTSTART;TZID=America/Los_Angeles:20260309T174500
DTEND;TZID=America/Los_Angeles:20260309T190000
DTSTAMP:20260421T153531
CREATED:20260226T192459Z
LAST-MODIFIED:20260226T192459Z
UID:10002935-1773078300-1773082800@jacksonvillecommunitycenter.org
SUMMARY:3/9 Flow Yoga with Lori - Unsponsored
DESCRIPTION:A thoughtfully designed Flow Yoga focusing on breath & alignment. Options given to accommodate All Levels – As an unsponsored program\, students are asked to sign up and pay for classes through Lori’s website at: https://lorigrableyoga.com/
URL:https://jacksonvillecommunitycenter.org/event/3-9-flow-yoga-with-lori-unsponsored-2/
LOCATION:Jacksonville Community Center\, 160 E Main St\, Jacksonville\, OR\, 97530\, United States
CATEGORIES:Unsponsored (USP)
ATTACH;FMTTYPE=image/png:https://jacksonvillecommunitycenter.org/wp-content/uploads/2022/02/indoor-yoga.png
END:VEVENT
END:VCALENDAR