BEGIN:VCALENDAR
VERSION:2.0
PRODID:-//Jacksonville Community Center-Programs, Small Wedding Site and Meeting Room Rental - ECPv6.15.20//NONSGML v1.0//EN
CALSCALE:GREGORIAN
METHOD:PUBLISH
X-ORIGINAL-URL:https://jacksonvillecommunitycenter.org
X-WR-CALDESC:Events for Jacksonville Community Center-Programs, Small Wedding Site and Meeting Room Rental
REFRESH-INTERVAL;VALUE=DURATION:PT1H
X-Robots-Tag:noindex
X-PUBLISHED-TTL:PT1H
BEGIN:VTIMEZONE
TZID:America/Los_Angeles
BEGIN:DAYLIGHT
TZOFFSETFROM:-0800
TZOFFSETTO:-0700
TZNAME:PDT
DTSTART:20250309T100000
END:DAYLIGHT
BEGIN:STANDARD
TZOFFSETFROM:-0700
TZOFFSETTO:-0800
TZNAME:PST
DTSTART:20251102T090000
END:STANDARD
BEGIN:DAYLIGHT
TZOFFSETFROM:-0800
TZOFFSETTO:-0700
TZNAME:PDT
DTSTART:20260308T100000
END:DAYLIGHT
BEGIN:STANDARD
TZOFFSETFROM:-0700
TZOFFSETTO:-0800
TZNAME:PST
DTSTART:20261101T090000
END:STANDARD
BEGIN:DAYLIGHT
TZOFFSETFROM:-0800
TZOFFSETTO:-0700
TZNAME:PDT
DTSTART:20270314T100000
END:DAYLIGHT
BEGIN:STANDARD
TZOFFSETFROM:-0700
TZOFFSETTO:-0800
TZNAME:PST
DTSTART:20271107T090000
END:STANDARD
END:VTIMEZONE
BEGIN:VEVENT
DTSTART;TZID=America/Los_Angeles:20260210T163000
DTEND;TZID=America/Los_Angeles:20260210T180000
DTSTAMP:20260424T122547
CREATED:20260123T005237Z
LAST-MODIFIED:20260123T005913Z
UID:10002866-1770741000-1770746400@jacksonvillecommunitycenter.org
SUMMARY:2/10 Psychedelic Medicine in Oregon: Healing depression\, anxiety and trauma
DESCRIPTION:Learn how new psychedelic medicine treatments are working and what their limitations are during this introductory talk with Naturopathic Physician Ian Luepker. From a facilitator’s perspective\, Dr. Luepker will discuss the Oregon law and healing potential of this new (yet ancient) approach to mental health.\n\nOregon is this first state to legalize psilocybin within a healing framework. When a psychedelic is taken with the proper preparation\, intention\, facilitation\, and therapeutic environment\, people can use the experience to gain new insights that can catalyze healing and recovery. The psychedelic allows feelings such as self-compassion\, forgiveness\, understanding\, and self-acceptance to surface that can be powerful antidotes to shame\, guilt\, anger\, depression\, anxiety\,  isolation\, and disconnection that they sometimes find difficult to discuss in therapy and might not respond to typical anti-depressants or anti-anxiety medications.\n\nDr. Ian Luepker is a naturopath and has been in private practice for 23 years\, and worked on psychiatric units for 12 years. He approaches health and well-being from a holistic perspective by recognizing the complex interplay between mental\, emotional\, physical\, social and spiritual suffering. By listening to his patients with compassion\, care and respect\, he takes a collaborative\, preventive and integrative approach to supporting their self-led innate healing capacity. His goal is to address both symptoms and their underlying root cause. He hopes to bring awareness of the new treatment options to a wider audience.
URL:https://jacksonvillecommunitycenter.org/event/2-10-psychedelic-medicine-in-oregon-presentation/
LOCATION:Jacksonville Community Center\, 160 E Main St\, Jacksonville\, OR\, 97530\, United States
CATEGORIES:Sponsored (SP)
ATTACH;FMTTYPE=image/jpeg:https://jacksonvillecommunitycenter.org/wp-content/uploads/2026/01/Blue-Pink-Green-Typecentric-Psychedelic-Music-Portrait-Psychedelic-Poster-Logo.jpg
END:VEVENT
END:VCALENDAR