BEGIN:VCALENDAR
VERSION:2.0
PRODID:-//Jacksonville Community Center-Programs, Small Wedding Site and Meeting Room Rental - ECPv6.15.20//NONSGML v1.0//EN
CALSCALE:GREGORIAN
METHOD:PUBLISH
X-ORIGINAL-URL:https://jacksonvillecommunitycenter.org
X-WR-CALDESC:Events for Jacksonville Community Center-Programs, Small Wedding Site and Meeting Room Rental
REFRESH-INTERVAL;VALUE=DURATION:PT1H
X-Robots-Tag:noindex
X-PUBLISHED-TTL:PT1H
BEGIN:VTIMEZONE
TZID:America/Los_Angeles
BEGIN:DAYLIGHT
TZOFFSETFROM:-0800
TZOFFSETTO:-0700
TZNAME:PDT
DTSTART:20250309T100000
END:DAYLIGHT
BEGIN:STANDARD
TZOFFSETFROM:-0700
TZOFFSETTO:-0800
TZNAME:PST
DTSTART:20251102T090000
END:STANDARD
BEGIN:DAYLIGHT
TZOFFSETFROM:-0800
TZOFFSETTO:-0700
TZNAME:PDT
DTSTART:20260308T100000
END:DAYLIGHT
BEGIN:STANDARD
TZOFFSETFROM:-0700
TZOFFSETTO:-0800
TZNAME:PST
DTSTART:20261101T090000
END:STANDARD
BEGIN:DAYLIGHT
TZOFFSETFROM:-0800
TZOFFSETTO:-0700
TZNAME:PDT
DTSTART:20270314T100000
END:DAYLIGHT
BEGIN:STANDARD
TZOFFSETFROM:-0700
TZOFFSETTO:-0800
TZNAME:PST
DTSTART:20271107T090000
END:STANDARD
END:VTIMEZONE
BEGIN:VEVENT
DTSTART;TZID=America/Los_Angeles:20260120T120000
DTEND;TZID=America/Los_Angeles:20260120T130000
DTSTAMP:20260424T153704
CREATED:20251212T211322Z
LAST-MODIFIED:20251229T225918Z
UID:10002821-1768910400-1768914000@jacksonvillecommunitycenter.org
SUMMARY:1/20/26 Learn Life-Saving AED & CPR
DESCRIPTION:Learn the use of the AED (automated external difibrilator) and basic CPR techniques that can save the life of a loved one. Presented by physician Sherry Neuman\, attendees will learn key steps in emergency situations and will practice hands on techniques. This is not a certification course. \nInstructor: Dr. Neuman has enjoyed a long career focused on clinical patient care. After completing her doctorate in pharmacy\, she later completed medical school at the University of Nevada at Reno to become medical doctor specializing in infectious disease. She is a Jacksonville resident and is a strong proponent of preparedness and wellness activities. \nThis program is being offered FREE to the public – pre-registration is encouraged.
URL:https://jacksonvillecommunitycenter.org/event/01-20-26-learn-life-saving-aed-cpr-2/
LOCATION:Jacksonville Community Center\, 160 E Main St\, Jacksonville\, OR\, 97530\, United States
CATEGORIES:Sponsored (SP)
ATTACH;FMTTYPE=image/jpeg:https://jacksonvillecommunitycenter.org/wp-content/uploads/2025/12/Basic-CPR-AED-2.jpg
END:VEVENT
END:VCALENDAR