BEGIN:VCALENDAR
VERSION:2.0
PRODID:-//Jacksonville Community Center-Programs, Small Wedding Site and Meeting Room Rental - ECPv6.15.20//NONSGML v1.0//EN
CALSCALE:GREGORIAN
METHOD:PUBLISH
X-WR-CALNAME:Jacksonville Community Center-Programs, Small Wedding Site and Meeting Room Rental
X-ORIGINAL-URL:https://jacksonvillecommunitycenter.org
X-WR-CALDESC:Events for Jacksonville Community Center-Programs, Small Wedding Site and Meeting Room Rental
REFRESH-INTERVAL;VALUE=DURATION:PT1H
X-Robots-Tag:noindex
X-PUBLISHED-TTL:PT1H
BEGIN:VTIMEZONE
TZID:America/Los_Angeles
BEGIN:DAYLIGHT
TZOFFSETFROM:-0800
TZOFFSETTO:-0700
TZNAME:PDT
DTSTART:20240310T100000
END:DAYLIGHT
BEGIN:STANDARD
TZOFFSETFROM:-0700
TZOFFSETTO:-0800
TZNAME:PST
DTSTART:20241103T090000
END:STANDARD
BEGIN:DAYLIGHT
TZOFFSETFROM:-0800
TZOFFSETTO:-0700
TZNAME:PDT
DTSTART:20250309T100000
END:DAYLIGHT
BEGIN:STANDARD
TZOFFSETFROM:-0700
TZOFFSETTO:-0800
TZNAME:PST
DTSTART:20251102T090000
END:STANDARD
BEGIN:DAYLIGHT
TZOFFSETFROM:-0800
TZOFFSETTO:-0700
TZNAME:PDT
DTSTART:20260308T100000
END:DAYLIGHT
BEGIN:STANDARD
TZOFFSETFROM:-0700
TZOFFSETTO:-0800
TZNAME:PST
DTSTART:20261101T090000
END:STANDARD
END:VTIMEZONE
BEGIN:VEVENT
DTSTART;TZID=America/Los_Angeles:20251029T080000
DTEND;TZID=America/Los_Angeles:20251029T090000
DTSTAMP:20260423T150627
CREATED:20250920T044413Z
LAST-MODIFIED:20250920T044413Z
UID:10002705-1761724800-1761728400@jacksonvillecommunitycenter.org
SUMMARY:Strength Training with Mikinzie
DESCRIPTION:Naturopath physician Mikinzie Smoot will lead adults in strength-building exercises – incorporating weights\, weight bars and step platforms. Book directly with instructor for this unsponsored one-hour class – offered weekly on Wednesday at 8-9am and Fridays 8:15-9:15am. For registration and payment: https://www.jvillefitness.com \nFor information call: 541-621-1883 or email: drsmootmedspa@gmail.com
URL:https://jacksonvillecommunitycenter.org/event/strength-training-with-mikinzie-9/
LOCATION:Jacksonville Community Center\, 160 E Main St\, Jacksonville\, OR\, 97530\, United States
CATEGORIES:Unsponsored (USP)
ATTACH;FMTTYPE=image/jpeg:https://jacksonvillecommunitycenter.org/wp-content/uploads/2024/11/dr-smoot-small-copystanding20240124_082251-e1757006277598.jpg
END:VEVENT
BEGIN:VEVENT
DTSTART;TZID=America/Los_Angeles:20251029T093000
DTEND;TZID=America/Los_Angeles:20251029T101500
DTSTAMP:20260423T150627
CREATED:20250920T045051Z
LAST-MODIFIED:20250920T045051Z
UID:10002712-1761730200-1761732900@jacksonvillecommunitycenter.org
SUMMARY:10/29/2025 Chair Yoga with Lori Sours
DESCRIPTION:This chair-based yoga class incorporates movement\, poses\, breath\, and guided relaxation in both seated and (optional) standing sequences. We move slowly and mindfully\, with plenty of opportunity to pause and notice. The classes are designed using the principles of yoga for healthy aging to support brain and body wellness. \nGO TO: https://www.consideryoga.com/chair-yoga.html to register and pay. \nInstructor Bio: Lori Sours\, PhD\, has been teaching yoga since 2014 and is a Registered Yoga Teacher at the 500-hour level with Yoga Alliance. Beyond Lori’s certification work\, her specialized training includes teaching yoga for healthy aging and chair yoga for brain and body health. She is passionate about introducing the benefits of slow\, mindful yoga\, including chair yoga\, to people who want to feel their best every day and age wisely.
URL:https://jacksonvillecommunitycenter.org/event/10-29-2025-chair-yoga-with-lori-sours/
LOCATION:Jacksonville Community Center\, 160 E Main St\, Jacksonville\, OR\, 97530\, United States
CATEGORIES:Unsponsored (USP)
ATTACH;FMTTYPE=image/jpeg:https://jacksonvillecommunitycenter.org/wp-content/uploads/2024/03/Lori-Sours-Chair-Yoga-2024-e1718641899873.jpg
END:VEVENT
BEGIN:VEVENT
DTSTART;TZID=America/Los_Angeles:20251029T110000
DTEND;TZID=America/Los_Angeles:20251029T120000
DTSTAMP:20260423T150627
CREATED:20250915T184651Z
LAST-MODIFIED:20250915T184651Z
UID:10002690-1761735600-1761739200@jacksonvillecommunitycenter.org
SUMMARY:10/29/25 Music Time for Littles - with Miss Laurie
DESCRIPTION:Music Time for Littles – with Ms. Laurie\nDate: Wednesday\, Oct. 29 11:00 am-12:00 pm\nAges: 0-5 with accompanying adult Cost: $5 per child\nDiscover the joy of music in this engaging class designed for children 0-5 and their caregivers. This class combines singing\, rhythm\, movement and sign language. Get ready to sing beloved songs from around the world\, and make music together in this weekly class! Sponsored by Jackson Care Connect. \nInstructor Bio: Laurie Finear has been a music teacher in the Rogue Valley for over 15 years as a certified Music Together teacher. She now creates and teaches her own music classes for children and their caregivers in Ashland and Jacksonville. She is passionate about sharing the joy of music with children and families.
URL:https://jacksonvillecommunitycenter.org/event/10-29-25-music-time-for-littles-with-miss-laurie-2/
LOCATION:Jacksonville Community Center\, 160 E Main St\, Jacksonville\, OR\, 97530\, United States
CATEGORIES:Sponsored (SP)
ATTACH;FMTTYPE=image/jpeg:https://jacksonvillecommunitycenter.org/wp-content/uploads/2025/07/Preschool-Music-4-e1756311939139.jpg
END:VEVENT
BEGIN:VEVENT
DTSTART;TZID=America/Los_Angeles:20251029T140000
DTEND;TZID=America/Los_Angeles:20251029T150000
DTSTAMP:20260423T150627
CREATED:20250922T234007Z
LAST-MODIFIED:20250923T153014Z
UID:10002733-1761746400-1761750000@jacksonvillecommunitycenter.org
SUMMARY:10/29/25 Youth Science: Experimentation Station - Dyeing Discoveries: Paper Chromatography Ages 6-12
DESCRIPTION:In this fun\, safe “hands-on” science experimentation program\, join us in the lab and learn how to extract the color pigment from markers\, leaves\, and even your favorite Halloween candies. Using paper chromatography we will unravel what colors and dyes make up some of the things we see (and eat) every day. Ages 6-12 Cost: $5 (Parents may drop off or participate for free). \nInstructor Bios: Tori Wood is the Volunteer and Facility Coordinator at the JCC. She has a background in laboratory science and is incredibly excited to help foster a love of science and learning in our community. Sarah Greco is the Youth and Family Programs Coordinator at the JCC and a Jacksonville mom. With a background in early childhood education and developmental psychology\, she is passionate about protecting and celebrating childhood\, and supporting parents in our community.
URL:https://jacksonvillecommunitycenter.org/event/10-29-25-youth-science-experimentation-station-dyeing-discoveries-ages-6-12/
LOCATION:Jacksonville Community Center\, 160 E Main St\, Jacksonville\, OR\, 97530\, United States
CATEGORIES:Sponsored (SP)
ATTACH;FMTTYPE=image/jpeg:https://jacksonvillecommunitycenter.org/wp-content/uploads/2025/09/Experimentation-Station-3-e1758641405929.jpg
END:VEVENT
END:VCALENDAR