BEGIN:VCALENDAR
VERSION:2.0
PRODID:-//Jacksonville Community Center-Programs, Small Wedding Site and Meeting Room Rental - ECPv6.15.20//NONSGML v1.0//EN
CALSCALE:GREGORIAN
METHOD:PUBLISH
X-ORIGINAL-URL:https://jacksonvillecommunitycenter.org
X-WR-CALDESC:Events for Jacksonville Community Center-Programs, Small Wedding Site and Meeting Room Rental
REFRESH-INTERVAL;VALUE=DURATION:PT1H
X-Robots-Tag:noindex
X-PUBLISHED-TTL:PT1H
BEGIN:VTIMEZONE
TZID:America/Los_Angeles
BEGIN:DAYLIGHT
TZOFFSETFROM:-0800
TZOFFSETTO:-0700
TZNAME:PDT
DTSTART:20250309T100000
END:DAYLIGHT
BEGIN:STANDARD
TZOFFSETFROM:-0700
TZOFFSETTO:-0800
TZNAME:PST
DTSTART:20251102T090000
END:STANDARD
BEGIN:DAYLIGHT
TZOFFSETFROM:-0800
TZOFFSETTO:-0700
TZNAME:PDT
DTSTART:20260308T100000
END:DAYLIGHT
BEGIN:STANDARD
TZOFFSETFROM:-0700
TZOFFSETTO:-0800
TZNAME:PST
DTSTART:20261101T090000
END:STANDARD
BEGIN:DAYLIGHT
TZOFFSETFROM:-0800
TZOFFSETTO:-0700
TZNAME:PDT
DTSTART:20270314T100000
END:DAYLIGHT
BEGIN:STANDARD
TZOFFSETFROM:-0700
TZOFFSETTO:-0800
TZNAME:PST
DTSTART:20271107T090000
END:STANDARD
END:VTIMEZONE
BEGIN:VEVENT
DTSTART;TZID=America/Los_Angeles:20260419T120000
DTEND;TZID=America/Los_Angeles:20260419T130000
DTSTAMP:20260422T195834
CREATED:20260320T004946Z
LAST-MODIFIED:20260321T144939Z
UID:10002968-1776600000-1776603600@jacksonvillecommunitycenter.org
SUMMARY:4/19 FREE Spring Yoga Nidra Experience: Adults & Teens
DESCRIPTION:Yoga Nidra promotes deep relaxation through soothing meditation\, and powerful visualization techniques. The beginning of Spring is a good time for inner reflection and transformation. Harness the energy of this seasonal shift to release old patterns\, beliefs\, or habits that no longer serve you\, and set intentions for positive change in the coming year.  \nWhat to Bring \n– A yoga mat or comfortable surface to lie down \n– A cozy blanket or pillow for added comfort \n– An open heart and mind\, ready to embrace the magic of the season \nThis class is suitable for all levels\, and no prior yoga experience is required. \nInstructor Bio: Darby Ficek  is a Certified Yoga Nidra Teacher of Bihar School of Yoga\, Bali\, Indonesia. Applying both traditional and science based approaches to the practice\, she continues to dedicate herself to the study and practice of meditation. With a gentle and compassionate approach\, she skillfully guides students through the various stages of yoga nidra\, enabling them to access profound states of rest and restoration.
URL:https://jacksonvillecommunitycenter.org/event/4-19-free-spring-yoga-nidra-experience-adults-teens/
LOCATION:Jacksonville Community Center\, 160 E Main St\, Jacksonville\, OR\, 97530\, United States
CATEGORIES:Sponsored (SP)
ATTACH;FMTTYPE=image/png:https://jacksonvillecommunitycenter.org/wp-content/uploads/2026/03/Spring-Season-Yoga-Nidra-Class-320-x-320-px.png
END:VEVENT
END:VCALENDAR