BEGIN:VCALENDAR
VERSION:2.0
PRODID:-//Jacksonville Community Center-Programs, Small Wedding Site and Meeting Room Rental - ECPv6.15.20//NONSGML v1.0//EN
CALSCALE:GREGORIAN
METHOD:PUBLISH
X-ORIGINAL-URL:https://jacksonvillecommunitycenter.org
X-WR-CALDESC:Events for Jacksonville Community Center-Programs, Small Wedding Site and Meeting Room Rental
REFRESH-INTERVAL;VALUE=DURATION:PT1H
X-Robots-Tag:noindex
X-PUBLISHED-TTL:PT1H
BEGIN:VTIMEZONE
TZID:America/Los_Angeles
BEGIN:DAYLIGHT
TZOFFSETFROM:-0800
TZOFFSETTO:-0700
TZNAME:PDT
DTSTART:20250309T100000
END:DAYLIGHT
BEGIN:STANDARD
TZOFFSETFROM:-0700
TZOFFSETTO:-0800
TZNAME:PST
DTSTART:20251102T090000
END:STANDARD
BEGIN:DAYLIGHT
TZOFFSETFROM:-0800
TZOFFSETTO:-0700
TZNAME:PDT
DTSTART:20260308T100000
END:DAYLIGHT
BEGIN:STANDARD
TZOFFSETFROM:-0700
TZOFFSETTO:-0800
TZNAME:PST
DTSTART:20261101T090000
END:STANDARD
BEGIN:DAYLIGHT
TZOFFSETFROM:-0800
TZOFFSETTO:-0700
TZNAME:PDT
DTSTART:20270314T100000
END:DAYLIGHT
BEGIN:STANDARD
TZOFFSETFROM:-0700
TZOFFSETTO:-0800
TZNAME:PST
DTSTART:20271107T090000
END:STANDARD
END:VTIMEZONE
BEGIN:VEVENT
DTSTART;TZID=America/Los_Angeles:20260204T140000
DTEND;TZID=America/Los_Angeles:20260204T150000
DTSTAMP:20260425T071318
CREATED:20260123T171850Z
LAST-MODIFIED:20260123T173325Z
UID:10002867-1770213600-1770217200@jacksonvillecommunitycenter.org
SUMMARY:2/4/26 Kids Arts & Crafts: Beaded "Love Bug" Keychains
DESCRIPTION:Ages 6-12 Cost: $5 (Parents may drop off or participate for free)\nLearn the fun skill of beading and create colorful beaded bugs that attach to your bag or backpack. They are so fun to make and give to friends. \nInstructor Bio: Sarah Greco is the Youth and Family Programs Coordinator at the JCC and a Jacksonville mom. With a background in early childhood education and developmental psychology\, she is passionate about protecting and celebrating childhood\, and supporting parents in our community.
URL:https://jacksonvillecommunitycenter.org/event/2-4-26-kids-arts-crafts-beaded-love-bug-key-chains/
LOCATION:Jacksonville Community Center\, 160 E Main St\, Jacksonville\, OR\, 97530\, United States
CATEGORIES:Arts/Crafts/Creative,Sponsored (SP)
ATTACH;FMTTYPE=image/png:https://jacksonvillecommunitycenter.org/wp-content/uploads/2026/01/Arts-Crafts-3.png
END:VEVENT
BEGIN:VEVENT
DTSTART;TZID=America/Los_Angeles:20260218T140000
DTEND;TZID=America/Los_Angeles:20260218T150000
DTSTAMP:20260425T071318
CREATED:20260126T181852Z
LAST-MODIFIED:20260126T181852Z
UID:10002872-1771423200-1771426800@jacksonvillecommunitycenter.org
SUMMARY:2/18/26 Youth Science: Experimentation Station: Fun with Frost & Ice Ages 6-12
DESCRIPTION:In this fun\, safe “hands-on” science experimentation program\, join us in the lab and we will make frost form right before your eyes\, and discover why ice can be slippery or sticky with a cool hands-\non experiment. Ages 6-12 Cost: $5 (Parents may drop off or participate for free). \nInstructor Bios: Tori Wood is the Volunteer and Facility Coordinator at the JCC. She has a background in laboratory science and is incredibly excited to help foster a love of science and learning in our community. Sarah Greco is the Youth and Family Programs Coordinator at the JCC and a Jacksonville mom. With a background in early childhood education and developmental psychology\, she is passionate about protecting and celebrating childhood\, and supporting parents in our community.
URL:https://jacksonvillecommunitycenter.org/event/2-18-26-youth-science-experimentation-station-fun-with-frost-ages-6-12/
LOCATION:Jacksonville Community Center\, 160 E Main St\, Jacksonville\, OR\, 97530\, United States
CATEGORIES:Sponsored (SP)
ATTACH;FMTTYPE=image/jpeg:https://jacksonvillecommunitycenter.org/wp-content/uploads/2026/01/Science.jpg
END:VEVENT
BEGIN:VEVENT
DTSTART;TZID=America/Los_Angeles:20260225T140000
DTEND;TZID=America/Los_Angeles:20260225T153000
DTSTAMP:20260425T071318
CREATED:20260126T230516Z
LAST-MODIFIED:20260212T233347Z
UID:10002873-1772028000-1772033400@jacksonvillecommunitycenter.org
SUMMARY:Kids' Intro to Theatre Arts Workshop
DESCRIPTION:Ms. Laurie’s Theatre Arts Workshop is a one day class that introduces students to acting\, voice expression\, improvisation\, stage presence and auditioning\, through fun games and activities. Explore pantomime\, singing confidentiality in tune\, and learning basic musical theatre dance styles. Ages 7+ It’s best if parents drop-off this time! \nA follow-up Theater Arts Series (3 weeks of classes) will begin March 2nd! \nInstructor Bio: Laurie Finear has loved and been involved in performing arts- singing\, dancing\, and acting since childhood. She has many years of experience teaching children in various settings as an outdoor educator\, gymnastics coach\, and music instructor. Laurie is honored to share her passion\, experiences and knowledge along with the developmental growth skills\, and joy that these arts bring to children.
URL:https://jacksonvillecommunitycenter.org/event/kids-intro-to-theatre-arts-workshop/
LOCATION:Jacksonville Community Center\, 160 E Main St\, Jacksonville\, OR\, 97530\, United States
CATEGORIES:Sponsored (SP)
ATTACH;FMTTYPE=image/png:https://jacksonvillecommunitycenter.org/wp-content/uploads/2026/01/Theater-1.png
END:VEVENT
END:VCALENDAR