BEGIN:VCALENDAR
VERSION:2.0
PRODID:-//Jacksonville Community Center-Programs, Small Wedding Site and Meeting Room Rental - ECPv6.15.20//NONSGML v1.0//EN
CALSCALE:GREGORIAN
METHOD:PUBLISH
X-WR-CALNAME:Jacksonville Community Center-Programs, Small Wedding Site and Meeting Room Rental
X-ORIGINAL-URL:https://jacksonvillecommunitycenter.org
X-WR-CALDESC:Events for Jacksonville Community Center-Programs, Small Wedding Site and Meeting Room Rental
REFRESH-INTERVAL;VALUE=DURATION:PT1H
X-Robots-Tag:noindex
X-PUBLISHED-TTL:PT1H
BEGIN:VTIMEZONE
TZID:America/Los_Angeles
BEGIN:DAYLIGHT
TZOFFSETFROM:-0800
TZOFFSETTO:-0700
TZNAME:PDT
DTSTART:20250309T100000
END:DAYLIGHT
BEGIN:STANDARD
TZOFFSETFROM:-0700
TZOFFSETTO:-0800
TZNAME:PST
DTSTART:20251102T090000
END:STANDARD
BEGIN:DAYLIGHT
TZOFFSETFROM:-0800
TZOFFSETTO:-0700
TZNAME:PDT
DTSTART:20260308T100000
END:DAYLIGHT
BEGIN:STANDARD
TZOFFSETFROM:-0700
TZOFFSETTO:-0800
TZNAME:PST
DTSTART:20261101T090000
END:STANDARD
BEGIN:DAYLIGHT
TZOFFSETFROM:-0800
TZOFFSETTO:-0700
TZNAME:PDT
DTSTART:20270314T100000
END:DAYLIGHT
BEGIN:STANDARD
TZOFFSETFROM:-0700
TZOFFSETTO:-0800
TZNAME:PST
DTSTART:20271107T090000
END:STANDARD
END:VTIMEZONE
BEGIN:VEVENT
DTSTART;TZID=America/Los_Angeles:20260412T133000
DTEND;TZID=America/Los_Angeles:20260412T153000
DTSTAMP:20260421T155818
CREATED:20260304T213920Z
LAST-MODIFIED:20260320T003727Z
UID:10002959-1776000600-1776007800@jacksonvillecommunitycenter.org
SUMMARY:4/12 Wildflower Walk in the Woodlands
DESCRIPTION:Have you looked at those poster boards near the start of the trails in the Jacksonville Woodlands showing all the wildflowers and wondered where to find them? Meet up at Jacksonville Community Center for a narrated walk to enjoy spring wildflowers. April in the Woodlands generally offers a wonderful show of wildflowers of all colors and types. Join us for a moderate hike to find some beautiful examples and to learn about where they are likely to bloom—in shade or sunshine. Our guide is Larry Smith\, who knows every nook and cranny of this beloved Jacksonville treasure. The session will start at the JCC Great Room for some brief background information from Larry. We hope for sunshine but the walk will go on if the weather is a bit wet—dress appropriately. If rain is heavy the session will be held indoors with photos at JCC. \nInstructor Bio: Larry Smith taught 5th grade at the Jacksonville Elementary School for 35 years. Although he is semi-retired\, he continues to work as a substitute teacher for the Medford School District. He was also a National Park Ranger at Crater Lake for 23 summers. He is a founding member of the Jacksonville Woodlands Association and has served in many roles in that organization\, currently as Executive Director. He has written a book detailing the development and history of the Jacksonville Woodlands.
URL:https://jacksonvillecommunitycenter.org/event/4-12-wildflower-walk-in-the-woodlands/
LOCATION:Jacksonville Community Center\, 160 E Main St\, Jacksonville\, OR\, 97530\, United States
CATEGORIES:Sponsored (SP)
ATTACH;FMTTYPE=image/png:https://jacksonvillecommunitycenter.org/wp-content/uploads/2026/03/WILDFLOWER-WALK-FB-320-x-320-px-1.png
END:VEVENT
BEGIN:VEVENT
DTSTART;TZID=America/Los_Angeles:20260413T153000
DTEND;TZID=America/Los_Angeles:20260413T170000
DTSTAMP:20260421T155818
CREATED:20260311T184857Z
LAST-MODIFIED:20260320T005344Z
UID:10002961-1776094200-1776099600@jacksonvillecommunitycenter.org
SUMMARY:Youth Theater Arts 3-Week Series with Ms. Laurie - SESSION #2
DESCRIPTION:Series Dates: Mondays April 13\, 20 & 27\, 3:30-5pm  Ages: 7+  Cost: $30 total for all three classes! Sign up for 4/13 to secure series. \nMs. Laurie’s Theatre Arts Workshop is a 3-week series that introduces students to acting\, voice expression\, improvisation\, stage presence and auditioning through fun games and activities. Explore pantomime\, singing confidentiality in tune\, and learning basic musical theater dance styles. \nInstructor Bio: Laurie Finear has loved and been involved in performing arts since childhood. She has many years of experience teaching children in various settings as an outdoor educator\, gymnastics coach\, and music instructor. Laurie is honored to share her passion\, experiences and knowledge along with the developmental growth skills\, and joy that these arts bring to children.
URL:https://jacksonvillecommunitycenter.org/event/youth-theater-arts-3-week-series-with-ms-laurie-session-2/
LOCATION:Jacksonville Community Center\, 160 E Main St\, Jacksonville\, OR\, 97530\, United States
CATEGORIES:Arts/Crafts/Creative,Sponsored (SP)
ATTACH;FMTTYPE=image/png:https://jacksonvillecommunitycenter.org/wp-content/uploads/2026/03/Theater-7.png
END:VEVENT
BEGIN:VEVENT
DTSTART;TZID=America/Los_Angeles:20260415T140000
DTEND;TZID=America/Los_Angeles:20260415T150000
DTSTAMP:20260421T155818
CREATED:20260325T224413Z
LAST-MODIFIED:20260325T224413Z
UID:10003010-1776261600-1776265200@jacksonvillecommunitycenter.org
SUMMARY:4/15 Kids Crafts: Button Bracelets
DESCRIPTION:Ages: 6+  Cost: $5 (Parents may drop off or participate for free) \nDesign and craft colorful bracelets using buttons and lacing – Take yours home and/or spread some joy by sharing with friends. \nInstructor Bio: Sarah Greco is the Youth and Family Programs Coordinator at the JCC and a Jacksonville mom. With a background in early childhood education and developmental psychology\, she is passionate about protecting and celebrating childhood\, and supporting parents in our community.
URL:https://jacksonvillecommunitycenter.org/event/4-15-button-bracelets-2/
LOCATION:Jacksonville Community Center\, 160 E Main St\, Jacksonville\, OR\, 97530\, United States
CATEGORIES:Sponsored (SP)
ATTACH;FMTTYPE=image/png:https://jacksonvillecommunitycenter.org/wp-content/uploads/2026/03/Arts-Crafts.png
END:VEVENT
END:VCALENDAR