BEGIN:VCALENDAR
VERSION:2.0
PRODID:-//Jacksonville Community Center-Programs, Small Wedding Site and Meeting Room Rental - ECPv6.15.20//NONSGML v1.0//EN
CALSCALE:GREGORIAN
METHOD:PUBLISH
X-WR-CALNAME:Jacksonville Community Center-Programs, Small Wedding Site and Meeting Room Rental
X-ORIGINAL-URL:https://jacksonvillecommunitycenter.org
X-WR-CALDESC:Events for Jacksonville Community Center-Programs, Small Wedding Site and Meeting Room Rental
REFRESH-INTERVAL;VALUE=DURATION:PT1H
X-Robots-Tag:noindex
X-PUBLISHED-TTL:PT1H
BEGIN:VTIMEZONE
TZID:America/Los_Angeles
BEGIN:DAYLIGHT
TZOFFSETFROM:-0800
TZOFFSETTO:-0700
TZNAME:PDT
DTSTART:20250309T100000
END:DAYLIGHT
BEGIN:STANDARD
TZOFFSETFROM:-0700
TZOFFSETTO:-0800
TZNAME:PST
DTSTART:20251102T090000
END:STANDARD
BEGIN:DAYLIGHT
TZOFFSETFROM:-0800
TZOFFSETTO:-0700
TZNAME:PDT
DTSTART:20260308T100000
END:DAYLIGHT
BEGIN:STANDARD
TZOFFSETFROM:-0700
TZOFFSETTO:-0800
TZNAME:PST
DTSTART:20261101T090000
END:STANDARD
BEGIN:DAYLIGHT
TZOFFSETFROM:-0800
TZOFFSETTO:-0700
TZNAME:PDT
DTSTART:20270314T100000
END:DAYLIGHT
BEGIN:STANDARD
TZOFFSETFROM:-0700
TZOFFSETTO:-0800
TZNAME:PST
DTSTART:20271107T090000
END:STANDARD
END:VTIMEZONE
BEGIN:VEVENT
DTSTART;TZID=America/Los_Angeles:20260303T170000
DTEND;TZID=America/Los_Angeles:20260303T183000
DTSTAMP:20260421T153215
CREATED:20260218T195511Z
LAST-MODIFIED:20260218T195511Z
UID:10002917-1772557200-1772562600@jacksonvillecommunitycenter.org
SUMMARY:3/3 Gold Mining in Jacksonville: Local History with Larry Smith
DESCRIPTION:Larry will share his introductory program where he answers the conundrum: Why in the world would anybody want to build a town out here of all places\, and what did it take to keep the town from becoming a ghost town after the gold ran out? For the past 50 years Larry Smith has been leading field trips for students and adults out to Jacksonville’s historic goldmines.\nPresenter Bio: Larry Smith taught 5th grade at the Jacksonville Elementary School for 35 years. Although he is purportedly semi-retired\, he continues to tour countless excursions of school kids on our network of trails. He was also a National Park Ranger at Crater Lake for 23 summers. Larry is a founding member of the Jacksonville Woodlands Association and has served in many roles in that organization\, currently as Executive Director. He has written a history that details the amazing development of the Jacksonville Woodlands.
URL:https://jacksonvillecommunitycenter.org/event/3-3-gold-mining-in-jacksonville-local-history-with-larry-smith/
LOCATION:Jacksonville Community Center\, 160 E Main St\, Jacksonville\, OR\, 97530\, United States
CATEGORIES:Sponsored (SP)
ATTACH;FMTTYPE=image/png:https://jacksonvillecommunitycenter.org/wp-content/uploads/2026/02/Gold-Mining-In-Jacksonville700-x-500-px-500-x-500-px.png
END:VEVENT
END:VCALENDAR