BEGIN:VCALENDAR
VERSION:2.0
PRODID:-//Jacksonville Community Center-Programs, Small Wedding Site and Meeting Room Rental - ECPv6.15.20//NONSGML v1.0//EN
CALSCALE:GREGORIAN
METHOD:PUBLISH
X-WR-CALNAME:Jacksonville Community Center-Programs, Small Wedding Site and Meeting Room Rental
X-ORIGINAL-URL:https://jacksonvillecommunitycenter.org
X-WR-CALDESC:Events for Jacksonville Community Center-Programs, Small Wedding Site and Meeting Room Rental
REFRESH-INTERVAL;VALUE=DURATION:PT1H
X-Robots-Tag:noindex
X-PUBLISHED-TTL:PT1H
BEGIN:VTIMEZONE
TZID:America/Los_Angeles
BEGIN:DAYLIGHT
TZOFFSETFROM:-0800
TZOFFSETTO:-0700
TZNAME:PDT
DTSTART:20250309T100000
END:DAYLIGHT
BEGIN:STANDARD
TZOFFSETFROM:-0700
TZOFFSETTO:-0800
TZNAME:PST
DTSTART:20251102T090000
END:STANDARD
BEGIN:DAYLIGHT
TZOFFSETFROM:-0800
TZOFFSETTO:-0700
TZNAME:PDT
DTSTART:20260308T100000
END:DAYLIGHT
BEGIN:STANDARD
TZOFFSETFROM:-0700
TZOFFSETTO:-0800
TZNAME:PST
DTSTART:20261101T090000
END:STANDARD
BEGIN:DAYLIGHT
TZOFFSETFROM:-0800
TZOFFSETTO:-0700
TZNAME:PDT
DTSTART:20270314T100000
END:DAYLIGHT
BEGIN:STANDARD
TZOFFSETFROM:-0700
TZOFFSETTO:-0800
TZNAME:PST
DTSTART:20271107T090000
END:STANDARD
END:VTIMEZONE
BEGIN:VEVENT
DTSTART;TZID=America/Los_Angeles:20260219T150000
DTEND;TZID=America/Los_Angeles:20260219T163000
DTSTAMP:20260421T201452
CREATED:20260126T180722Z
LAST-MODIFIED:20260126T181027Z
UID:10002871-1771513200-1771518600@jacksonvillecommunitycenter.org
SUMMARY:2/19/26 - Vietnam Travelogue TODAY Photo Presentation & Retrospective
DESCRIPTION:Join Sue Miler and David Doi as they share evocative photos of their recent journey to Vietnam – while sharing historical and current-day insights from their travels. Donations gratefully accepted to support operations at Jacksonville Community Center. \nInstructor Bios: Intrepid travelers\, Sue Miler and David Doi serve on the JCC Board as President and Secretary\, respectively. Sue served as senior vice president for  programs at the AARP Foundation—overseeing 12 national programs  serving over 2 million persons annually. She has over 30 years’ experience in nonprofit leadership including  program and volunteer management.  David is the former executive director of Rebuilding Together Rogue  Valley. He has served the nonprofit sector for more than  three decades with 20 years at two national advocacy  nonprofits and 10 years as the executive director of national juvenile justice organization.
URL:https://jacksonvillecommunitycenter.org/event/2-19-26-vietnam-travelogue-2025-photo-presentation-retrospective/
LOCATION:Jacksonville Community Center\, 160 E Main St\, Jacksonville\, OR\, 97530\, United States
CATEGORIES:Sponsored (SP)
ATTACH;FMTTYPE=image/jpeg:https://jacksonvillecommunitycenter.org/wp-content/uploads/2026/01/LGBTQ-FINAL-SM-Logo.jpg
END:VEVENT
BEGIN:VEVENT
DTSTART;TZID=America/Los_Angeles:20260219T173000
DTEND;TZID=America/Los_Angeles:20260219T190000
DTSTAMP:20260421T201452
CREATED:20260106T195243Z
LAST-MODIFIED:20260212T221623Z
UID:10002864-1771522200-1771527600@jacksonvillecommunitycenter.org
SUMMARY:FREE House Concert - Waxin' Moon Plus 2 - Love Songs for Every Occasion
DESCRIPTION:This FREE House Concert features the Waxin’ Moon Plus 2 – with vocalist Julie Raefield\, guitarist/keyboardist and vocalist\, Rob Bremer\, bassist\, Mark Longshore and percussionist\, Jim Doren\, for a fun evening of folk\, rock and standards from the 50s\, 60s & 70s that celebrate all the permutations of love – the good\, the bad\, the sad and the “mad”. With lovely tunes and evocative harmonies\, the evening is a good way to share a bit of romance\, no matter your relationship status. Tips and donations benefit Jacksonville Community Center. Reserve your free tickets by pre-registering. Walk-ins welcome as space allows.
URL:https://jacksonvillecommunitycenter.org/event/2-19-free-house-concert-waxin-moon-trio-love-songs-for-every-occasion/
LOCATION:Jacksonville Community Center\, 160 E Main St\, Jacksonville\, OR\, 97530\, United States
CATEGORIES:Sponsored (SP)
ATTACH;FMTTYPE=image/png:https://jacksonvillecommunitycenter.org/wp-content/uploads/2026/01/WMoon-700-x-500-px-3-1.png
END:VEVENT
END:VCALENDAR