BEGIN:VCALENDAR
VERSION:2.0
PRODID:-//Jacksonville Community Center-Programs, Small Wedding Site and Meeting Room Rental - ECPv6.15.20//NONSGML v1.0//EN
CALSCALE:GREGORIAN
METHOD:PUBLISH
X-ORIGINAL-URL:https://jacksonvillecommunitycenter.org
X-WR-CALDESC:Events for Jacksonville Community Center-Programs, Small Wedding Site and Meeting Room Rental
REFRESH-INTERVAL;VALUE=DURATION:PT1H
X-Robots-Tag:noindex
X-PUBLISHED-TTL:PT1H
BEGIN:VTIMEZONE
TZID:America/Los_Angeles
BEGIN:DAYLIGHT
TZOFFSETFROM:-0800
TZOFFSETTO:-0700
TZNAME:PDT
DTSTART:20250309T100000
END:DAYLIGHT
BEGIN:STANDARD
TZOFFSETFROM:-0700
TZOFFSETTO:-0800
TZNAME:PST
DTSTART:20251102T090000
END:STANDARD
BEGIN:DAYLIGHT
TZOFFSETFROM:-0800
TZOFFSETTO:-0700
TZNAME:PDT
DTSTART:20260308T100000
END:DAYLIGHT
BEGIN:STANDARD
TZOFFSETFROM:-0700
TZOFFSETTO:-0800
TZNAME:PST
DTSTART:20261101T090000
END:STANDARD
BEGIN:DAYLIGHT
TZOFFSETFROM:-0800
TZOFFSETTO:-0700
TZNAME:PDT
DTSTART:20270314T100000
END:DAYLIGHT
BEGIN:STANDARD
TZOFFSETFROM:-0700
TZOFFSETTO:-0800
TZNAME:PST
DTSTART:20271107T090000
END:STANDARD
END:VTIMEZONE
BEGIN:VEVENT
DTSTART;TZID=America/Los_Angeles:20260608T174500
DTEND;TZID=America/Los_Angeles:20260608T190000
DTSTAMP:20260421T154839
CREATED:20260420T194429Z
LAST-MODIFIED:20260420T194429Z
UID:10003062-1780940700-1780945200@jacksonvillecommunitycenter.org
SUMMARY:6/8 Flow Yoga with Lori - Unsponsored
DESCRIPTION:A thoughtfully designed Flow Yoga focusing on breath & alignment. Options given to accommodate All Levels – As an unsponsored program\, students are asked to sign up and pay for classes through Lori’s website at: https://lorigrableyoga.com/
URL:https://jacksonvillecommunitycenter.org/event/6-8-flow-yoga-with-lori-unsponsored/
LOCATION:Jacksonville Community Center\, 160 E Main St\, Jacksonville\, OR\, 97530\, United States
CATEGORIES:Unsponsored (USP)
ATTACH;FMTTYPE=image/png:https://jacksonvillecommunitycenter.org/wp-content/uploads/2026/03/Flow-Yoga-2.png
END:VEVENT
BEGIN:VEVENT
DTSTART;TZID=America/Los_Angeles:20260608T174500
DTEND;TZID=America/Los_Angeles:20260608T190000
DTSTAMP:20260421T154839
CREATED:20260420T202932Z
LAST-MODIFIED:20260420T202932Z
UID:10003088-1780940700-1780945200@jacksonvillecommunitycenter.org
SUMMARY:6/8 Flow Yoga with Lori - Unsponsored
DESCRIPTION:A thoughtfully designed Flow Yoga focusing on breath & alignment. Options given to accommodate All Levels – As an unsponsored program\, students are asked to sign up and pay for classes through Lori’s website at: https://lorigrableyoga.com/
URL:https://jacksonvillecommunitycenter.org/event/6-8-flow-yoga-with-lori-unsponsored-2/
LOCATION:Jacksonville Community Center\, 160 E Main St\, Jacksonville\, OR\, 97530\, United States
CATEGORIES:Unsponsored (USP)
ATTACH;FMTTYPE=image/png:https://jacksonvillecommunitycenter.org/wp-content/uploads/2026/03/Flow-Yoga-2.png
END:VEVENT
BEGIN:VEVENT
DTSTART;TZID=America/Los_Angeles:20260615T174500
DTEND;TZID=America/Los_Angeles:20260615T190000
DTSTAMP:20260421T154839
CREATED:20260420T194529Z
LAST-MODIFIED:20260420T194529Z
UID:10003063-1781545500-1781550000@jacksonvillecommunitycenter.org
SUMMARY:6/15 Flow Yoga with Lori - Unsponsored
DESCRIPTION:A thoughtfully designed Flow Yoga focusing on breath & alignment. Options given to accommodate All Levels – As an unsponsored program\, students are asked to sign up and pay for classes through Lori’s website at: https://lorigrableyoga.com/
URL:https://jacksonvillecommunitycenter.org/event/6-15-flow-yoga-with-lori-unsponsored-2/
LOCATION:Jacksonville Community Center\, 160 E Main St\, Jacksonville\, OR\, 97530\, United States
CATEGORIES:Unsponsored (USP)
ATTACH;FMTTYPE=image/png:https://jacksonvillecommunitycenter.org/wp-content/uploads/2026/03/Flow-Yoga-2.png
END:VEVENT
BEGIN:VEVENT
DTSTART;TZID=America/Los_Angeles:20260615T174500
DTEND;TZID=America/Los_Angeles:20260615T190000
DTSTAMP:20260421T154839
CREATED:20260420T203024Z
LAST-MODIFIED:20260420T203024Z
UID:10003089-1781545500-1781550000@jacksonvillecommunitycenter.org
SUMMARY:6/15 Flow Yoga with Lori - Unsponsored
DESCRIPTION:A thoughtfully designed Flow Yoga focusing on breath & alignment. Options given to accommodate All Levels – As an unsponsored program\, students are asked to sign up and pay for classes through Lori’s website at: https://lorigrableyoga.com/
URL:https://jacksonvillecommunitycenter.org/event/6-15-flow-yoga-with-lori-unsponsored-3/
LOCATION:Jacksonville Community Center\, 160 E Main St\, Jacksonville\, OR\, 97530\, United States
CATEGORIES:Unsponsored (USP)
ATTACH;FMTTYPE=image/png:https://jacksonvillecommunitycenter.org/wp-content/uploads/2026/03/Flow-Yoga-2.png
END:VEVENT
BEGIN:VEVENT
DTSTART;TZID=America/Los_Angeles:20260622T174500
DTEND;TZID=America/Los_Angeles:20260622T190000
DTSTAMP:20260421T154839
CREATED:20260420T194629Z
LAST-MODIFIED:20260420T194629Z
UID:10003064-1782150300-1782154800@jacksonvillecommunitycenter.org
SUMMARY:6/22 Flow Yoga with Lori - Unsponsored
DESCRIPTION:A thoughtfully designed Flow Yoga focusing on breath & alignment. Options given to accommodate All Levels – As an unsponsored program\, students are asked to sign up and pay for classes through Lori’s website at: https://lorigrableyoga.com/
URL:https://jacksonvillecommunitycenter.org/event/6-22-flow-yoga-with-lori-unsponsored/
LOCATION:Jacksonville Community Center\, 160 E Main St\, Jacksonville\, OR\, 97530\, United States
CATEGORIES:Unsponsored (USP)
ATTACH;FMTTYPE=image/png:https://jacksonvillecommunitycenter.org/wp-content/uploads/2026/03/Flow-Yoga-2.png
END:VEVENT
BEGIN:VEVENT
DTSTART;TZID=America/Los_Angeles:20260622T174500
DTEND;TZID=America/Los_Angeles:20260622T190000
DTSTAMP:20260421T154839
CREATED:20260420T203113Z
LAST-MODIFIED:20260420T203113Z
UID:10003090-1782150300-1782154800@jacksonvillecommunitycenter.org
SUMMARY:6/22 Flow Yoga with Lori - Unsponsored
DESCRIPTION:A thoughtfully designed Flow Yoga focusing on breath & alignment. Options given to accommodate All Levels – As an unsponsored program\, students are asked to sign up and pay for classes through Lori’s website at: https://lorigrableyoga.com/
URL:https://jacksonvillecommunitycenter.org/event/6-22-flow-yoga-with-lori-unsponsored-2/
LOCATION:Jacksonville Community Center\, 160 E Main St\, Jacksonville\, OR\, 97530\, United States
CATEGORIES:Unsponsored (USP)
ATTACH;FMTTYPE=image/png:https://jacksonvillecommunitycenter.org/wp-content/uploads/2026/03/Flow-Yoga-2.png
END:VEVENT
BEGIN:VEVENT
DTSTART;TZID=America/Los_Angeles:20260629T174500
DTEND;TZID=America/Los_Angeles:20260629T190000
DTSTAMP:20260421T154839
CREATED:20260420T194717Z
LAST-MODIFIED:20260420T194739Z
UID:10003065-1782755100-1782759600@jacksonvillecommunitycenter.org
SUMMARY:6/29 Flow Yoga with Lori - Unsponsored
DESCRIPTION:A thoughtfully designed Flow Yoga focusing on breath & alignment. Options given to accommodate All Levels – As an unsponsored program\, students are asked to sign up and pay for classes through Lori’s website at: https://lorigrableyoga.com/
URL:https://jacksonvillecommunitycenter.org/event/6-29-flow-yoga-with-lori-unsponsored-2/
LOCATION:Jacksonville Community Center\, 160 E Main St\, Jacksonville\, OR\, 97530\, United States
CATEGORIES:Unsponsored (USP)
ATTACH;FMTTYPE=image/png:https://jacksonvillecommunitycenter.org/wp-content/uploads/2026/03/Flow-Yoga-2.png
END:VEVENT
BEGIN:VEVENT
DTSTART;TZID=America/Los_Angeles:20260629T174500
DTEND;TZID=America/Los_Angeles:20260629T190000
DTSTAMP:20260421T154839
CREATED:20260420T203214Z
LAST-MODIFIED:20260420T203214Z
UID:10003091-1782755100-1782759600@jacksonvillecommunitycenter.org
SUMMARY:6/29 Flow Yoga with Lori - Unsponsored
DESCRIPTION:A thoughtfully designed Flow Yoga focusing on breath & alignment. Options given to accommodate All Levels – As an unsponsored program\, students are asked to sign up and pay for classes through Lori’s website at: https://lorigrableyoga.com/
URL:https://jacksonvillecommunitycenter.org/event/6-29-flow-yoga-with-lori-unsponsored-3/
LOCATION:Jacksonville Community Center\, 160 E Main St\, Jacksonville\, OR\, 97530\, United States
CATEGORIES:Unsponsored (USP)
ATTACH;FMTTYPE=image/png:https://jacksonvillecommunitycenter.org/wp-content/uploads/2026/03/Flow-Yoga-2.png
END:VEVENT
BEGIN:VEVENT
DTSTART;TZID=America/Los_Angeles:20260713T120000
DTEND;TZID=America/Los_Angeles:20260716T150000
DTSTAMP:20260421T154839
CREATED:20260321T235833Z
LAST-MODIFIED:20260322T000545Z
UID:10002971-1783944000-1784214000@jacksonvillecommunitycenter.org
SUMMARY:7/13-7/16 Summer Theater Arts Camp at JCC
DESCRIPTION:Theater Arts Camp\nJuly 13-16\, 12pm-3pm (Monday-Thursday) | Ages: 6-11 | Cost: $120 \nTheatre Arts Camp is a four-half-day camp that introduces students to acting\, voice expression\,\nimprovisation\, stage presence and auditioning through fun games and activities. Explore\npantomime\, singing confidentiality in tune\, and learning basic musical theater dance styles. We\nwill also enjoy a snack break and supervised play at Doc Griffin Park. This camp will be led by\ntheater and music instructor\, Ms. Laurie and JCC Youth &amp; Family Programs Coordinator\, Sarah\nGreco.\n12:00-12:10pm – campers arrive at the Jacksonville Community Center\n12:10pm-2:50pm – Theater arts games and activities\, snack\, and outdoor play\n2:50pm-3pm – parent/guardian pick-up at the Jacksonville Community Center \nTo register for this camp\, click this link: https://pci.jotform.com/form/260785222360151 \nIf you are interested in full-day camp options in Jacksonville\, JCC and Art Presence have\npartnered to create adjacent camps\, with optional supervised walking transportation between\ncamps. Check out https://art-presence.org/summer-camp to view and register for their summer\ncamps.
URL:https://jacksonvillecommunitycenter.org/event/7-13-to-16-theater-arts-camp-at-jcc/
LOCATION:Jacksonville Community Center\, 160 E Main St\, Jacksonville\, OR\, 97530\, United States
CATEGORIES:Arts/Crafts/Creative,Sponsored (SP)
ATTACH;FMTTYPE=image/png:https://jacksonvillecommunitycenter.org/wp-content/uploads/2026/03/Art-Camp.png
END:VEVENT
BEGIN:VEVENT
DTSTART;TZID=America/Los_Angeles:20260727T120000
DTEND;TZID=America/Los_Angeles:20260730T150000
DTSTAMP:20260421T154839
CREATED:20260322T000321Z
LAST-MODIFIED:20260322T000814Z
UID:10002972-1785153600-1785423600@jacksonvillecommunitycenter.org
SUMMARY:7/27-7/30 - Awesome Arts & Crafts Camp
DESCRIPTION:Awesome Arts & Crafts Camp\nJuly 27-30\, 12pm-3pm (Monday-Thursday) | Ages: 6-11 | Cost: $120 \nKids will have a blast in this 4-half-day camp\, creating awesome art\, cool crafts\, and fun summer\nmemories. We will also enjoy a snack break and supervised play at Doc Griffin Park. This camp\nwill be led by JCC Youth & Family Programs Coordinator\, Sarah Greco. \n12:00pm-12:10pm- campers arrive at the Jacksonville Community Center\n12:10pm-2:50pm – arts and crafts\, games\, lunch\, and outdoor play\n2:50pm-3pm – parent pick-up at the Jacksonville Community Center \nTo register for this camp\, click this link: https://pci.jotform.com/form/260785129599171 \nIf you are interested in full-day camp options in Jacksonville\, JCC and Art Presence have\npartnered to create adjacent camps\, with optional supervised walking transportation between\ncamps. Check out https://art-presence.org/summer-camp to view and register for their summer\ncamps.
URL:https://jacksonvillecommunitycenter.org/event/7-27-7-30-awesome-arts-and-crafts-camp/
LOCATION:Jacksonville Community Center\, 160 E Main St\, Jacksonville\, OR\, 97530\, United States
CATEGORIES:Arts/Crafts/Creative,Sponsored (SP)
ATTACH;FMTTYPE=image/png:https://jacksonvillecommunitycenter.org/wp-content/uploads/2026/03/Art-Camp-1.png
END:VEVENT
END:VCALENDAR