BEGIN:VCALENDAR
VERSION:2.0
PRODID:-//Jacksonville Community Center-Programs, Small Wedding Site and Meeting Room Rental - ECPv6.15.20//NONSGML v1.0//EN
CALSCALE:GREGORIAN
METHOD:PUBLISH
X-WR-CALNAME:Jacksonville Community Center-Programs, Small Wedding Site and Meeting Room Rental
X-ORIGINAL-URL:https://jacksonvillecommunitycenter.org
X-WR-CALDESC:Events for Jacksonville Community Center-Programs, Small Wedding Site and Meeting Room Rental
REFRESH-INTERVAL;VALUE=DURATION:PT1H
X-Robots-Tag:noindex
X-PUBLISHED-TTL:PT1H
BEGIN:VTIMEZONE
TZID:America/Los_Angeles
BEGIN:DAYLIGHT
TZOFFSETFROM:-0800
TZOFFSETTO:-0700
TZNAME:PDT
DTSTART:20250309T100000
END:DAYLIGHT
BEGIN:STANDARD
TZOFFSETFROM:-0700
TZOFFSETTO:-0800
TZNAME:PST
DTSTART:20251102T090000
END:STANDARD
BEGIN:DAYLIGHT
TZOFFSETFROM:-0800
TZOFFSETTO:-0700
TZNAME:PDT
DTSTART:20260308T100000
END:DAYLIGHT
BEGIN:STANDARD
TZOFFSETFROM:-0700
TZOFFSETTO:-0800
TZNAME:PST
DTSTART:20261101T090000
END:STANDARD
BEGIN:DAYLIGHT
TZOFFSETFROM:-0800
TZOFFSETTO:-0700
TZNAME:PDT
DTSTART:20270314T100000
END:DAYLIGHT
BEGIN:STANDARD
TZOFFSETFROM:-0700
TZOFFSETTO:-0800
TZNAME:PST
DTSTART:20271107T090000
END:STANDARD
END:VTIMEZONE
BEGIN:VEVENT
DTSTART;TZID=America/Los_Angeles:20260317T150000
DTEND;TZID=America/Los_Angeles:20260317T163000
DTSTAMP:20260421T180450
CREATED:20260225T232104Z
LAST-MODIFIED:20260225T233342Z
UID:10002923-1773759600-1773765000@jacksonvillecommunitycenter.org
SUMMARY:3/17 Be SCAM-Smart with Elder Justice Expert Mary Twomey
DESCRIPTION:Hardly a day goes by without a suspicious or dubious call\, email or text arriving on our phones or computers. How is one to know what’s legitimate and what’s a scam? \nThis workshop will review common scams and will alert you to warning signs to watch out for. Come learn tools to keep you and your friends safe from the criminals who want to take your hard-earned money. \nMary Twomey had a 30-year career in the field of elder justice including time at the National Center on Elder Abuse and the federal Administration on Aging. She is passionate about keeping people safe from scammers.
URL:https://jacksonvillecommunitycenter.org/event/3-17-be-scam-smart-with-elder-justice-expert-mary-twomey/
LOCATION:Jacksonville Community Center\, 160 E Main St\, Jacksonville\, OR\, 97530\, United States
CATEGORIES:Sponsored (SP)
ATTACH;FMTTYPE=image/png:https://jacksonvillecommunitycenter.org/wp-content/uploads/2026/02/How-To-Avoid-Scams-Poster-500-x-500-px-2.png
END:VEVENT
END:VCALENDAR