BEGIN:VCALENDAR
VERSION:2.0
PRODID:-//Jacksonville Community Center-Programs, Small Wedding Site and Meeting Room Rental - ECPv6.15.20//NONSGML v1.0//EN
CALSCALE:GREGORIAN
METHOD:PUBLISH
X-ORIGINAL-URL:https://jacksonvillecommunitycenter.org
X-WR-CALDESC:Events for Jacksonville Community Center-Programs, Small Wedding Site and Meeting Room Rental
REFRESH-INTERVAL;VALUE=DURATION:PT1H
X-Robots-Tag:noindex
X-PUBLISHED-TTL:PT1H
BEGIN:VTIMEZONE
TZID:America/Los_Angeles
BEGIN:DAYLIGHT
TZOFFSETFROM:-0800
TZOFFSETTO:-0700
TZNAME:PDT
DTSTART:20250309T100000
END:DAYLIGHT
BEGIN:STANDARD
TZOFFSETFROM:-0700
TZOFFSETTO:-0800
TZNAME:PST
DTSTART:20251102T090000
END:STANDARD
BEGIN:DAYLIGHT
TZOFFSETFROM:-0800
TZOFFSETTO:-0700
TZNAME:PDT
DTSTART:20260308T100000
END:DAYLIGHT
BEGIN:STANDARD
TZOFFSETFROM:-0700
TZOFFSETTO:-0800
TZNAME:PST
DTSTART:20261101T090000
END:STANDARD
BEGIN:DAYLIGHT
TZOFFSETFROM:-0800
TZOFFSETTO:-0700
TZNAME:PDT
DTSTART:20270314T100000
END:DAYLIGHT
BEGIN:STANDARD
TZOFFSETFROM:-0700
TZOFFSETTO:-0800
TZNAME:PST
DTSTART:20271107T090000
END:STANDARD
END:VTIMEZONE
BEGIN:VEVENT
DTSTART;TZID=America/Los_Angeles:20260331T153000
DTEND;TZID=America/Los_Angeles:20260331T170000
DTSTAMP:20260421T171801
CREATED:20260225T230208Z
LAST-MODIFIED:20260227T162427Z
UID:10002922-1774971000-1774976400@jacksonvillecommunitycenter.org
SUMMARY:3/31 The Fascinating World of Private Investigations
DESCRIPTION:Do you enjoy a good mystery? Have you ever dreamed about being a\ndetective? Jacksonville resident\, Pat Pfremmer\, will share her work as a person locator\, assisting clients in locating difficult-to-find people\, heir searches\, jury consulting\, an occasional cold case and her specialty of adoption reunions. \nInstructor Bio: Pat Pfremmer\, a former law librarian\, began her life’s work at the UC Santa Cruz Library as head of government publications. For 25 years\, she held the position of Santa Cruz County Law Librarian. After a successful career\, she decided she needed more personal freedom and a flexible schedule and from there her consulting business\, Specialized Research and Investigations\, was born!
URL:https://jacksonvillecommunitycenter.org/event/the-fascinating-world-or-private-investigations/
LOCATION:Jacksonville Community Center\, 160 E Main St\, Jacksonville\, OR\, 97530\, United States
CATEGORIES:Sponsored (SP)
ATTACH;FMTTYPE=image/png:https://jacksonvillecommunitycenter.org/wp-content/uploads/2026/02/The-Fascinating-World-of-Private-Investigation-500-x-500-px-1.png
END:VEVENT
END:VCALENDAR