BEGIN:VCALENDAR
VERSION:2.0
PRODID:-//Jacksonville Community Center-Programs, Small Wedding Site and Meeting Room Rental - ECPv6.15.20//NONSGML v1.0//EN
CALSCALE:GREGORIAN
METHOD:PUBLISH
X-ORIGINAL-URL:https://jacksonvillecommunitycenter.org
X-WR-CALDESC:Events for Jacksonville Community Center-Programs, Small Wedding Site and Meeting Room Rental
REFRESH-INTERVAL;VALUE=DURATION:PT1H
X-Robots-Tag:noindex
X-PUBLISHED-TTL:PT1H
BEGIN:VTIMEZONE
TZID:America/Los_Angeles
BEGIN:DAYLIGHT
TZOFFSETFROM:-0800
TZOFFSETTO:-0700
TZNAME:PDT
DTSTART:20250309T100000
END:DAYLIGHT
BEGIN:STANDARD
TZOFFSETFROM:-0700
TZOFFSETTO:-0800
TZNAME:PST
DTSTART:20251102T090000
END:STANDARD
BEGIN:DAYLIGHT
TZOFFSETFROM:-0800
TZOFFSETTO:-0700
TZNAME:PDT
DTSTART:20260308T100000
END:DAYLIGHT
BEGIN:STANDARD
TZOFFSETFROM:-0700
TZOFFSETTO:-0800
TZNAME:PST
DTSTART:20261101T090000
END:STANDARD
BEGIN:DAYLIGHT
TZOFFSETFROM:-0800
TZOFFSETTO:-0700
TZNAME:PDT
DTSTART:20270314T100000
END:DAYLIGHT
BEGIN:STANDARD
TZOFFSETFROM:-0700
TZOFFSETTO:-0800
TZNAME:PST
DTSTART:20271107T090000
END:STANDARD
END:VTIMEZONE
BEGIN:VEVENT
DTSTART;TZID=America/Los_Angeles:20260104T130000
DTEND;TZID=America/Los_Angeles:20260104T160000
DTSTAMP:20260422T111145
CREATED:20251205T190836Z
LAST-MODIFIED:20251229T225013Z
UID:10002819-1767531600-1767542400@jacksonvillecommunitycenter.org
SUMMARY:1/4 Setting Intentions for 2026 - Retreat Using Wisdom of Slow\, Mindful Yoga
DESCRIPTION:Join Lori Taft-Sours\, PhD\, Certified Brain Longevity® Specialist\, on SUNDAY\, January 4\, 1-4pm for this in-person retreat using the wisdom and practices of slow\, mindful Yoga to prepare mind\, body and soul for the year ahead. Slow\, mindful yoga uses breath\,  slow movement with awareness\, guided relaxation\, and meditation to bring increased calm and focus to our mind and body\, self-regulate our nervous system\, and deepen self-understanding.  \nSlow\, mindful yoga can help you: \n\ndevelop internal and external awareness of your body\ndevelop greater strength and balance so you lower your risk of falling\nlearn how to “tend and befriend” your body\, mind\, and spirit\nmanage your stress response\nimprove your sleep\n\nEMAIL for more info: Lori@consideryoga.com \nREGISTRATION: https://learn.consideryoga.com/courses/setting-your-intentions-for-2026 to register and pay. \nInstructor Bio: Lori Sours\, PhD\, has been teaching yoga since 2014 and is a certified Yoga Teacher at the 500-hour level with Yoga Alliance. Beyond Lori’s certification work\, her specialized training includes teaching yoga for healthy aging and chair yoga for brain and body health. She is passionate about introducing the benefits of slow\, mindful yoga\, including chair yoga\, to people who want to feel their best every day and age wisely.
URL:https://jacksonvillecommunitycenter.org/event/1-4-setting-intentions-for-2026-retreat-using-wisdom-of-mindful-yoga/
LOCATION:Jacksonville Community Center\, 160 E Main St\, Jacksonville\, OR\, 97530\, United States
CATEGORIES:Unsponsored (USP)
ATTACH;FMTTYPE=image/jpeg:https://jacksonvillecommunitycenter.org/wp-content/uploads/2025/12/Jan-4-retreat-with-Lori-Taft-Sours.jpg
END:VEVENT
END:VCALENDAR